Workbook
Name CoastalSaltmarsh: Table15[CoastalSaltmarsh]
Name CoastalSaltmarsh: Table15[CoastalSaltmarsh]
Name CoastalSaltmarsh: Table15[CoastalSaltmarsh]
Name CoastalSaltmarsh: Table15[CoastalSaltmarsh]
Name Cropland: Table2[Cropland]
Name Cropland: Table2[Cropland]
Name Cropland: Table2[Cropland]
Name Cropland: Table2[Cropland]
Name Grassland: Table3[Grassland]
Name Grassland: Table3[Grassland]
Name Grassland: Table3[Grassland]
Name Grassland: Table3[Grassland]
Name Heathlandandshrub: Table4[Heathlandandshrub]
Name Heathlandandshrub: Table4[Heathlandandshrub]
Name Heathlandandshrub: Table4[Heathlandandshrub]
Name Heathlandandshrub: Table4[Heathlandandshrub]
Name Hedgerow: Table11[Hedgerow]
Name Hedgerow: Table11[Hedgerow]
Name Intertidalhardstructures: Table5[Intertidalhardstructures]
Name Intertidalhardstructures: Table5[Intertidalhardstructures]
Name Intertidalhardstructures: Table5[Intertidalhardstructures]
Name Intertidalhardstructures: Table5[Intertidalhardstructures]
Name Intertidalsediment: Table6[Intertidalsediment]
Name Intertidalsediment: Table6[Intertidalsediment]
Name Intertidalsediment: Table6[Intertidalsediment]
Name Intertidalsediment: Table6[Intertidalsediment]
Name Lakes: Table7[Lakes]
Name Lakes: Table7[Lakes]
Name Lakes: Table7[Lakes]
Name Lakes: Table7[Lakes]
Name Lineoftrees: Table12[Lineoftrees]
Name Lineoftrees: Table12[Lineoftrees]
Name Lineoftrees: Table12[Lineoftrees]
Name Lineoftrees: Table12[Lineoftrees]
Name Rivers: Table13[Watercourses]
Name Rivers: Table13[Watercourses]
Name Rivers: Table13[Watercourses]
Name Rivers: Table13[Watercourses]
Name Sparselyvegetatedland: Table8[Sparselyvegetatedland]
Name Sparselyvegetatedland: Table8[Sparselyvegetatedland]
Name Sparselyvegetatedland: Table8[Sparselyvegetatedland]
Name Sparselyvegetatedland: Table8[Sparselyvegetatedland]
Name TemporalConditions: '[1]G-4 Temporal multipliers'!$F$3:$M$3
Name TemporalData: '[1]G-4 Temporal multipliers'!$F$3:$M$138
Name TemporalHabitats: '[1]G-4 Temporal multipliers'!$F$3:$F$138
Name Urban: Table9[Urban]
Name Urban: Table9[Urban]
Name Urban: Table9[Urban]
Name Urban: Table9[Urban]
Name Watercourses: '12. Lists'!$Y$2:$Y$4
Name Woodlandandforest: Table10[Woodlandandforest]
Name Woodlandandforest: Table10[Woodlandandforest]
Name Woodlandandforest: Table10[Woodlandandforest]
Name Woodlandandforest: Table10[Woodlandandforest]

Sheet 1. Introduction
A6: created by Sam Arthur @ FPCR | B6: Small Sites Metric
B9: Beta Test
B11: Release Date: | F11: July 2021
B12: Version | F12: 1.0
B13: ISBN: 978-1-78354-793-7
B14: Authors: | C14: Sam Arthur (Associate Ecologist & Biodiversity Net Gain Specialist - FPCR) James Hutchinson (Ecologist - FPCR) Tom Butterworth (Technical Director for Natural Capital and Biodiversity - WSP) Julia Baker (Biodiversity Technical Specialist - Balfour Beatty Construction Services UK) Jack Potter (Biodiversity Net Gain Senior Specialist - Natural England)
B17: Cell style conventions
D19: Option information
D21: Enter data
D23: Automated equation
D25: Result
J26: Technical Requirements - Excel Versions: 2010, 2013, 2016, 2019, Office 365, Excel for Android

Sheet 2. Site Details
B2: Sheet Name | D2: Site Details
B4: 1. Planning authority: | D4: Barnsley Metropolitan Borough Council
B5: 2. Site name: | D5: Land off Barnsley Rd, Darton
B6: 3. Applicant:
B7: 4. Planning application type: | D7: Outline planning consent
B8: 5. Planning application reference: | D8: 2021/1571
B9: 6. Metric completed by (name & job title): | D9: Robert Bell - Principal Ecologist
B10: 7. Date of metric completion: | D10: 44669
B11: 8. Revision number: | D11: 1
B12: 9. Masterplan document title / drawing number: | D12: 0280_BARN_108
B13: Net Gain Targets
B14: 10. Targeted % increase in Units | C14: 12a. Habitat | D14: 10 | E14: =IF(D14<10,"Caution - % target reduced below default",IF(D14>10,"Caution -Target increased above default",""))
C15: 12b. Hedgerow | D15: 10 | E15: =IF(D15<10,"Caution - % target reduced below default",IF(D15>10,"Caution -Target increased above default",""))
C16: 12c. River | D16: 10 | E16: =IF(D16<10,"Caution - % target reduced below default",IF(D16>10,"Caution -Target increased above default",""))
B18: 11. Targeted increase in Units if baseline value is zero - agreed with local planning authority | C18: 12a. Habitat units | D18: 0 | E18: =IF(D18=0,"","Unit increase Targets must be agreed with LPA")
C19: 12b. Hedgerow units | D19: 0 | E19: =IF(D19=0,"","Unit increase Targets must be agreed with LPA")
C20: 12c. River units | D20: 0 | E20: =IF(D20=0,"","Unit increase Targets must be agreed with LPA")
B22: For planning authority use only
B23: 12. Planning authority reviewer:
B24: 13. Date of planning authority review:

Sheet 3. Desktop Assessment
B2: Site Name: | C2: =IF('2. Site Details'!D5="","Enter site name on 2. Site Details",'2. Site Details'!D5) -> Land off Barnsley Rd, Darton
B3: Sheet Name | C3: Desktop Assessment
B5: Development
B6: 14. Select the type of proposed development. If Other provide details at Q.24 below | C6: Residential | D6: =IF(C6="","",IF(OR(C6="Other",AND(C6="Residential",C9<10,C9>0),AND(C6="Mixed",C9<10,C9>0)),"Site area must be less than 10,000 m2","Site area must be less than 5,000 m2")) -> Site area must be less than 10,000 m2
B7: 15. Site area (m2) | C7: 2518.8 | D7: =IF(AND(D6="Site area must be less than 10,000 m2",C7>=10000),"ERROR- Site too large for metric - USE MAIN METRIC",IF(AND(D6="Site area must be less than 5,000 m2",C7>=5000),"ERROR- Site too large for metric - USE MAIN METRIC",""))
B8: =IF(OR(C6="Residential",C6="Other"),"n/a",IF(C6="","","16. Building footprint (m2) of commercial buildings proposed within the development site (or zero if none)")) -> n/a | D8: =IF(AND(B8="n/a",C8<>""),"ERROR- Not required",IF(AND(C8<>"",C8>=1000),"ERROR- Footprint too large for metric - USE MAIN METRIC",IF(AND(C8<>"",C8>C7),"ERROR - Footprint larger than development area","")))
B9: =IF(OR(C6="Commercial",C6="Other"),"n/a",IF(C6="","","17. Number of residential units proposed within the development site")) -> 17. Number of residential units proposed within the development site | C9: 3 | D9: =IF(AND(B9="n/a",C9<>""),"ERROR- Not required",IF(OR(AND(C6="Residential",C9>=10),AND(C6="Mixed",C9>=10)),"ERROR- Number of units too large for metric - USE MAIN METRIC",IF(AND(C9<>"",C8>C7),"ERROR - Footprint larger than development area","")))
B10: Designated sites and priority habitats
B11: 18. Any designated sites on or within 500m of the site? | C11: No | D11: =IF(C11="On site","ERROR- Site too complex for metric - USE MAIN METRIC","")
B12: 19. Any priority habitats on or within 500m of the site? | C12: No | D12: =IF(C12="On site","ERROR- Site too complex for metric - USE MAIN METRIC","")
B13: 20. List the designated sites and/or priority habitats
B14: 21. Information sources used. See guidance for details of requirements.
B15: Site walkover
B16: 22. Site walkover completed? | C16: Walkover completed by qualified ecologist | D16: =IF(C16="Walkover completed by competent person","A competent person should be able to confidently identify the habitats onsite",IF(C16="No Walkover Undertaken","ERROR- Site walkover required",""))
B17: 23. Date of site walkover - DD/MM/YY | C17: 44664 | D17: =IF(C17="","Walk over date required","Site walkover data valid until "&TEXT(EDATE(C17,6),"dd/mm/yy")) -> Site walkover data valid until 13/10/22
B18: 24. Name and job title of who undertook the walkover | C18: Robert Bell - Principal Ecologist
B19: Additional details
B20: 25. Any additional information or notes:

Sheet 4. Supporting Infromation
B2: Site Name: | D2: =IF('2. Site Details'!D5="","Enter site name on 2. Site Details",'2. Site Details'!D5) -> Land off Barnsley Rd, Darton | E2: =IF(OR('3. Desktop Assessment'!C16="Walkover completed by competent person",'3. Desktop Assessment'!C16="No walkover undertaken"),IF(COUNTA(D8:E8,D10:E10,D14:E14,D16:E16,D18:E18,D22:E22,D26:E26,D30:E30,D34:E34,D38:E38,D42:E42,D46:E46,D12:E12,D20:E20,D24:E24,D28:E28,D32:E32,D36:E36,D40:E40,D44:E44)=0,"Error - Site photographs required to support application",""),"")
B3: Sheet Name | D3: Supporting Information
B5: Baseline Habitat Photos | D5: In order to support the assumptions made within the metric please inset the relevant photographs
B7: Ref | C7: Habitat type | D7: Photo 1 | E7: Photo 2
B8: 1 | C8: Date taken
C9: =IF('5. Area Habitats'!D11=0,"",'5. Area Habitats'!D11) -> Modified grassland
B10: 2 | C10: Date taken
C11: =IF('5. Area Habitats'!D12=0,"",'5. Area Habitats'!D12) -> Mixed scrub
B12: 3 | C12: Date taken
C13: =IF('5. Area Habitats'!D13=0,"",'5. Area Habitats'!D13) -> Developed land; sealed surface
B14: 4
C15: =IF('5. Area Habitats'!D14=0,"",'5. Area Habitats'!D14) -> Artificial unvegetated, unsealed surface
B16: 5 | C16: Date taken
C17: =IF('5. Area Habitats'!D15=0,"",'5. Area Habitats'!D15)
B18: 6 | C18: Date taken
C19: =IF('5. Area Habitats'!D16=0,"",'5. Area Habitats'!D16)
B20: 7 | C20: Date taken
C21: =IF('5. Area Habitats'!D17=0,"",'5. Area Habitats'!D17)
B22: 8 | C22: Date taken
C23: =IF('5. Area Habitats'!D18=0,"",'5. Area Habitats'!D18)
B24: 9 | C24: Date taken
C25: =IF('5. Area Habitats'!D19=0,"",'5. Area Habitats'!D19)
B26: 10 | C26: Date taken
C27: =IF('5. Area Habitats'!D20=0,"",'5. Area Habitats'!D20)
B28: 11 | C28: Date taken
C29: =IF('5. Area Habitats'!D21=0,"",'5. Area Habitats'!D21)
B30: 12 | C30: Date taken
C31: =IF('5. Area Habitats'!D22=0,"",'5. Area Habitats'!D22)
B32: 13 | C32: Date taken
C33: =IF('5. Area Habitats'!D23=0,"",'5. Area Habitats'!D23)
B34: 14 | C34: Date taken
C35: =IF('5. Area Habitats'!D24=0,"",'5. Area Habitats'!D24)
B36: 15 | C36: Date taken
C37: =IF('5. Area Habitats'!D25=0,"",'5. Area Habitats'!D25)
B38: 16 | C38: Date taken
C39: =IF('5. Area Habitats'!D26=0,"",'5. Area Habitats'!D26)
B40: 17 | C40: Date taken
C41: =IF('5. Area Habitats'!D27=0,"",'5. Area Habitats'!D27)
B42: 18 | C42: Date taken
C43: =IF('5. Area Habitats'!D28=0,"",'5. Area Habitats'!D28)
B44: 19 | C44: Date taken
C45: =IF('5. Area Habitats'!D29=0,"",'5. Area Habitats'!D29)
B46: 20 | C46: Date taken
C47: =IF('5. Area Habitats'!D30=0,"",'5. Area Habitats'!D30)

Sheet 5. Area Habitats
O1: Retained Units | P1: =SUM(AE11:AE31) -> 0.13984 | R1: Data beyond this column is automated
B2: Site Name: | C2: =IF('2. Site Details'!D5="","Enter site name on 2. Site Details",'2. Site Details'!D5) -> Land off Barnsley Rd, Darton | F2: Instructions: 1. Enter data in the Baseline Habitats table 2. Scroll down to enter data for any habitats to be created 3. Scroll down again to enter data for any habitats being enhanced 4. Finally scroll down to enter data about any urban trees | J2: =IFERROR(IF(SUM(O33:O35,O62,O90,J114:J133,J136:J140,O36)>0,"Rule Based Errors Present On Sheet - Red Cells Highlight Errors","All Key Rules Satisfied"),"Technical Errors On Sheet") -> Rule Based Errors Present On Sheet - Red Cells Highlight Errors | O2: Lost Units | P2: =N32 -> 0.3358
B3: Sheet Name | C3: 4. Area Habitats | O3: Created Units | P3: =L61 -> 0.63883812
O4: Enhancement Units | P4: =L89 -> 0
O5: Net Change | P5: =P1+L61+L89-L32 -> 0.30303812
B7: 1a. Baseline habitats
B9: Ref | C9: Habitat | F9: C. Strategic significance | I9: Areas M sq | L9: Baseline results | O9: Comments | U9: Habitat distinctiveness | W9: Habitat condition | Y9: Ecological connectivity | AB9: Strategic significance | AE9: Ecological baseline | AH9: Suggested action to address habitat losses | AI9: Enhancement rules
C10: A. Broad Habitat | D10: B. Habitat type | I10: D. Total Area | J10: E. Area retained | K10: F. Area enhanced | L10: Total habitat units onsite | M10: Area Lost | N10: Units lost | O10: User comments | P10: LPA comments | U10: Distinctiveness | V10: Score | W10: Condition | X10: Score | Y10: Ecological connectivity | Z10: Connectivity | AA10: Connectivity multiplier | AB10: Strategic significance | AC10: Strategic significance | AD10: Strategic position multiplier | AE10: Baseline units retained | AF10: Baseline units to be enhanced | AG10: Area lost
B11: 1 | C11: Grassland | D11: Modified grassland | F11: Within area formally identified in local strategy | I11: 730 | L11: =IF(C11="","",IFERROR(IF(I11="","Area Error",((I11/10000)*V11*X11)*(AA11*AD11)),"Value Missing")) -> 0.3358 | M11: =IF(I11="","",IF(J11+K11>I11,"Area Error",I11-J11-K11)) -> 730 | N11: =IFERROR(IF(I11="","",IF(M11="Area Error","Area Error",((M11/10000)*V11*X11)*(AA11*AD11))),"Value Missing") -> 0.3358 | U11: =IF(C11="","",VLOOKUP(D11,'10. All Habitats + Multipliers'!$C$4:$K$99,5,FALSE)) -> Low | V11: =IF(U11="","",VLOOKUP(U11,'12. Lists'!$B$47:$D$49,2,FALSE)) -> 2 | W11: =IF(C11="","",VLOOKUP(D11,'11. Condition and Temporal'!$B$6:$C$101,2,FALSE)) -> Moderate | X11: =IF(W11="","",VLOOKUP(W11,'12. Lists'!$F$47:$G$51,2,FALSE)) -> 2 | Y11: =IF(C11="","",VLOOKUP(D11,'10. All Habitats + Multipliers'!$C$4:$K$99,9,FALSE)) -> Low | Z11: =IF(Y11="","",VLOOKUP(Y11,'12. Lists'!$B$36:$D$39,2,FALSE)) -> Unconnected habitat | AA11: =IF(Y11="","",VLOOKUP(Y11,'12. Lists'!$B$36:$D$39,3,FALSE)) -> 1 | AB11: =IF(F11="","",F11) -> Within area formally identified in local strategy | AC11: =IF(AB11="","",VLOOKUP(AB11,'12. Lists'!$F$36:$H$38,2,FALSE)) -> High strategic significance | AD11: =IF(AB11="","",VLOOKUP(AB11,'12. Lists'!$F$36:$H$38,3,FALSE)) -> 1.15 | AE11: =IF(D11="","",((J11/10000)*V11*X11)*(AA11*AD11)) -> 0 | AF11: =IF(D11="","",((K11/10000)*V11*X11)*(AA11*AD11)) -> 0 | AG11: =IF(D11="","",M11) -> 730 | AH11: =IF(U11="","",VLOOKUP(U11,'12. Lists'!$B$47:$D$49,3,FALSE)) -> Same distinctiveness or better habitat required | AI11: =IF(D11="","",VLOOKUP(D11,'11. Condition and Temporal'!$B$6:$J$101,4,FALSE)) -> Modified grassland, Other lowland acid grassland, Other neutral grassland, Upland acid grassland
B12: 2 | C12: Heathland and shrub | D12: Mixed scrub | F12: Within area formally identified in local strategy | I12: 152 | J12: 152 | L12: =IF(C12="","",IFERROR(IF(I12="","Area Error",((I12/10000)*V12*X12)*(AA12*AD12)),"Value Missing")) -> 0.13984 | M12: =IF(I12="","",IF(J12+K12>I12,"Area Error",I12-J12-K12)) -> 0 | N12: =IFERROR(IF(I12="","",IF(M12="Area Error","Area Error",((M12/10000)*V12*X12)*(AA12*AD12))),"Value Missing") -> 0 | U12: =IF(C12="","",VLOOKUP(D12,'10. All Habitats + Multipliers'!$C$4:$K$99,5,FALSE)) -> Medium | V12: =IF(U12="","",VLOOKUP(U12,'12. Lists'!$B$47:$D$49,2,FALSE)) -> 4 | W12: =IF(C12="","",VLOOKUP(D12,'11. Condition and Temporal'!$B$6:$C$101,2,FALSE)) -> Moderate | X12: =IF(W12="","",VLOOKUP(W12,'12. Lists'!$F$47:$G$51,2,FALSE)) -> 2 | Y12: =IF(C12="","",VLOOKUP(D12,'10. All Habitats + Multipliers'!$C$4:$K$99,9,FALSE)) -> Low | Z12: =IF(Y12="","",VLOOKUP(Y12,'12. Lists'!$B$36:$D$39,2,FALSE)) -> Unconnected habitat | AA12: =IF(Y12="","",VLOOKUP(Y12,'12. Lists'!$B$36:$D$39,3,FALSE)) -> 1 | AB12: =IF(F12="","",F12) -> Within area formally identified in local strategy | AC12: =IF(AB12="","",VLOOKUP(AB12,'12. Lists'!$F$36:$H$38,2,FALSE)) -> High strategic significance | AD12: =IF(AB12="","",VLOOKUP(AB12,'12. Lists'!$F$36:$H$38,3,FALSE)) -> 1.15 | AE12: =IF(D12="","",((J12/10000)*V12*X12)*(AA12*AD12)) -> 0.13984 | AF12: =IF(D12="","",((K12/10000)*V12*X12)*(AA12*AD12)) -> 0 | AG12: =IF(D12="","",M12) -> 0 | AH12: =IF(U12="","",VLOOKUP(U12,'12. Lists'!$B$47:$D$49,3,FALSE)) -> Same broad habitat or a higher distinctiveness habitat required | AI12: =IF(D12="","",VLOOKUP(D12,'11. Condition and Temporal'!$B$6:$J$101,4,FALSE)) -> Mixed scrub
B13: 3 | C13: Urban | D13: Developed land; sealed surface | F13: Within area formally identified in local strategy | I13: 465 | L13: =IF(C13="","",IFERROR(IF(I13="","Area Error",((I13/10000)*V13*X13)*(AA13*AD13)),"Value Missing")) -> 0 | M13: =IF(I13="","",IF(J13+K13>I13,"Area Error",I13-J13-K13)) -> 465 | N13: =IFERROR(IF(I13="","",IF(M13="Area Error","Area Error",((M13/10000)*V13*X13)*(AA13*AD13))),"Value Missing") -> 0 | U13: =IF(C13="","",VLOOKUP(D13,'10. All Habitats + Multipliers'!$C$4:$K$99,5,FALSE)) -> V.Low | V13: =IF(U13="","",VLOOKUP(U13,'12. Lists'!$B$47:$D$49,2,FALSE)) -> 0 | W13: =IF(C13="","",VLOOKUP(D13,'11. Condition and Temporal'!$B$6:$C$101,2,FALSE)) -> N/A - Other | X13: =IF(W13="","",VLOOKUP(W13,'12. Lists'!$F$47:$G$51,2,FALSE)) -> 0 | Y13: =IF(C13="","",VLOOKUP(D13,'10. All Habitats + Multipliers'!$C$4:$K$99,9,FALSE)) -> Low | Z13: =IF(Y13="","",VLOOKUP(Y13,'12. Lists'!$B$36:$D$39,2,FALSE)) -> Unconnected habitat | AA13: =IF(Y13="","",VLOOKUP(Y13,'12. Lists'!$B$36:$D$39,3,FALSE)) -> 1 | AB13: =IF(F13="","",F13) -> Within area formally identified in local strategy | AC13: =IF(AB13="","",VLOOKUP(AB13,'12. Lists'!$F$36:$H$38,2,FALSE)) -> High strategic significance | AD13: =IF(AB13="","",VLOOKUP(AB13,'12. Lists'!$F$36:$H$38,3,FALSE)) -> 1.15 | AE13: =IF(D13="","",((J13/10000)*V13*X13)*(AA13*AD13)) -> 0 | AF13: =IF(D13="","",((K13/10000)*V13*X13)*(AA13*AD13)) -> 0 | AG13: =IF(D13="","",M13) -> 465 | AH13: =IF(U13="","",VLOOKUP(U13,'12. Lists'!$B$47:$D$49,3,FALSE)) -> Compensation Not Required | AI13: =IF(D13="","",VLOOKUP(D13,'11. Condition and Temporal'!$B$6:$J$101,4,FALSE)) -> Enhancement Not Possible
B14: 4 | C14: Urban | D14: Artificial unvegetated, unsealed surface | F14: Within area formally identified in local strategy | I14: 1172 | L14: =IF(C14="","",IFERROR(IF(I14="","Area Error",((I14/10000)*V14*X14)*(AA14*AD14)),"Value Missing")) -> 0 | M14: =IF(I14="","",IF(J14+K14>I14,"Area Error",I14-J14-K14)) -> 1172 | N14: =IFERROR(IF(I14="","",IF(M14="Area Error","Area Error",((M14/10000)*V14*X14)*(AA14*AD14))),"Value Missing") -> 0 | U14: =IF(C14="","",VLOOKUP(D14,'10. All Habitats + Multipliers'!$C$4:$K$99,5,FALSE)) -> V.Low | V14: =IF(U14="","",VLOOKUP(U14,'12. Lists'!$B$47:$D$49,2,FALSE)) -> 0 | W14: =IF(C14="","",VLOOKUP(D14,'11. Condition and Temporal'!$B$6:$C$101,2,FALSE)) -> N/A - Other | X14: =IF(W14="","",VLOOKUP(W14,'12. Lists'!$F$47:$G$51,2,FALSE)) -> 0 | Y14: =IF(C14="","",VLOOKUP(D14,'10. All Habitats + Multipliers'!$C$4:$K$99,9,FALSE)) -> Low | Z14: =IF(Y14="","",VLOOKUP(Y14,'12. Lists'!$B$36:$D$39,2,FALSE)) -> Unconnected habitat | AA14: =IF(Y14="","",VLOOKUP(Y14,'12. Lists'!$B$36:$D$39,3,FALSE)) -> 1 | AB14: =IF(F14="","",F14) -> Within area formally identified in local strategy | AC14: =IF(AB14="","",VLOOKUP(AB14,'12. Lists'!$F$36:$H$38,2,FALSE)) -> High strategic significance | AD14: =IF(AB14="","",VLOOKUP(AB14,'12. Lists'!$F$36:$H$38,3,FALSE)) -> 1.15 | AE14: =IF(D14="","",((J14/10000)*V14*X14)*(AA14*AD14)) -> 0 | AF14: =IF(D14="","",((K14/10000)*V14*X14)*(AA14*AD14)) -> 0 | AG14: =IF(D14="","",M14) -> 1172 | AH14: =IF(U14="","",VLOOKUP(U14,'12. Lists'!$B$47:$D$49,3,FALSE)) -> Compensation Not Required | AI14: =IF(D14="","",VLOOKUP(D14,'11. Condition and Temporal'!$B$6:$J$101,4,FALSE)) -> Enhancement Not Possible
B15: 5 | L15: =IF(C15="","",IFERROR(IF(I15="","Area Error",((I15/10000)*V15*X15)*(AA15*AD15)),"Value Missing")) | M15: =IF(I15="","",IF(J15+K15>I15,"Area Error",I15-J15-K15)) | N15: =IFERROR(IF(I15="","",IF(M15="Area Error","Area Error",((M15/10000)*V15*X15)*(AA15*AD15))),"Value Missing") | U15: =IF(C15="","",VLOOKUP(D15,'10. All Habitats + Multipliers'!$C$4:$K$99,5,FALSE)) | V15: =IF(U15="","",VLOOKUP(U15,'12. Lists'!$B$47:$D$49,2,FALSE)) | W15: =IF(C15="","",VLOOKUP(D15,'11. Condition and Temporal'!$B$6:$C$101,2,FALSE)) | X15: =IF(W15="","",VLOOKUP(W15,'12. Lists'!$F$47:$G$51,2,FALSE)) | Y15: =IF(C15="","",VLOOKUP(D15,'10. All Habitats + Multipliers'!$C$4:$K$99,9,FALSE)) | Z15: =IF(Y15="","",VLOOKUP(Y15,'12. Lists'!$B$36:$D$39,2,FALSE)) | AA15: =IF(Y15="","",VLOOKUP(Y15,'12. Lists'!$B$36:$D$39,3,FALSE)) | AB15: =IF(F15="","",F15) | AC15: =IF(AB15="","",VLOOKUP(AB15,'12. Lists'!$F$36:$H$38,2,FALSE)) | AD15: =IF(AB15="","",VLOOKUP(AB15,'12. Lists'!$F$36:$H$38,3,FALSE)) | AE15: =IF(D15="","",((J15/10000)*V15*X15)*(AA15*AD15)) | AF15: =IF(D15="","",((K15/10000)*V15*X15)*(AA15*AD15)) | AG15: =IF(D15="","",M15) | AH15: =IF(U15="","",VLOOKUP(U15,'12. Lists'!$B$47:$D$49,3,FALSE)) | AI15: =IF(D15="","",VLOOKUP(D15,'11. Condition and Temporal'!$B$6:$J$101,4,FALSE))
B16: 6 | L16: =IF(C16="","",IFERROR(IF(I16="","Area Error",((I16/10000)*V16*X16)*(AA16*AD16)),"Value Missing")) | M16: =IF(I16="","",IF(J16+K16>I16,"Area Error",I16-J16-K16)) | N16: =IFERROR(IF(I16="","",IF(M16="Area Error","Area Error",((M16/10000)*V16*X16)*(AA16*AD16))),"Value Missing") | U16: =IF(C16="","",VLOOKUP(D16,'10. All Habitats + Multipliers'!$C$4:$K$99,5,FALSE)) | V16: =IF(U16="","",VLOOKUP(U16,'12. Lists'!$B$47:$D$49,2,FALSE)) | W16: =IF(C16="","",VLOOKUP(D16,'11. Condition and Temporal'!$B$6:$C$101,2,FALSE)) | X16: =IF(W16="","",VLOOKUP(W16,'12. Lists'!$F$47:$G$51,2,FALSE)) | Y16: =IF(C16="","",VLOOKUP(D16,'10. All Habitats + Multipliers'!$C$4:$K$99,9,FALSE)) | Z16: =IF(Y16="","",VLOOKUP(Y16,'12. Lists'!$B$36:$D$39,2,FALSE)) | AA16: =IF(Y16="","",VLOOKUP(Y16,'12. Lists'!$B$36:$D$39,3,FALSE)) | AB16: =IF(F16="","",F16) | AC16: =IF(AB16="","",VLOOKUP(AB16,'12. Lists'!$F$36:$H$38,2,FALSE)) | AD16: =IF(AB16="","",VLOOKUP(AB16,'12. Lists'!$F$36:$H$38,3,FALSE)) | AE16: =IF(D16="","",((J16/10000)*V16*X16)*(AA16*AD16)) | AF16: =IF(D16="","",((K16/10000)*V16*X16)*(AA16*AD16)) | AG16: =IF(D16="","",M16) | AH16: =IF(U16="","",VLOOKUP(U16,'12. Lists'!$B$47:$D$49,3,FALSE)) | AI16: =IF(D16="","",VLOOKUP(D16,'11. Condition and Temporal'!$B$6:$J$101,4,FALSE))
B17: 7 | L17: =IF(C17="","",IFERROR(IF(I17="","Area Error",((I17/10000)*V17*X17)*(AA17*AD17)),"Value Missing")) | M17: =IF(I17="","",IF(J17+K17>I17,"Area Error",I17-J17-K17)) | N17: =IFERROR(IF(I17="","",IF(M17="Area Error","Area Error",((M17/10000)*V17*X17)*(AA17*AD17))),"Value Missing") | U17: =IF(C17="","",VLOOKUP(D17,'10. All Habitats + Multipliers'!$C$4:$K$99,5,FALSE)) | V17: =IF(U17="","",VLOOKUP(U17,'12. Lists'!$B$47:$D$49,2,FALSE)) | W17: =IF(C17="","",VLOOKUP(D17,'11. Condition and Temporal'!$B$6:$C$101,2,FALSE)) | X17: =IF(W17="","",VLOOKUP(W17,'12. Lists'!$F$47:$G$51,2,FALSE)) | Y17: =IF(C17="","",VLOOKUP(D17,'10. All Habitats + Multipliers'!$C$4:$K$99,9,FALSE)) | Z17: =IF(Y17="","",VLOOKUP(Y17,'12. Lists'!$B$36:$D$39,2,FALSE)) | AA17: =IF(Y17="","",VLOOKUP(Y17,'12. Lists'!$B$36:$D$39,3,FALSE)) | AB17: =IF(F17="","",F17) | AC17: =IF(AB17="","",VLOOKUP(AB17,'12. Lists'!$F$36:$H$38,2,FALSE)) | AD17: =IF(AB17="","",VLOOKUP(AB17,'12. Lists'!$F$36:$H$38,3,FALSE)) | AE17: =IF(D17="","",((J17/10000)*V17*X17)*(AA17*AD17)) | AF17: =IF(D17="","",((K17/10000)*V17*X17)*(AA17*AD17)) | AG17: =IF(D17="","",M17) | AH17: =IF(U17="","",VLOOKUP(U17,'12. Lists'!$B$47:$D$49,3,FALSE)) | AI17: =IF(D17="","",VLOOKUP(D17,'11. Condition and Temporal'!$B$6:$J$101,4,FALSE))
B18: 8 | L18: =IF(C18="","",IFERROR(IF(I18="","Area Error",((I18/10000)*V18*X18)*(AA18*AD18)),"Value Missing")) | M18: =IF(I18="","",IF(J18+K18>I18,"Area Error",I18-J18-K18)) | N18: =IFERROR(IF(I18="","",IF(M18="Area Error","Area Error",((M18/10000)*V18*X18)*(AA18*AD18))),"Value Missing") | U18: =IF(C18="","",VLOOKUP(D18,'10. All Habitats + Multipliers'!$C$4:$K$99,5,FALSE)) | V18: =IF(U18="","",VLOOKUP(U18,'12. Lists'!$B$47:$D$49,2,FALSE)) | W18: =IF(C18="","",VLOOKUP(D18,'11. Condition and Temporal'!$B$6:$C$101,2,FALSE)) | X18: =IF(W18="","",VLOOKUP(W18,'12. Lists'!$F$47:$G$51,2,FALSE)) | Y18: =IF(C18="","",VLOOKUP(D18,'10. All Habitats + Multipliers'!$C$4:$K$99,9,FALSE)) | Z18: =IF(Y18="","",VLOOKUP(Y18,'12. Lists'!$B$36:$D$39,2,FALSE)) | AA18: =IF(Y18="","",VLOOKUP(Y18,'12. Lists'!$B$36:$D$39,3,FALSE)) | AB18: =IF(F18="","",F18) | AC18: =IF(AB18="","",VLOOKUP(AB18,'12. Lists'!$F$36:$H$38,2,FALSE)) | AD18: =IF(AB18="","",VLOOKUP(AB18,'12. Lists'!$F$36:$H$38,3,FALSE)) | AE18: =IF(D18="","",((J18/10000)*V18*X18)*(AA18*AD18)) | AF18: =IF(D18="","",((K18/10000)*V18*X18)*(AA18*AD18)) | AG18: =IF(D18="","",M18) | AH18: =IF(U18="","",VLOOKUP(U18,'12. Lists'!$B$47:$D$49,3,FALSE)) | AI18: =IF(D18="","",VLOOKUP(D18,'11. Condition and Temporal'!$B$6:$J$101,4,FALSE))
B19: 9 | L19: =IF(C19="","",IFERROR(IF(I19="","Area Error",((I19/10000)*V19*X19)*(AA19*AD19)),"Value Missing")) | M19: =IF(I19="","",IF(J19+K19>I19,"Area Error",I19-J19-K19)) | N19: =IFERROR(IF(I19="","",IF(M19="Area Error","Area Error",((M19/10000)*V19*X19)*(AA19*AD19))),"Value Missing") | U19: =IF(C19="","",VLOOKUP(D19,'10. All Habitats + Multipliers'!$C$4:$K$99,5,FALSE)) | V19: =IF(U19="","",VLOOKUP(U19,'12. Lists'!$B$47:$D$49,2,FALSE)) | W19: =IF(C19="","",VLOOKUP(D19,'11. Condition and Temporal'!$B$6:$C$101,2,FALSE)) | X19: =IF(W19="","",VLOOKUP(W19,'12. Lists'!$F$47:$G$51,2,FALSE)) | Y19: =IF(C19="","",VLOOKUP(D19,'10. All Habitats + Multipliers'!$C$4:$K$99,9,FALSE)) | Z19: =IF(Y19="","",VLOOKUP(Y19,'12. Lists'!$B$36:$D$39,2,FALSE)) | AA19: =IF(Y19="","",VLOOKUP(Y19,'12. Lists'!$B$36:$D$39,3,FALSE)) | AB19: =IF(F19="","",F19) | AC19: =IF(AB19="","",VLOOKUP(AB19,'12. Lists'!$F$36:$H$38,2,FALSE)) | AD19: =IF(AB19="","",VLOOKUP(AB19,'12. Lists'!$F$36:$H$38,3,FALSE)) | AE19: =IF(D19="","",((J19/10000)*V19*X19)*(AA19*AD19)) | AF19: =IF(D19="","",((K19/10000)*V19*X19)*(AA19*AD19)) | AG19: =IF(D19="","",M19) | AH19: =IF(U19="","",VLOOKUP(U19,'12. Lists'!$B$47:$D$49,3,FALSE)) | AI19: =IF(D19="","",VLOOKUP(D19,'11. Condition and Temporal'!$B$6:$J$101,4,FALSE))
B20: 10 | L20: =IF(C20="","",IFERROR(IF(I20="","Area Error",((I20/10000)*V20*X20)*(AA20*AD20)),"Value Missing")) | M20: =IF(I20="","",IF(J20+K20>I20,"Area Error",I20-J20-K20)) | N20: =IFERROR(IF(I20="","",IF(M20="Area Error","Area Error",((M20/10000)*V20*X20)*(AA20*AD20))),"Value Missing") | U20: =IF(C20="","",VLOOKUP(D20,'10. All Habitats + Multipliers'!$C$4:$K$99,5,FALSE)) | V20: =IF(U20="","",VLOOKUP(U20,'12. Lists'!$B$47:$D$49,2,FALSE)) | W20: =IF(C20="","",VLOOKUP(D20,'11. Condition and Temporal'!$B$6:$C$101,2,FALSE)) | X20: =IF(W20="","",VLOOKUP(W20,'12. Lists'!$F$47:$G$51,2,FALSE)) | Y20: =IF(C20="","",VLOOKUP(D20,'10. All Habitats + Multipliers'!$C$4:$K$99,9,FALSE)) | Z20: =IF(Y20="","",VLOOKUP(Y20,'12. Lists'!$B$36:$D$39,2,FALSE)) | AA20: =IF(Y20="","",VLOOKUP(Y20,'12. Lists'!$B$36:$D$39,3,FALSE)) | AB20: =IF(F20="","",F20) | AC20: =IF(AB20="","",VLOOKUP(AB20,'12. Lists'!$F$36:$H$38,2,FALSE)) | AD20: =IF(AB20="","",VLOOKUP(AB20,'12. Lists'!$F$36:$H$38,3,FALSE)) | AE20: =IF(D20="","",((J20/10000)*V20*X20)*(AA20*AD20)) | AF20: =IF(D20="","",((K20/10000)*V20*X20)*(AA20*AD20)) | AG20: =IF(D20="","",M20) | AH20: =IF(U20="","",VLOOKUP(U20,'12. Lists'!$B$47:$D$49,3,FALSE)) | AI20: =IF(D20="","",VLOOKUP(D20,'11. Condition and Temporal'!$B$6:$J$101,4,FALSE))
B21: 11 | L21: =IF(C21="","",IFERROR(IF(I21="","Area Error",((I21/10000)*V21*X21)*(AA21*AD21)),"Value Missing")) | M21: =IF(I21="","",IF(J21+K21>I21,"Area Error",I21-J21-K21)) | N21: =IFERROR(IF(I21="","",IF(M21="Area Error","Area Error",((M21/10000)*V21*X21)*(AA21*AD21))),"Value Missing") | U21: =IF(C21="","",VLOOKUP(D21,'10. All Habitats + Multipliers'!$C$4:$K$99,5,FALSE)) | V21: =IF(U21="","",VLOOKUP(U21,'12. Lists'!$B$47:$D$49,2,FALSE)) | W21: =IF(C21="","",VLOOKUP(D21,'11. Condition and Temporal'!$B$6:$C$101,2,FALSE)) | X21: =IF(W21="","",VLOOKUP(W21,'12. Lists'!$F$47:$G$51,2,FALSE)) | Y21: =IF(C21="","",VLOOKUP(D21,'10. All Habitats + Multipliers'!$C$4:$K$99,9,FALSE)) | Z21: =IF(Y21="","",VLOOKUP(Y21,'12. Lists'!$B$36:$D$39,2,FALSE)) | AA21: =IF(Y21="","",VLOOKUP(Y21,'12. Lists'!$B$36:$D$39,3,FALSE)) | AB21: =IF(F21="","",F21) | AC21: =IF(AB21="","",VLOOKUP(AB21,'12. Lists'!$F$36:$H$38,2,FALSE)) | AD21: =IF(AB21="","",VLOOKUP(AB21,'12. Lists'!$F$36:$H$38,3,FALSE)) | AE21: =IF(D21="","",((J21/10000)*V21*X21)*(AA21*AD21)) | AF21: =IF(D21="","",((K21/10000)*V21*X21)*(AA21*AD21)) | AG21: =IF(D21="","",M21) | AH21: =IF(U21="","",VLOOKUP(U21,'12. Lists'!$B$47:$D$49,3,FALSE)) | AI21: =IF(D21="","",VLOOKUP(D21,'11. Condition and Temporal'!$B$6:$J$101,4,FALSE))
B22: 12 | L22: =IF(C22="","",IFERROR(IF(I22="","Area Error",((I22/10000)*V22*X22)*(AA22*AD22)),"Value Missing")) | M22: =IF(I22="","",IF(J22+K22>I22,"Area Error",I22-J22-K22)) | N22: =IFERROR(IF(I22="","",IF(M22="Area Error","Area Error",((M22/10000)*V22*X22)*(AA22*AD22))),"Value Missing") | U22: =IF(C22="","",VLOOKUP(D22,'10. All Habitats + Multipliers'!$C$4:$K$99,5,FALSE)) | V22: =IF(U22="","",VLOOKUP(U22,'12. Lists'!$B$47:$D$49,2,FALSE)) | W22: =IF(C22="","",VLOOKUP(D22,'11. Condition and Temporal'!$B$6:$C$101,2,FALSE)) | X22: =IF(W22="","",VLOOKUP(W22,'12. Lists'!$F$47:$G$51,2,FALSE)) | Y22: =IF(C22="","",VLOOKUP(D22,'10. All Habitats + Multipliers'!$C$4:$K$99,9,FALSE)) | Z22: =IF(Y22="","",VLOOKUP(Y22,'12. Lists'!$B$36:$D$39,2,FALSE)) | AA22: =IF(Y22="","",VLOOKUP(Y22,'12. Lists'!$B$36:$D$39,3,FALSE)) | AB22: =IF(F22="","",F22) | AC22: =IF(AB22="","",VLOOKUP(AB22,'12. Lists'!$F$36:$H$38,2,FALSE)) | AD22: =IF(AB22="","",VLOOKUP(AB22,'12. Lists'!$F$36:$H$38,3,FALSE)) | AE22: =IF(D22="","",((J22/10000)*V22*X22)*(AA22*AD22)) | AF22: =IF(D22="","",((K22/10000)*V22*X22)*(AA22*AD22)) | AG22: =IF(D22="","",M22) | AH22: =IF(U22="","",VLOOKUP(U22,'12. Lists'!$B$47:$D$49,3,FALSE)) | AI22: =IF(D22="","",VLOOKUP(D22,'11. Condition and Temporal'!$B$6:$J$101,4,FALSE))
B23: 13 | L23: =IF(C23="","",IFERROR(IF(I23="","Area Error",((I23/10000)*V23*X23)*(AA23*AD23)),"Value Missing")) | M23: =IF(I23="","",IF(J23+K23>I23,"Area Error",I23-J23-K23)) | N23: =IFERROR(IF(I23="","",IF(M23="Area Error","Area Error",((M23/10000)*V23*X23)*(AA23*AD23))),"Value Missing") | U23: =IF(C23="","",VLOOKUP(D23,'10. All Habitats + Multipliers'!$C$4:$K$99,5,FALSE)) | V23: =IF(U23="","",VLOOKUP(U23,'12. Lists'!$B$47:$D$49,2,FALSE)) | W23: =IF(C23="","",VLOOKUP(D23,'11. Condition and Temporal'!$B$6:$C$101,2,FALSE)) | X23: =IF(W23="","",VLOOKUP(W23,'12. Lists'!$F$47:$G$51,2,FALSE)) | Y23: =IF(C23="","",VLOOKUP(D23,'10. All Habitats + Multipliers'!$C$4:$K$99,9,FALSE)) | Z23: =IF(Y23="","",VLOOKUP(Y23,'12. Lists'!$B$36:$D$39,2,FALSE)) | AA23: =IF(Y23="","",VLOOKUP(Y23,'12. Lists'!$B$36:$D$39,3,FALSE)) | AB23: =IF(F23="","",F23) | AC23: =IF(AB23="","",VLOOKUP(AB23,'12. Lists'!$F$36:$H$38,2,FALSE)) | AD23: =IF(AB23="","",VLOOKUP(AB23,'12. Lists'!$F$36:$H$38,3,FALSE)) | AE23: =IF(D23="","",((J23/10000)*V23*X23)*(AA23*AD23)) | AF23: =IF(D23="","",((K23/10000)*V23*X23)*(AA23*AD23)) | AG23: =IF(D23="","",M23) | AH23: =IF(U23="","",VLOOKUP(U23,'12. Lists'!$B$47:$D$49,3,FALSE)) | AI23: =IF(D23="","",VLOOKUP(D23,'11. Condition and Temporal'!$B$6:$J$101,4,FALSE))
B24: 14 | L24: =IF(C24="","",IFERROR(IF(I24="","Area Error",((I24/10000)*V24*X24)*(AA24*AD24)),"Value Missing")) | M24: =IF(I24="","",IF(J24+K24>I24,"Area Error",I24-J24-K24)) | N24: =IFERROR(IF(I24="","",IF(M24="Area Error","Area Error",((M24/10000)*V24*X24)*(AA24*AD24))),"Value Missing") | U24: =IF(C24="","",VLOOKUP(D24,'10. All Habitats + Multipliers'!$C$4:$K$99,5,FALSE)) | V24: =IF(U24="","",VLOOKUP(U24,'12. Lists'!$B$47:$D$49,2,FALSE)) | W24: =IF(C24="","",VLOOKUP(D24,'11. Condition and Temporal'!$B$6:$C$101,2,FALSE)) | X24: =IF(W24="","",VLOOKUP(W24,'12. Lists'!$F$47:$G$51,2,FALSE)) | Y24: =IF(C24="","",VLOOKUP(D24,'10. All Habitats + Multipliers'!$C$4:$K$99,9,FALSE)) | Z24: =IF(Y24="","",VLOOKUP(Y24,'12. Lists'!$B$36:$D$39,2,FALSE)) | AA24: =IF(Y24="","",VLOOKUP(Y24,'12. Lists'!$B$36:$D$39,3,FALSE)) | AB24: =IF(F24="","",F24) | AC24: =IF(AB24="","",VLOOKUP(AB24,'12. Lists'!$F$36:$H$38,2,FALSE)) | AD24: =IF(AB24="","",VLOOKUP(AB24,'12. Lists'!$F$36:$H$38,3,FALSE)) | AE24: =IF(D24="","",((J24/10000)*V24*X24)*(AA24*AD24)) | AF24: =IF(D24="","",((K24/10000)*V24*X24)*(AA24*AD24)) | AG24: =IF(D24="","",M24) | AH24: =IF(U24="","",VLOOKUP(U24,'12. Lists'!$B$47:$D$49,3,FALSE)) | AI24: =IF(D24="","",VLOOKUP(D24,'11. Condition and Temporal'!$B$6:$J$101,4,FALSE))
B25: 15 | L25: =IF(C25="","",IFERROR(IF(I25="","Area Error",((I25/10000)*V25*X25)*(AA25*AD25)),"Value Missing")) | M25: =IF(I25="","",IF(J25+K25>I25,"Area Error",I25-J25-K25)) | N25: =IFERROR(IF(I25="","",IF(M25="Area Error","Area Error",((M25/10000)*V25*X25)*(AA25*AD25))),"Value Missing") | U25: =IF(C25="","",VLOOKUP(D25,'10. All Habitats + Multipliers'!$C$4:$K$99,5,FALSE)) | V25: =IF(U25="","",VLOOKUP(U25,'12. Lists'!$B$47:$D$49,2,FALSE)) | W25: =IF(C25="","",VLOOKUP(D25,'11. Condition and Temporal'!$B$6:$C$101,2,FALSE)) | X25: =IF(W25="","",VLOOKUP(W25,'12. Lists'!$F$47:$G$51,2,FALSE)) | Y25: =IF(C25="","",VLOOKUP(D25,'10. All Habitats + Multipliers'!$C$4:$K$99,9,FALSE)) | Z25: =IF(Y25="","",VLOOKUP(Y25,'12. Lists'!$B$36:$D$39,2,FALSE)) | AA25: =IF(Y25="","",VLOOKUP(Y25,'12. Lists'!$B$36:$D$39,3,FALSE)) | AB25: =IF(F25="","",F25) | AC25: =IF(AB25="","",VLOOKUP(AB25,'12. Lists'!$F$36:$H$38,2,FALSE)) | AD25: =IF(AB25="","",VLOOKUP(AB25,'12. Lists'!$F$36:$H$38,3,FALSE)) | AE25: =IF(D25="","",((J25/10000)*V25*X25)*(AA25*AD25)) | AF25: =IF(D25="","",((K25/10000)*V25*X25)*(AA25*AD25)) | AG25: =IF(D25="","",M25) | AH25: =IF(U25="","",VLOOKUP(U25,'12. Lists'!$B$47:$D$49,3,FALSE)) | AI25: =IF(D25="","",VLOOKUP(D25,'11. Condition and Temporal'!$B$6:$J$101,4,FALSE))
B26: 16 | L26: =IF(C26="","",IFERROR(IF(I26="","Area Error",((I26/10000)*V26*X26)*(AA26*AD26)),"Value Missing")) | M26: =IF(I26="","",IF(J26+K26>I26,"Area Error",I26-J26-K26)) | N26: =IFERROR(IF(I26="","",IF(M26="Area Error","Area Error",((M26/10000)*V26*X26)*(AA26*AD26))),"Value Missing") | U26: =IF(C26="","",VLOOKUP(D26,'10. All Habitats + Multipliers'!$C$4:$K$99,5,FALSE)) | V26: =IF(U26="","",VLOOKUP(U26,'12. Lists'!$B$47:$D$49,2,FALSE)) | W26: =IF(C26="","",VLOOKUP(D26,'11. Condition and Temporal'!$B$6:$C$101,2,FALSE)) | X26: =IF(W26="","",VLOOKUP(W26,'12. Lists'!$F$47:$G$51,2,FALSE)) | Y26: =IF(C26="","",VLOOKUP(D26,'10. All Habitats + Multipliers'!$C$4:$K$99,9,FALSE)) | Z26: =IF(Y26="","",VLOOKUP(Y26,'12. Lists'!$B$36:$D$39,2,FALSE)) | AA26: =IF(Y26="","",VLOOKUP(Y26,'12. Lists'!$B$36:$D$39,3,FALSE)) | AB26: =IF(F26="","",F26) | AC26: =IF(AB26="","",VLOOKUP(AB26,'12. Lists'!$F$36:$H$38,2,FALSE)) | AD26: =IF(AB26="","",VLOOKUP(AB26,'12. Lists'!$F$36:$H$38,3,FALSE)) | AE26: =IF(D26="","",((J26/10000)*V26*X26)*(AA26*AD26)) | AF26: =IF(D26="","",((K26/10000)*V26*X26)*(AA26*AD26)) | AG26: =IF(D26="","",M26) | AH26: =IF(U26="","",VLOOKUP(U26,'12. Lists'!$B$47:$D$49,3,FALSE)) | AI26: =IF(D26="","",VLOOKUP(D26,'11. Condition and Temporal'!$B$6:$J$101,4,FALSE))
... B30: 20 | L30: =IF(C30="","",IFERROR(IF(I30="","Area Error",((I30/10000)*V30*X30)*(AA30*AD30)),"Value Missing")) | M30: =IF(I30="","",IF(J30+K30>I30,"Area Error",I30-J30-K30)) | N30: =IFERROR(IF(I30="","",IF(M30="Area Error","Area Error",((M30/10000)*V30*X30)*(AA30*AD30))),"Value Missing") | U30: =IF(C30="","",VLOOKUP(D30,'10. All Habitats + Multipliers'!$C$4:$K$99,5,FALSE)) | V30: =IF(U30="","",VLOOKUP(U30,'12. Lists'!$B$47:$D$49,2,FALSE)) | W30: =IF(C30="","",VLOOKUP(D30,'11. Condition and Temporal'!$B$6:$C$101,2,FALSE)) | X30: =IF(W30="","",VLOOKUP(W30,'12. Lists'!$F$47:$G$51,2,FALSE)) | Y30: =IF(C30="","",VLOOKUP(D30,'10. All Habitats + Multipliers'!$C$4:$K$99,9,FALSE)) | Z30: =IF(Y30="","",VLOOKUP(Y30,'12. Lists'!$B$36:$D$39,2,FALSE)) | AA30: =IF(Y30="","",VLOOKUP(Y30,'12. Lists'!$B$36:$D$39,3,FALSE)) | AB30: =IF(F30="","",F30) | AC30: =IF(AB30="","",VLOOKUP(AB30,'12. Lists'!$F$36:$H$38,2,FALSE)) | AD30: =IF(AB30="","",VLOOKUP(AB30,'12. Lists'!$F$36:$H$38,3,FALSE)) | AE30: =IF(D30="","",((J30/10000)*V30*X30)*(AA30*AD30)) | AF30: =IF(D30="","",((K30/10000)*V30*X30)*(AA30*AD30)) | AG30: =IF(D30="","",M30) | AH30: =IF(U30="","",VLOOKUP(U30,'12. Lists'!$B$47:$D$49,3,FALSE)) | AI30: =IF(D30="","",VLOOKUP(D30,'11. Condition and Temporal'!$B$6:$J$101,4,FALSE))
B31: Trees | C31: Urban | D31: Urban Tree | F31: Area not in local strategy | I31: =I99 -> 0 | J31: =I99-L99 -> 0 | K31: =O99 -> 0 | L31: =IF(C31="","",((I31/10000)*V31*X31)*(AA31*AD31)) -> 0 | M31: =IF(C31="","",I31-J31-K31) -> 0 | N31: =IF(C31="","",((M31/10000)*V31*X31)*(AA31*AD31)) -> 0 | U31: =IF(C31="","",VLOOKUP(D31,'10. All Habitats + Multipliers'!$C$4:$K$99,5,FALSE)) -> Medium | V31: =IF(U31="","",VLOOKUP(U31,'12. Lists'!$B$47:$D$49,2,FALSE)) -> 4 | W31: =IF(C31="","",VLOOKUP(D31,'11. Condition and Temporal'!$B$6:$C$101,2,FALSE)) -> Moderate | X31: =IF(W31="","",VLOOKUP(W31,'12. Lists'!$F$47:$G$51,2,FALSE)) -> 2 | Y31: =IF(C31="","",VLOOKUP(D31,'10. All Habitats + Multipliers'!$C$4:$K$99,9,FALSE)) -> Low | Z31: =IF(Y31="","",VLOOKUP(Y31,'12. Lists'!$B$36:$D$39,2,FALSE)) -> Unconnected habitat | AA31: =IF(Y31="","",VLOOKUP(Y31,'12. Lists'!$B$36:$D$39,3,FALSE)) -> 1 | AB31: =IF(F31="","",F31) -> Area not in local strategy | AC31: =IF(AB31="","",VLOOKUP(AB31,'12. Lists'!$F$36:$H$38,2,FALSE)) -> Low Strategic Significance | AD31: =IF(AB31="","",VLOOKUP(AB31,'12. Lists'!$F$36:$H$38,3,FALSE)) -> 1 | AE31: =IF(D31="","",((J31/10000)*V31*X31)*(AA31*AD31)) -> 0 | AF31: =IF(D31="","",((K31/10000)*V31*X31)*(AA31*AD31)) -> 0 | AG31: =IF(D31="","",M31) -> 0 | AH31: =IF(U31="","",VLOOKUP(U31,'12. Lists'!$B$47:$D$49,3,FALSE)) -> Same broad habitat or a higher distinctiveness habitat required | AI31: =IF(D31="","",VLOOKUP(D31,'11. Condition and Temporal'!$B$6:$J$101,4,FALSE)) -> Urban Tree
H32: Totals (areas excl Trees) | I32: =SUM(I11:I30) -> 2519 | J32: =SUM(J11:J30) -> 152 | K32: =SUM(K11:K30) -> 0 | L32: =SUM(L11:L31) -> 0.47564 | M32: =SUM(M11:M30) -> 2367 | N32: =SUM(N11:N31) -> 0.3358
H33: Error Check 1 | I33: =IF(AND('3. Desktop Assessment'!C6="Other",I32<10000),"Areas Acceptable", IF(I32>5000,"Error - Site exceeds areas appropriate for the small sites metric","Areas Acceptable")) -> Areas Acceptable | O33: =IFERROR(FIND("Error",I33),0) -> 0
H34: Error Check 2 | I34: =IF(I32<J32+K32,"Error - Areas Retained and Enhanced Exceed Total Area","Areas Acceptable") -> Areas Acceptable | O34: =IFERROR(FIND("Error",I34),0) -> 0
H35: Error Check 3 | I35: =IF(I32=0,"Areas Acceptable",IF(I32<>'3. Desktop Assessment'!C7,"Error - Areas Entered Does Not Match Stated Site Area","Areas Acceptable")) -> Error - Areas Entered Does Not Match Stated Site Area | O35: =IFERROR(FIND("Error",I35),0) -> 1 | R35: Data beyond this column is automated
B36: 1b. Habitats to be created | O36: =COUNTIF(L11:N30,"*"&"error"&"*") -> 0
B38: Ref | E38: Condition Assessment | H38: D. Strategic significance | I38: E. Total Area M sq. | L38: Habitat units created onsite | O38: Comments | U38: Habitat distinctiveness | W38: Habitat condition | Y38: Ecological connectivity | AB38: Strategic significance | AE38: Temporal multiplier | AG38: Difficulty multipliers
C39: A. Broad Habitat | D39: B. Habitat type | E39: Acceptable condition options | F39: C. Targeted condition | O39: User comments | P39: LPA comments | U39: Distinctiveness | V39: Score | W39: Condition | X39: Score | Y39: Ecological connectivity | Z39: Connectivity | AA39: Connectivity multiplier | AB39: Strategic significance | AC39: Strategic significance | AD39: Strategic position multiplier | AE39: Time to target condition/years | AF39: Time to target multiplier | AG39: Difficulty of creation category | AH39: Difficulty of creation multiplier
B40: 1 | C40: Grassland | D40: Other neutral grassland | E40: =IF(D40="","",VLOOKUP(D40,'11. Condition and Temporal'!$B$6:$D$101,3,FALSE)) -> Moderate, Good | F40: Moderate | H40: Within area formally identified in local strategy | I40: 251 | L40: =IF(C40="","",IFERROR(IF(I40="","Area error",((I40/10000)*(V40*X40))*(AH40*AF40)*(AA40*AD40)),"Value missing")) -> 0.19324048 | O40: This will be newly created grassland to comprise a species -rich mix on a low nutrient substrate subject to low intensity management | U40: =IF(C40="","",VLOOKUP(D40,'10. All Habitats + Multipliers'!$C$4:$K$99,5,FALSE)) -> Medium | V40: =IF(U40="","",VLOOKUP(U40,'12. Lists'!$B$47:$D$49,2,FALSE)) -> 4 | W40: =IF(F40="","",F40) -> Moderate | X40: =IF(W40="","",VLOOKUP(W40,'12. Lists'!$F$47:$G$51,2,FALSE)) -> 2 | Y40: =IF(C40="","",VLOOKUP(D40,'10. All Habitats + Multipliers'!$C$4:$K$99,9,FALSE)) -> Low | Z40: =IF(Y40="","",VLOOKUP(Y40,'12. Lists'!$B$36:$D$39,2,FALSE)) -> Unconnected habitat | AA40: =IF(Y40="","",VLOOKUP(Y40,'12. Lists'!$B$36:$D$39,3,FALSE)) -> 1 | AB40: =IF(H40="","",H40) -> Within area formally identified in local strategy | AC40: =IF(AB40="","",VLOOKUP(AB40,'12. Lists'!$F$36:$H$38,2,FALSE)) -> High strategic significance | AD40: =IF(AB40="","",VLOOKUP(AB40,'12. Lists'!$F$36:$H$38,3,FALSE)) -> 1.15 | AE40: =IF(F40="","",IF(F40="Moderate",VLOOKUP(D40,'11. Condition and Temporal'!$B$6:$J$101,6,FALSE),IF('5. Area Habitats'!F40="Good",VLOOKUP(D40,'11. Condition and Temporal'!$B$6:$J$101,7,FALSE),VLOOKUP(D40,'11. Condition and Temporal'!$B$6:$J$101,8,FALSE)))) -> 5 | AF40: =IF(AE40="","",VLOOKUP(AE40,'12. Lists'!$I$47:$K$80,3,FALSE)) -> 0.8368287 | AG40: =IF(D40="","",VLOOKUP(D40,'10. All Habitats + Multipliers'!$C$4:$K$99,7,FALSE)) -> Low | AH40: =IF(AG40="","",VLOOKUP(AG40,'12. Lists'!$J$35:$K$38,2,FALSE)) -> 1
B41: 2 | C41: Urban | D41: Developed land; sealed surface | E41: =IF(D41="","",VLOOKUP(D41,'11. Condition and Temporal'!$B$6:$D$101,3,FALSE)) -> N/A - Other | F41: N/A - Other | H41: Within area formally identified in local strategy | I41: 728 | L41: =IF(C41="","",IFERROR(IF(I41="","Area error",((I41/10000)*(V41*X41))*(AH41*AF41)*(AA41*AD41)),"Value missing")) -> 0 | U41: =IF(C41="","",VLOOKUP(D41,'10. All Habitats + Multipliers'!$C$4:$K$99,5,FALSE)) -> V.Low | V41: =IF(U41="","",VLOOKUP(U41,'12. Lists'!$B$47:$D$49,2,FALSE)) -> 0 | W41: =IF(F41="","",F41) -> N/A - Other | X41: =IF(W41="","",VLOOKUP(W41,'12. Lists'!$F$47:$G$51,2,FALSE)) -> 0 | Y41: =IF(C41="","",VLOOKUP(D41,'10. All Habitats + Multipliers'!$C$4:$K$99,9,FALSE)) -> Low | Z41: =IF(Y41="","",VLOOKUP(Y41,'12. Lists'!$B$36:$D$39,2,FALSE)) -> Unconnected habitat | AA41: =IF(Y41="","",VLOOKUP(Y41,'12. Lists'!$B$36:$D$39,3,FALSE)) -> 1 | AB41: =IF(H41="","",H41) -> Within area formally identified in local strategy | AC41: =IF(AB41="","",VLOOKUP(AB41,'12. Lists'!$F$36:$H$38,2,FALSE)) -> High strategic significance | AD41: =IF(AB41="","",VLOOKUP(AB41,'12. Lists'!$F$36:$H$38,3,FALSE)) -> 1.15 | AE41: =IF(F41="","",IF(F41="Moderate",VLOOKUP(D41,'11. Condition and Temporal'!$B$6:$J$101,6,FALSE),IF('5. Area Habitats'!F41="Good",VLOOKUP(D41,'11. Condition and Temporal'!$B$6:$J$101,7,FALSE),VLOOKUP(D41,'11. Condition and Temporal'!$B$6:$J$101,8,FALSE)))) -> 0 | AF41: =IF(AE41="","",VLOOKUP(AE41,'12. Lists'!$I$47:$K$80,3,FALSE)) -> 1 | AG41: =IF(D41="","",VLOOKUP(D41,'10. All Habitats + Multipliers'!$C$4:$K$99,7,FALSE)) -> Low | AH41: =IF(AG41="","",VLOOKUP(AG41,'12. Lists'!$J$35:$K$38,2,FALSE)) -> 1
B42: 3 | C42: Urban | D42: Vegetated garden | E42: =IF(D42="","",VLOOKUP(D42,'11. Condition and Temporal'!$B$6:$D$101,3,FALSE)) -> Poor | F42: Poor | H42: Within area formally identified in local strategy | I42: 1137 | L42: =IF(C42="","",IFERROR(IF(I42="","Area error",((I42/10000)*(V42*X42))*(AH42*AF42)*(AA42*AD42)),"Value missing")) -> 0.25235715 | U42: =IF(C42="","",VLOOKUP(D42,'10. All Habitats + Multipliers'!$C$4:$K$99,5,FALSE)) -> Low | V42: =IF(U42="","",VLOOKUP(U42,'12. Lists'!$B$47:$D$49,2,FALSE)) -> 2 | W42: =IF(F42="","",F42) -> Poor | X42: =IF(W42="","",VLOOKUP(W42,'12. Lists'!$F$47:$G$51,2,FALSE)) -> 1 | Y42: =IF(C42="","",VLOOKUP(D42,'10. All Habitats + Multipliers'!$C$4:$K$99,9,FALSE)) -> Low | Z42: =IF(Y42="","",VLOOKUP(Y42,'12. Lists'!$B$36:$D$39,2,FALSE)) -> Unconnected habitat | AA42: =IF(Y42="","",VLOOKUP(Y42,'12. Lists'!$B$36:$D$39,3,FALSE)) -> 1 | AB42: =IF(H42="","",H42) -> Within area formally identified in local strategy | AC42: =IF(AB42="","",VLOOKUP(AB42,'12. Lists'!$F$36:$H$38,2,FALSE)) -> High strategic significance | AD42: =IF(AB42="","",VLOOKUP(AB42,'12. Lists'!$F$36:$H$38,3,FALSE)) -> 1.15 | AE42: =IF(F42="","",IF(F42="Moderate",VLOOKUP(D42,'11. Condition and Temporal'!$B$6:$J$101,6,FALSE),IF('5. Area Habitats'!F42="Good",VLOOKUP(D42,'11. Condition and Temporal'!$B$6:$J$101,7,FALSE),VLOOKUP(D42,'11. Condition and Temporal'!$B$6:$J$101,8,FALSE)))) -> 1 | AF42: =IF(AE42="","",VLOOKUP(AE42,'12. Lists'!$I$47:$K$80,3,FALSE)) -> 0.965 | AG42: =IF(D42="","",VLOOKUP(D42,'10. All Habitats + Multipliers'!$C$4:$K$99,7,FALSE)) -> Low | AH42: =IF(AG42="","",VLOOKUP(AG42,'12. Lists'!$J$35:$K$38,2,FALSE)) -> 1
B43: 4 | C43: Heathland and shrub | D43: Mixed scrub | E43: =IF(D43="","",VLOOKUP(D43,'11. Condition and Temporal'!$B$6:$D$101,3,FALSE)) -> Moderate, Good | F43: Moderate | H43: Within area formally identified in local strategy | I43: 251 | L43: =IF(C43="","",IFERROR(IF(I43="","Area error",((I43/10000)*(V43*X43))*(AH43*AF43)*(AA43*AD43)),"Value missing")) -> 0.19324048 | O43: This will comprise new native scrub species and will completement and further thicken the exitsting scrub habitat already present on the southwest boundary | U43: =IF(C43="","",VLOOKUP(D43,'10. All Habitats + Multipliers'!$C$4:$K$99,5,FALSE)) -> Medium | V43: =IF(U43="","",VLOOKUP(U43,'12. Lists'!$B$47:$D$49,2,FALSE)) -> 4 | W43: =IF(F43="","",F43) -> Moderate | X43: =IF(W43="","",VLOOKUP(W43,'12. Lists'!$F$47:$G$51,2,FALSE)) -> 2 | Y43: =IF(C43="","",VLOOKUP(D43,'10. All Habitats + Multipliers'!$C$4:$K$99,9,FALSE)) -> Low | Z43: =IF(Y43="","",VLOOKUP(Y43,'12. Lists'!$B$36:$D$39,2,FALSE)) -> Unconnected habitat | AA43: =IF(Y43="","",VLOOKUP(Y43,'12. Lists'!$B$36:$D$39,3,FALSE)) -> 1 | AB43: =IF(H43="","",H43) -> Within area formally identified in local strategy | AC43: =IF(AB43="","",VLOOKUP(AB43,'12. Lists'!$F$36:$H$38,2,FALSE)) -> High strategic significance | AD43: =IF(AB43="","",VLOOKUP(AB43,'12. Lists'!$F$36:$H$38,3,FALSE)) -> 1.15 | AE43: =IF(F43="","",IF(F43="Moderate",VLOOKUP(D43,'11. Condition and Temporal'!$B$6:$J$101,6,FALSE),IF('5. Area Habitats'!F43="Good",VLOOKUP(D43,'11. Condition and Temporal'!$B$6:$J$101,7,FALSE),VLOOKUP(D43,'11. Condition and Temporal'!$B$6:$J$101,8,FALSE)))) -> 5 | AF43: =IF(AE43="","",VLOOKUP(AE43,'12. Lists'!$I$47:$K$80,3,FALSE)) -> 0.8368287 | AG43: =IF(D43="","",VLOOKUP(D43,'10. All Habitats + Multipliers'!$C$4:$K$99,7,FALSE)) -> Low | AH43: =IF(AG43="","",VLOOKUP(AG43,'12. Lists'!$J$35:$K$38,2,FALSE)) -> 1
B44: 5 | E44: =IF(D44="","",VLOOKUP(D44,'11. Condition and Temporal'!$B$6:$D$101,3,FALSE)) | L44: =IF(C44="","",IFERROR(IF(I44="","Area error",((I44/10000)*(V44*X44))*(AH44*AF44)*(AA44*AD44)),"Value missing")) | U44: =IF(C44="","",VLOOKUP(D44,'10. All Habitats + Multipliers'!$C$4:$K$99,5,FALSE)) | V44: =IF(U44="","",VLOOKUP(U44,'12. Lists'!$B$47:$D$49,2,FALSE)) | W44: =IF(F44="","",F44) | X44: =IF(W44="","",VLOOKUP(W44,'12. Lists'!$F$47:$G$51,2,FALSE)) | Y44: =IF(C44="","",VLOOKUP(D44,'10. All Habitats + Multipliers'!$C$4:$K$99,9,FALSE)) | Z44: =IF(Y44="","",VLOOKUP(Y44,'12. Lists'!$B$36:$D$39,2,FALSE)) | AA44: =IF(Y44="","",VLOOKUP(Y44,'12. Lists'!$B$36:$D$39,3,FALSE)) | AB44: =IF(H44="","",H44) | AC44: =IF(AB44="","",VLOOKUP(AB44,'12. Lists'!$F$36:$H$38,2,FALSE)) | AD44: =IF(AB44="","",VLOOKUP(AB44,'12. Lists'!$F$36:$H$38,3,FALSE)) | AE44: =IF(F44="","",IF(F44="Moderate",VLOOKUP(D44,'11. Condition and Temporal'!$B$6:$J$101,6,FALSE),IF('5. Area Habitats'!F44="Good",VLOOKUP(D44,'11. Condition and Temporal'!$B$6:$J$101,7,FALSE),VLOOKUP(D44,'11. Condition and Temporal'!$B$6:$J$101,8,FALSE)))) | AF44: =IF(AE44="","",VLOOKUP(AE44,'12. Lists'!$I$47:$K$80,3,FALSE)) | AG44: =IF(D44="","",VLOOKUP(D44,'10. All Habitats + Multipliers'!$C$4:$K$99,7,FALSE)) | AH44: =IF(AG44="","",VLOOKUP(AG44,'12. Lists'!$J$35:$K$38,2,FALSE))
B45: 6 | E45: =IF(D45="","",VLOOKUP(D45,'11. Condition and Temporal'!$B$6:$D$101,3,FALSE)) | L45: =IF(C45="","",IFERROR(IF(I45="","Area error",((I45/10000)*(V45*X45))*(AH45*AF45)*(AA45*AD45)),"Value missing")) | U45: =IF(C45="","",VLOOKUP(D45,'10. All Habitats + Multipliers'!$C$4:$K$99,5,FALSE)) | V45: =IF(U45="","",VLOOKUP(U45,'12. Lists'!$B$47:$D$49,2,FALSE)) | W45: =IF(F45="","",F45) | X45: =IF(W45="","",VLOOKUP(W45,'12. Lists'!$F$47:$G$51,2,FALSE)) | Y45: =IF(C45="","",VLOOKUP(D45,'10. All Habitats + Multipliers'!$C$4:$K$99,9,FALSE)) | Z45: =IF(Y45="","",VLOOKUP(Y45,'12. Lists'!$B$36:$D$39,2,FALSE)) | AA45: =IF(Y45="","",VLOOKUP(Y45,'12. Lists'!$B$36:$D$39,3,FALSE)) | AB45: =IF(H45="","",H45) | AC45: =IF(AB45="","",VLOOKUP(AB45,'12. Lists'!$F$36:$H$38,2,FALSE)) | AD45: =IF(AB45="","",VLOOKUP(AB45,'12. Lists'!$F$36:$H$38,3,FALSE)) | AE45: =IF(F45="","",IF(F45="Moderate",VLOOKUP(D45,'11. Condition and Temporal'!$B$6:$J$101,6,FALSE),IF('5. Area Habitats'!F45="Good",VLOOKUP(D45,'11. Condition and Temporal'!$B$6:$J$101,7,FALSE),VLOOKUP(D45,'11. Condition and Temporal'!$B$6:$J$101,8,FALSE)))) | AF45: =IF(AE45="","",VLOOKUP(AE45,'12. Lists'!$I$47:$K$80,3,FALSE)) | AG45: =IF(D45="","",VLOOKUP(D45,'10. All Habitats + Multipliers'!$C$4:$K$99,7,FALSE)) | AH45: =IF(AG45="","",VLOOKUP(AG45,'12. Lists'!$J$35:$K$38,2,FALSE))
B46: 7 | E46: =IF(D46="","",VLOOKUP(D46,'11. Condition and Temporal'!$B$6:$D$101,3,FALSE)) | L46: =IF(C46="","",IFERROR(IF(I46="","Area error",((I46/10000)*(V46*X46))*(AH46*AF46)*(AA46*AD46)),"Value missing")) | U46: =IF(C46="","",VLOOKUP(D46,'10. All Habitats + Multipliers'!$C$4:$K$99,5,FALSE)) | V46: =IF(U46="","",VLOOKUP(U46,'12. Lists'!$B$47:$D$49,2,FALSE)) | W46: =IF(F46="","",F46) | X46: =IF(W46="","",VLOOKUP(W46,'12. Lists'!$F$47:$G$51,2,FALSE)) | Y46: =IF(C46="","",VLOOKUP(D46,'10. All Habitats + Multipliers'!$C$4:$K$99,9,FALSE)) | Z46: =IF(Y46="","",VLOOKUP(Y46,'12. Lists'!$B$36:$D$39,2,FALSE)) | AA46: =IF(Y46="","",VLOOKUP(Y46,'12. Lists'!$B$36:$D$39,3,FALSE)) | AB46: =IF(H46="","",H46) | AC46: =IF(AB46="","",VLOOKUP(AB46,'12. Lists'!$F$36:$H$38,2,FALSE)) | AD46: =IF(AB46="","",VLOOKUP(AB46,'12. Lists'!$F$36:$H$38,3,FALSE)) | AE46: =IF(F46="","",IF(F46="Moderate",VLOOKUP(D46,'11. Condition and Temporal'!$B$6:$J$101,6,FALSE),IF('5. Area Habitats'!F46="Good",VLOOKUP(D46,'11. Condition and Temporal'!$B$6:$J$101,7,FALSE),VLOOKUP(D46,'11. Condition and Temporal'!$B$6:$J$101,8,FALSE)))) | AF46: =IF(AE46="","",VLOOKUP(AE46,'12. Lists'!$I$47:$K$80,3,FALSE)) | AG46: =IF(D46="","",VLOOKUP(D46,'10. All Habitats + Multipliers'!$C$4:$K$99,7,FALSE)) | AH46: =IF(AG46="","",VLOOKUP(AG46,'12. Lists'!$J$35:$K$38,2,FALSE))
B47: 8 | E47: =IF(D47="","",VLOOKUP(D47,'11. Condition and Temporal'!$B$6:$D$101,3,FALSE)) | L47: =IF(C47="","",IFERROR(IF(I47="","Area error",((I47/10000)*(V47*X47))*(AH47*AF47)*(AA47*AD47)),"Value missing")) | U47: =IF(C47="","",VLOOKUP(D47,'10. All Habitats + Multipliers'!$C$4:$K$99,5,FALSE)) | V47: =IF(U47="","",VLOOKUP(U47,'12. Lists'!$B$47:$D$49,2,FALSE)) | W47: =IF(F47="","",F47) | X47: =IF(W47="","",VLOOKUP(W47,'12. Lists'!$F$47:$G$51,2,FALSE)) | Y47: =IF(C47="","",VLOOKUP(D47,'10. All Habitats + Multipliers'!$C$4:$K$99,9,FALSE)) | Z47: =IF(Y47="","",VLOOKUP(Y47,'12. Lists'!$B$36:$D$39,2,FALSE)) | AA47: =IF(Y47="","",VLOOKUP(Y47,'12. Lists'!$B$36:$D$39,3,FALSE)) | AB47: =IF(H47="","",H47) | AC47: =IF(AB47="","",VLOOKUP(AB47,'12. Lists'!$F$36:$H$38,2,FALSE)) | AD47: =IF(AB47="","",VLOOKUP(AB47,'12. Lists'!$F$36:$H$38,3,FALSE)) | AE47: =IF(F47="","",IF(F47="Moderate",VLOOKUP(D47,'11. Condition and Temporal'!$B$6:$J$101,6,FALSE),IF('5. Area Habitats'!F47="Good",VLOOKUP(D47,'11. Condition and Temporal'!$B$6:$J$101,7,FALSE),VLOOKUP(D47,'11. Condition and Temporal'!$B$6:$J$101,8,FALSE)))) | AF47: =IF(AE47="","",VLOOKUP(AE47,'12. Lists'!$I$47:$K$80,3,FALSE)) | AG47: =IF(D47="","",VLOOKUP(D47,'10. All Habitats + Multipliers'!$C$4:$K$99,7,FALSE)) | AH47: =IF(AG47="","",VLOOKUP(AG47,'12. Lists'!$J$35:$K$38,2,FALSE))
B48: 9 | E48: =IF(D48="","",VLOOKUP(D48,'11. Condition and Temporal'!$B$6:$D$101,3,FALSE)) | L48: =IF(C48="","",IFERROR(IF(I48="","Area error",((I48/10000)*(V48*X48))*(AH48*AF48)*(AA48*AD48)),"Value missing")) | U48: =IF(C48="","",VLOOKUP(D48,'10. All Habitats + Multipliers'!$C$4:$K$99,5,FALSE)) | V48: =IF(U48="","",VLOOKUP(U48,'12. Lists'!$B$47:$D$49,2,FALSE)) | W48: =IF(F48="","",F48) | X48: =IF(W48="","",VLOOKUP(W48,'12. Lists'!$F$47:$G$51,2,FALSE)) | Y48: =IF(C48="","",VLOOKUP(D48,'10. All Habitats + Multipliers'!$C$4:$K$99,9,FALSE)) | Z48: =IF(Y48="","",VLOOKUP(Y48,'12. Lists'!$B$36:$D$39,2,FALSE)) | AA48: =IF(Y48="","",VLOOKUP(Y48,'12. Lists'!$B$36:$D$39,3,FALSE)) | AB48: =IF(H48="","",H48) | AC48: =IF(AB48="","",VLOOKUP(AB48,'12. Lists'!$F$36:$H$38,2,FALSE)) | AD48: =IF(AB48="","",VLOOKUP(AB48,'12. Lists'!$F$36:$H$38,3,FALSE)) | AE48: =IF(F48="","",IF(F48="Moderate",VLOOKUP(D48,'11. Condition and Temporal'!$B$6:$J$101,6,FALSE),IF('5. Area Habitats'!F48="Good",VLOOKUP(D48,'11. Condition and Temporal'!$B$6:$J$101,7,FALSE),VLOOKUP(D48,'11. Condition and Temporal'!$B$6:$J$101,8,FALSE)))) | AF48: =IF(AE48="","",VLOOKUP(AE48,'12. Lists'!$I$47:$K$80,3,FALSE)) | AG48: =IF(D48="","",VLOOKUP(D48,'10. All Habitats + Multipliers'!$C$4:$K$99,7,FALSE)) | AH48: =IF(AG48="","",VLOOKUP(AG48,'12. Lists'!$J$35:$K$38,2,FALSE))
B49: 10 | E49: =IF(D49="","",VLOOKUP(D49,'11. Condition and Temporal'!$B$6:$D$101,3,FALSE)) | L49: =IF(C49="","",IFERROR(IF(I49="","Area error",((I49/10000)*(V49*X49))*(AH49*AF49)*(AA49*AD49)),"Value missing")) | U49: =IF(C49="","",VLOOKUP(D49,'10. All Habitats + Multipliers'!$C$4:$K$99,5,FALSE)) | V49: =IF(U49="","",VLOOKUP(U49,'12. Lists'!$B$47:$D$49,2,FALSE)) | W49: =IF(F49="","",F49) | X49: =IF(W49="","",VLOOKUP(W49,'12. Lists'!$F$47:$G$51,2,FALSE)) | Y49: =IF(C49="","",VLOOKUP(D49,'10. All Habitats + Multipliers'!$C$4:$K$99,9,FALSE)) | Z49: =IF(Y49="","",VLOOKUP(Y49,'12. Lists'!$B$36:$D$39,2,FALSE)) | AA49: =IF(Y49="","",VLOOKUP(Y49,'12. Lists'!$B$36:$D$39,3,FALSE)) | AB49: =IF(H49="","",H49) | AC49: =IF(AB49="","",VLOOKUP(AB49,'12. Lists'!$F$36:$H$38,2,FALSE)) | AD49: =IF(AB49="","",VLOOKUP(AB49,'12. Lists'!$F$36:$H$38,3,FALSE)) | AE49: =IF(F49="","",IF(F49="Moderate",VLOOKUP(D49,'11. Condition and Temporal'!$B$6:$J$101,6,FALSE),IF('5. Area Habitats'!F49="Good",VLOOKUP(D49,'11. Condition and Temporal'!$B$6:$J$101,7,FALSE),VLOOKUP(D49,'11. Condition and Temporal'!$B$6:$J$101,8,FALSE)))) | AF49: =IF(AE49="","",VLOOKUP(AE49,'12. Lists'!$I$47:$K$80,3,FALSE)) | AG49: =IF(D49="","",VLOOKUP(D49,'10. All Habitats + Multipliers'!$C$4:$K$99,7,FALSE)) | AH49: =IF(AG49="","",VLOOKUP(AG49,'12. Lists'!$J$35:$K$38,2,FALSE))
B50: 11 | E50: =IF(D50="","",VLOOKUP(D50,'11. Condition and Temporal'!$B$6:$D$101,3,FALSE)) | L50: =IF(C50="","",IFERROR(IF(I50="","Area error",((I50/10000)*(V50*X50))*(AH50*AF50)*(AA50*AD50)),"Value missing")) | U50: =IF(C50="","",VLOOKUP(D50,'10. All Habitats + Multipliers'!$C$4:$K$99,5,FALSE)) | V50: =IF(U50="","",VLOOKUP(U50,'12. Lists'!$B$47:$D$49,2,FALSE)) | W50: =IF(F50="","",F50) | X50: =IF(W50="","",VLOOKUP(W50,'12. Lists'!$F$47:$G$51,2,FALSE)) | Y50: =IF(C50="","",VLOOKUP(D50,'10. All Habitats + Multipliers'!$C$4:$K$99,9,FALSE)) | Z50: =IF(Y50="","",VLOOKUP(Y50,'12. Lists'!$B$36:$D$39,2,FALSE)) | AA50: =IF(Y50="","",VLOOKUP(Y50,'12. Lists'!$B$36:$D$39,3,FALSE)) | AB50: =IF(H50="","",H50) | AC50: =IF(AB50="","",VLOOKUP(AB50,'12. Lists'!$F$36:$H$38,2,FALSE)) | AD50: =IF(AB50="","",VLOOKUP(AB50,'12. Lists'!$F$36:$H$38,3,FALSE)) | AE50: =IF(F50="","",IF(F50="Moderate",VLOOKUP(D50,'11. Condition and Temporal'!$B$6:$J$101,6,FALSE),IF('5. Area Habitats'!F50="Good",VLOOKUP(D50,'11. Condition and Temporal'!$B$6:$J$101,7,FALSE),VLOOKUP(D50,'11. Condition and Temporal'!$B$6:$J$101,8,FALSE)))) | AF50: =IF(AE50="","",VLOOKUP(AE50,'12. Lists'!$I$47:$K$80,3,FALSE)) | AG50: =IF(D50="","",VLOOKUP(D50,'10. All Habitats + Multipliers'!$C$4:$K$99,7,FALSE)) | AH50: =IF(AG50="","",VLOOKUP(AG50,'12. Lists'!$J$35:$K$38,2,FALSE))
B51: 12 | E51: =IF(D51="","",VLOOKUP(D51,'11. Condition and Temporal'!$B$6:$D$101,3,FALSE)) | L51: =IF(C51="","",IFERROR(IF(I51="","Area error",((I51/10000)*(V51*X51))*(AH51*AF51)*(AA51*AD51)),"Value missing")) | U51: =IF(C51="","",VLOOKUP(D51,'10. All Habitats + Multipliers'!$C$4:$K$99,5,FALSE)) | V51: =IF(U51="","",VLOOKUP(U51,'12. Lists'!$B$47:$D$49,2,FALSE)) | W51: =IF(F51="","",F51) | X51: =IF(W51="","",VLOOKUP(W51,'12. Lists'!$F$47:$G$51,2,FALSE)) | Y51: =IF(C51="","",VLOOKUP(D51,'10. All Habitats + Multipliers'!$C$4:$K$99,9,FALSE)) | Z51: =IF(Y51="","",VLOOKUP(Y51,'12. Lists'!$B$36:$D$39,2,FALSE)) | AA51: =IF(Y51="","",VLOOKUP(Y51,'12. Lists'!$B$36:$D$39,3,FALSE)) | AB51: =IF(H51="","",H51) | AC51: =IF(AB51="","",VLOOKUP(AB51,'12. Lists'!$F$36:$H$38,2,FALSE)) | AD51: =IF(AB51="","",VLOOKUP(AB51,'12. Lists'!$F$36:$H$38,3,FALSE)) | AE51: =IF(F51="","",IF(F51="Moderate",VLOOKUP(D51,'11. Condition and Temporal'!$B$6:$J$101,6,FALSE),IF('5. Area Habitats'!F51="Good",VLOOKUP(D51,'11. Condition and Temporal'!$B$6:$J$101,7,FALSE),VLOOKUP(D51,'11. Condition and Temporal'!$B$6:$J$101,8,FALSE)))) | AF51: =IF(AE51="","",VLOOKUP(AE51,'12. Lists'!$I$47:$K$80,3,FALSE)) | AG51: =IF(D51="","",VLOOKUP(D51,'10. All Habitats + Multipliers'!$C$4:$K$99,7,FALSE)) | AH51: =IF(AG51="","",VLOOKUP(AG51,'12. Lists'!$J$35:$K$38,2,FALSE))
B52: 13 | E52: =IF(D52="","",VLOOKUP(D52,'11. Condition and Temporal'!$B$6:$D$101,3,FALSE)) | L52: =IF(C52="","",IFERROR(IF(I52="","Area error",((I52/10000)*(V52*X52))*(AH52*AF52)*(AA52*AD52)),"Value missing")) | U52: =IF(C52="","",VLOOKUP(D52,'10. All Habitats + Multipliers'!$C$4:$K$99,5,FALSE)) | V52: =IF(U52="","",VLOOKUP(U52,'12. Lists'!$B$47:$D$49,2,FALSE)) | W52: =IF(F52="","",F52) | X52: =IF(W52="","",VLOOKUP(W52,'12. Lists'!$F$47:$G$51,2,FALSE)) | Y52: =IF(C52="","",VLOOKUP(D52,'10. All Habitats + Multipliers'!$C$4:$K$99,9,FALSE)) | Z52: =IF(Y52="","",VLOOKUP(Y52,'12. Lists'!$B$36:$D$39,2,FALSE)) | AA52: =IF(Y52="","",VLOOKUP(Y52,'12. Lists'!$B$36:$D$39,3,FALSE)) | AB52: =IF(H52="","",H52) | AC52: =IF(AB52="","",VLOOKUP(AB52,'12. Lists'!$F$36:$H$38,2,FALSE)) | AD52: =IF(AB52="","",VLOOKUP(AB52,'12. Lists'!$F$36:$H$38,3,FALSE)) | AE52: =IF(F52="","",IF(F52="Moderate",VLOOKUP(D52,'11. Condition and Temporal'!$B$6:$J$101,6,FALSE),IF('5. Area Habitats'!F52="Good",VLOOKUP(D52,'11. Condition and Temporal'!$B$6:$J$101,7,FALSE),VLOOKUP(D52,'11. Condition and Temporal'!$B$6:$J$101,8,FALSE)))) | AF52: =IF(AE52="","",VLOOKUP(AE52,'12. Lists'!$I$47:$K$80,3,FALSE)) | AG52: =IF(D52="","",VLOOKUP(D52,'10. All Habitats + Multipliers'!$C$4:$K$99,7,FALSE)) | AH52: =IF(AG52="","",VLOOKUP(AG52,'12. Lists'!$J$35:$K$38,2,FALSE))
B53: 14 | E53: =IF(D53="","",VLOOKUP(D53,'11. Condition and Temporal'!$B$6:$D$101,3,FALSE)) | L53: =IF(C53="","",IFERROR(IF(I53="","Area error",((I53/10000)*(V53*X53))*(AH53*AF53)*(AA53*AD53)),"Value missing")) | U53: =IF(C53="","",VLOOKUP(D53,'10. All Habitats + Multipliers'!$C$4:$K$99,5,FALSE)) | V53: =IF(U53="","",VLOOKUP(U53,'12. Lists'!$B$47:$D$49,2,FALSE)) | W53: =IF(F53="","",F53) | X53: =IF(W53="","",VLOOKUP(W53,'12. Lists'!$F$47:$G$51,2,FALSE)) | Y53: =IF(C53="","",VLOOKUP(D53,'10. All Habitats + Multipliers'!$C$4:$K$99,9,FALSE)) | Z53: =IF(Y53="","",VLOOKUP(Y53,'12. Lists'!$B$36:$D$39,2,FALSE)) | AA53: =IF(Y53="","",VLOOKUP(Y53,'12. Lists'!$B$36:$D$39,3,FALSE)) | AB53: =IF(H53="","",H53) | AC53: =IF(AB53="","",VLOOKUP(AB53,'12. Lists'!$F$36:$H$38,2,FALSE)) | AD53: =IF(AB53="","",VLOOKUP(AB53,'12. Lists'!$F$36:$H$38,3,FALSE)) | AE53: =IF(F53="","",IF(F53="Moderate",VLOOKUP(D53,'11. Condition and Temporal'!$B$6:$J$101,6,FALSE),IF('5. Area Habitats'!F53="Good",VLOOKUP(D53,'11. Condition and Temporal'!$B$6:$J$101,7,FALSE),VLOOKUP(D53,'11. Condition and Temporal'!$B$6:$J$101,8,FALSE)))) | AF53: =IF(AE53="","",VLOOKUP(AE53,'12. Lists'!$I$47:$K$80,3,FALSE)) | AG53: =IF(D53="","",VLOOKUP(D53,'10. All Habitats + Multipliers'!$C$4:$K$99,7,FALSE)) | AH53: =IF(AG53="","",VLOOKUP(AG53,'12. Lists'!$J$35:$K$38,2,FALSE))
B54: 15 | E54: =IF(D54="","",VLOOKUP(D54,'11. Condition and Temporal'!$B$6:$D$101,3,FALSE)) | L54: =IF(C54="","",IFERROR(IF(I54="","Area error",((I54/10000)*(V54*X54))*(AH54*AF54)*(AA54*AD54)),"Value missing")) | U54: =IF(C54="","",VLOOKUP(D54,'10. All Habitats + Multipliers'!$C$4:$K$99,5,FALSE)) | V54: =IF(U54="","",VLOOKUP(U54,'12. Lists'!$B$47:$D$49,2,FALSE)) | W54: =IF(F54="","",F54) | X54: =IF(W54="","",VLOOKUP(W54,'12. Lists'!$F$47:$G$51,2,FALSE)) | Y54: =IF(C54="","",VLOOKUP(D54,'10. All Habitats + Multipliers'!$C$4:$K$99,9,FALSE)) | Z54: =IF(Y54="","",VLOOKUP(Y54,'12. Lists'!$B$36:$D$39,2,FALSE)) | AA54: =IF(Y54="","",VLOOKUP(Y54,'12. Lists'!$B$36:$D$39,3,FALSE)) | AB54: =IF(H54="","",H54) | AC54: =IF(AB54="","",VLOOKUP(AB54,'12. Lists'!$F$36:$H$38,2,FALSE)) | AD54: =IF(AB54="","",VLOOKUP(AB54,'12. Lists'!$F$36:$H$38,3,FALSE)) | AE54: =IF(F54="","",IF(F54="Moderate",VLOOKUP(D54,'11. Condition and Temporal'!$B$6:$J$101,6,FALSE),IF('5. Area Habitats'!F54="Good",VLOOKUP(D54,'11. Condition and Temporal'!$B$6:$J$101,7,FALSE),VLOOKUP(D54,'11. Condition and Temporal'!$B$6:$J$101,8,FALSE)))) | AF54: =IF(AE54="","",VLOOKUP(AE54,'12. Lists'!$I$47:$K$80,3,FALSE)) | AG54: =IF(D54="","",VLOOKUP(D54,'10. All Habitats + Multipliers'!$C$4:$K$99,7,FALSE)) | AH54: =IF(AG54="","",VLOOKUP(AG54,'12. Lists'!$J$35:$K$38,2,FALSE))
B55: 16 | E55: =IF(D55="","",VLOOKUP(D55,'11. Condition and Temporal'!$B$6:$D$101,3,FALSE)) | L55: =IF(C55="","",IFERROR(IF(I55="","Area error",((I55/10000)*(V55*X55))*(AH55*AF55)*(AA55*AD55)),"Value missing")) | U55: =IF(C55="","",VLOOKUP(D55,'10. All Habitats + Multipliers'!$C$4:$K$99,5,FALSE)) | V55: =IF(U55="","",VLOOKUP(U55,'12. Lists'!$B$47:$D$49,2,FALSE)) | W55: =IF(F55="","",F55) | X55: =IF(W55="","",VLOOKUP(W55,'12. Lists'!$F$47:$G$51,2,FALSE)) | Y55: =IF(C55="","",VLOOKUP(D55,'10. All Habitats + Multipliers'!$C$4:$K$99,9,FALSE)) | Z55: =IF(Y55="","",VLOOKUP(Y55,'12. Lists'!$B$36:$D$39,2,FALSE)) | AA55: =IF(Y55="","",VLOOKUP(Y55,'12. Lists'!$B$36:$D$39,3,FALSE)) | AB55: =IF(H55="","",H55) | AC55: =IF(AB55="","",VLOOKUP(AB55,'12. Lists'!$F$36:$H$38,2,FALSE)) | AD55: =IF(AB55="","",VLOOKUP(AB55,'12. Lists'!$F$36:$H$38,3,FALSE)) | AE55: =IF(F55="","",IF(F55="Moderate",VLOOKUP(D55,'11. Condition and Temporal'!$B$6:$J$101,6,FALSE),IF('5. Area Habitats'!F55="Good",VLOOKUP(D55,'11. Condition and Temporal'!$B$6:$J$101,7,FALSE),VLOOKUP(D55,'11. Condition and Temporal'!$B$6:$J$101,8,FALSE)))) | AF55: =IF(AE55="","",VLOOKUP(AE55,'12. Lists'!$I$47:$K$80,3,FALSE)) | AG55: =IF(D55="","",VLOOKUP(D55,'10. All Habitats + Multipliers'!$C$4:$K$99,7,FALSE)) | AH55: =IF(AG55="","",VLOOKUP(AG55,'12. Lists'!$J$35:$K$38,2,FALSE))
... B59: 20 | E59: =IF(D59="","",VLOOKUP(D59,'11. Condition and Temporal'!$B$6:$D$101,3,FALSE)) | L59: =IF(C59="","",IFERROR(IF(I59="","Area error",((I59/10000)*(V59*X59))*(AH59*AF59)*(AA59*AD59)),"Value missing")) | U59: =IF(C59="","",VLOOKUP(D59,'10. All Habitats + Multipliers'!$C$4:$K$99,5,FALSE)) | V59: =IF(U59="","",VLOOKUP(U59,'12. Lists'!$B$47:$D$49,2,FALSE)) | W59: =IF(F59="","",F59) | X59: =IF(W59="","",VLOOKUP(W59,'12. Lists'!$F$47:$G$51,2,FALSE)) | Y59: =IF(C59="","",VLOOKUP(D59,'10. All Habitats + Multipliers'!$C$4:$K$99,9,FALSE)) | Z59: =IF(Y59="","",VLOOKUP(Y59,'12. Lists'!$B$36:$D$39,2,FALSE)) | AA59: =IF(Y59="","",VLOOKUP(Y59,'12. Lists'!$B$36:$D$39,3,FALSE)) | AB59: =IF(H59="","",H59) | AC59: =IF(AB59="","",VLOOKUP(AB59,'12. Lists'!$F$36:$H$38,2,FALSE)) | AD59: =IF(AB59="","",VLOOKUP(AB59,'12. Lists'!$F$36:$H$38,3,FALSE)) | AE59: =IF(F59="","",IF(F59="Moderate",VLOOKUP(D59,'11. Condition and Temporal'!$B$6:$J$101,6,FALSE),IF('5. Area Habitats'!F59="Good",VLOOKUP(D59,'11. Condition and Temporal'!$B$6:$J$101,7,FALSE),VLOOKUP(D59,'11. Condition and Temporal'!$B$6:$J$101,8,FALSE)))) | AF59: =IF(AE59="","",VLOOKUP(AE59,'12. Lists'!$I$47:$K$80,3,FALSE)) | AG59: =IF(D59="","",VLOOKUP(D59,'10. All Habitats + Multipliers'!$C$4:$K$99,7,FALSE)) | AH59: =IF(AG59="","",VLOOKUP(AG59,'12. Lists'!$J$35:$K$38,2,FALSE))
B60: Trees | C60: Urban | D60: Urban Tree | E60: Moderate | F60: Moderate | H60: Area not in local strategy | I60: =P99 -> 0 | L60: =IF(D60="","",((I60/10000)*(V60*X60))*(AH60*AF60)*(AA60*AD60)) -> 0 | U60: =IF(C60="","",VLOOKUP(D60,'10. All Habitats + Multipliers'!$C$4:$K$99,5,FALSE)) -> Medium | V60: =IF(U60="","",VLOOKUP(U60,'12. Lists'!$B$47:$D$49,2,FALSE)) -> 4 | W60: =IF(F60="","",F60) -> Moderate | X60: =IF(W60="","",VLOOKUP(W60,'12. Lists'!$F$47:$G$51,2,FALSE)) -> 2 | Y60: =IF(C60="","",VLOOKUP(D60,'10. All Habitats + Multipliers'!$C$4:$K$99,9,FALSE)) -> Low | Z60: =IF(Y60="","",VLOOKUP(Y60,'12. Lists'!$B$36:$D$39,2,FALSE)) -> Unconnected habitat | AA60: =IF(Y60="","",VLOOKUP(Y60,'12. Lists'!$B$36:$D$39,3,FALSE)) -> 1 | AB60: =IF(H60="","",H60) -> Area not in local strategy | AC60: =IF(AB60="","",VLOOKUP(AB60,'12. Lists'!$F$36:$H$38,2,FALSE)) -> Low Strategic Significance | AD60: =IF(AB60="","",VLOOKUP(AB60,'12. Lists'!$F$36:$H$38,3,FALSE)) -> 1 | AE60: =IF(F60="","",IF(F60="Moderate",VLOOKUP(D60,'11. Condition and Temporal'!$B$6:$J$101,6,FALSE),IF('5. Area Habitats'!F60="Good",VLOOKUP(D60,'11. Condition and Temporal'!$B$6:$J$101,7,FALSE),VLOOKUP(D60,'11. Condition and Temporal'!$B$6:$J$101,8,FALSE)))) -> 27 | AF60: =IF(AE60="","",VLOOKUP(AE60,'12. Lists'!$I$47:$K$80,3,FALSE)) -> 0.38215316 | AG60: =IF(D60="","",VLOOKUP(D60,'10. All Habitats + Multipliers'!$C$4:$K$99,7,FALSE)) -> Low | AH60: =IF(AG60="","",VLOOKUP(AG60,'12. Lists'!$J$35:$K$38,2,FALSE)) -> 1
H61: Totals (areas excl Trees) | I61: =SUM(I40:K59) -> 2367 | L61: =SUM(L40:N60) -> 0.63883812
H62: Error Check 4 | I62: =IF(I61<>M32,"Error - Area of habitat creation must match area lost","Areas Acceptable") -> Areas Acceptable | O62: =IFERROR(FIND("Error",I62),0) -> 0
BA63: Divider
B64: 1c. Habitats to be enhanced | BA64: ,
B66: Baseline ref | C66: Exiting Habitat Type | E66: Enhanced Habitat type | H66: B. Strategic significance | I66: Area Enhanced | J66: Enhanced Condition | L66: Total Value | M66: Net Improvement | O66: Comments | U66: Baseline Values | AF66: Distinctiveness change acceptable? | AG66: Enhanced multipliers | BA66: Number of options | BB66: =COUNTIF(BB68:BB87,"?*") -> 0 | BC66: =COUNTIF(BC68:BC87,"?*") -> 0 | BD66: =COUNTIF(BD68:BD87,"?*") -> 0 | BE66: =COUNTIF(BE68:BE87,"?*") -> 0 | BF66: =COUNTIF(BF68:BF87,"?*") -> 0 | BG66: =COUNTIF(BG68:BG87,"?*") -> 0 | BH66: =COUNTIF(BH68:BH87,"?*") -> 0 | BI66: =COUNTIF(BI68:BI87,"?*") -> 0 | ... BU66: =COUNTIF(BU68:BU87,"?*") -> 0
C67: Broad habitat type | D67: Existing habitat type | E67: Enhancement Type | F67: A. Enhanced habitat type | O67: User comments | P67: LPA comments | U67: area enhanced | V67: Baseline distinctiveness band | W67: Baseline distinctiveness score | X67: Baseline condition category | Y67: Baseline condition score | Z67: Baseline ecological connectivity | AA67: Baseline connectivity | AB67: Baseline connectivity score | AC67: Baseline strategic significance category | AD67: Baseline strategic significance score | AE67: baseline value of area enhanced | AG67: area enhanced | AH67: Distinctiveness | AI67: Score | AJ67: Condition | AK67: Score | AL67: Ecological connectivity score | AM67: Connectivity | AN67: Connectivity multiplier | AO67: Strategic significance | AP67: Strategic significance | AQ67: Strategic position multiplier | AR67: Condition enhancement - Time to target condition/years | AS67: Condition enhancement - Time to target multiplier | AT67: Distinctiveness enhancement - Time to target condition/years | AU67: Distinctiveness enhancement - Time to target multiplier | AV67: Difficulty of enhancement category | AW67: Difficulty of enhancement multiplier | AX67: Acceptable habitat types | AY67: Enhancement type | BA67: option number | BB67: 1 | BC67: 2 | BD67: 3 | BE67: 4 | BF67: 5 | BG67: 6 | BH67: 7 | BI67: 8 | BJ67: 9 | BK67: 10 | BL67: 11 | BM67: 12 | BN67: 13 | BO67: 14 | BP67: 15 | BQ67: 16 | BR67: 17 | BS67: 18 | BT67: 19 | BU67: 20 | BV67: List range | BW67: Column ref | BX67: list length
B68: 1 | C68: =IF(D68="","",C11) | D68: =IF(K11="","",D11) | E68: =IF(AY68="","",AY68) | H68: =IF(D68="","",AC68) | I68: =IF(K11="","",K11) | J68: =IF(F68="","",VLOOKUP(F68,'11. Condition and Temporal'!$B$6:$F$101,5,FALSE)) | L68: =IFERROR(IF(D68="","",IF(AY68="Distinctivness",((((I68*AI68*AK68)-(I68*W68*Y68))*(AW68*AU68))+(I68*W68*Y68))*(AN68*AQ68),((((I68*AI68*AK68)-(I68*W68*Y68))*(AW68*AS68))+(I68*W68*Y68))*(AN68*AQ68))/10000),"Value missing") | M68: =IF(F68="","",L68-AE68) | U68: =IF(D68="","",K11) | V68: =IF($D68="","",U11) | W68: =IF($D68="","",V11) | X68: =IF($D68="","",W11) | Y68: =IF($D68="","",X11) | Z68: =IF($D68="","",Y11) | AA68: =IF($D68="","",Z11) | AB68: =IF($D68="","",AA11) | AC68: =IF($D68="","",AB11) | AD68: =IF($D68="","",AD11) | AE68: =IF(AD68="","",(U68*W68*Y68)*(AB68*AD68)/10000) | AF68: =IF(AE68="","",IF(AI68<W68,"Not Acceptable","Acceptable")) | AG68: =IF(D68="","",I68) | AH68: =IF(D68="","",VLOOKUP(F68,'10. All Habitats + Multipliers'!$C$4:$K$99,5,FALSE)) | AI68: =IF(AH68="","",VLOOKUP(AH68,'12. Lists'!$B$47:$D$49,2,FALSE)) | AJ68: =IF(D68="","",J68) | AK68: =IF(AJ68="","",VLOOKUP(AJ68,'12. Lists'!$F$47:$G$51,2,FALSE)) | AL68: =IF(D68="","",VLOOKUP(F68,'10. All Habitats + Multipliers'!$C$4:$K$99,9,FALSE)) | AM68: =IF(AL68="","",VLOOKUP(AL68,'12. Lists'!$B$36:$D$39,2,FALSE)) | AN68: =IF(AL68="","",VLOOKUP(AL68,'12. Lists'!$B$36:$D$39,3,FALSE)) | AO68: =IF(H68="","",H68) | AP68: =IF(AO68="","",VLOOKUP(AO68,'12. Lists'!$F$36:$H$38,2,FALSE)) | AQ68: =IF(AO68="","",VLOOKUP(AO68,'12. Lists'!$F$36:$H$38,3,FALSE)) | AR68: =IF(D68="","",VLOOKUP(F68,'11. Condition and Temporal'!$B$6:$J$101,9,FALSE)) | AS68: =IF(AR68="","",VLOOKUP(AR68,'12. Lists'!$I$47:$K$80,3,FALSE)) | AT68: =IF(D68="","",VLOOKUP(F68,'11. Condition and Temporal'!$B$6:$K$104,10,FALSE)) | AU68: =IF(AT68="","",VLOOKUP(AT68,'12. Lists'!$I$47:$K$80,3,FALSE)) | AV68: =IF(D68="","",VLOOKUP(F68,'10. All Habitats + Multipliers'!$C$4:$K$99,8,FALSE)) | AW68: =IF(AV68="","",VLOOKUP(AV68,'12. Lists'!$J$35:$K$38,2,FALSE)) | AX68: =IF(D68="","",VLOOKUP(D68,'11. Condition and Temporal'!$B$6:$K$101,4,FALSE)) | AY68: =IF(F68="","",IF(D68=F68,"Condition","Distinctivness")) | BA68: 1 | BB68: =TRIM(MID(SUBSTITUTE($AX$68,$BA$64,REPT(" ",LEN($AX$68))),($BA68-1)*LEN($AX$68)+1,LEN($AX$68))) | BC68: =TRIM(MID(SUBSTITUTE($AX$69,$BA$64,REPT(" ",LEN($AX$69))),($BA68-1)*LEN($AX$69)+1,LEN($AX$69))) | BD68: =TRIM(MID(SUBSTITUTE($AX$70,$BA$64,REPT(" ",LEN($AX$70))),($BA68-1)*LEN($AX$70)+1,LEN($AX$70))) | BE68: =TRIM(MID(SUBSTITUTE($AX$71,$BA$64,REPT(" ",LEN($AX$71))),($BA68-1)*LEN($AX$71)+1,LEN($AX$71))) | BF68: =TRIM(MID(SUBSTITUTE($AX$72,$BA$64,REPT(" ",LEN($AX$72))),($BA68-1)*LEN($AX$72)+1,LEN($AX$72))) | BG68: =TRIM(MID(SUBSTITUTE($AX$73,$BA$64,REPT(" ",LEN($AX$73))),($BA68-1)*LEN($AX$73)+1,LEN($AX$73))) | BH68: =TRIM(MID(SUBSTITUTE($AX$74,$BA$64,REPT(" ",LEN($AX$74))),($BA68-1)*LEN($AX$74)+1,LEN($AX$74))) | BI68: =TRIM(MID(SUBSTITUTE($AX$75,$BA$64,REPT(" ",LEN($AX$75))),($BA68-1)*LEN($AX$75)+1,LEN($AX$75))) | BJ68: =TRIM(MID(SUBSTITUTE($AX$76,$BA$64,REPT(" ",LEN($AX$76))),($BA68-1)*LEN($AX$76)+1,LEN($AX$76))) | BK68: =TRIM(MID(SUBSTITUTE($AX$77,$BA$64,REPT(" ",LEN($AX$77))),($BA68-1)*LEN($AX$77)+1,LEN($AX$77))) | BL68: =TRIM(MID(SUBSTITUTE($AX$78,$BA$64,REPT(" ",LEN($AX$78))),($BA68-1)*LEN($AX$78)+1,LEN($AX$78))) | BM68: =TRIM(MID(SUBSTITUTE($AX$79,$BA$64,REPT(" ",LEN($AX$79))),($BA68-1)*LEN($AX$79)+1,LEN($AX$79))) | BN68: =TRIM(MID(SUBSTITUTE($AX$80,$BA$64,REPT(" ",LEN($AX$80))),($BA68-1)*LEN($AX$80)+1,LEN($AX$80))) | BO68: =TRIM(MID(SUBSTITUTE($AX$81,$BA$64,REPT(" ",LEN($AX$81))),($BA68-1)*LEN($AX$81)+1,LEN($AX$81))) | BP68: =TRIM(MID(SUBSTITUTE($AX$82,$BA$64,REPT(" ",LEN($AX$82))),($BA68-1)*LEN($AX$82)+1,LEN($AX$82))) | BQ68: =TRIM(MID(SUBSTITUTE($AX$83,$BA$64,REPT(" ",LEN($AX$83))),($BA68-1)*LEN($AX$83)+1,LEN($AX$83))) | BR68: =TRIM(MID(SUBSTITUTE($AX$84,$BA$64,REPT(" ",LEN($AX$84))),($BA68-1)*LEN($AX$84)+1,LEN($AX$84))) | BS68: =TRIM(MID(SUBSTITUTE($AX$85,$BA$64,REPT(" ",LEN($AX$85))),($BA68-1)*LEN($AX$85)+1,LEN($AX$85))) | BT68: =TRIM(MID(SUBSTITUTE($AX$86,$BA$64,REPT(" ",LEN($AX$86))),($BA68-1)*LEN($AX$86)+1,LEN($AX$86))) | BU68: =TRIM(MID(SUBSTITUTE($AX$87,$BA$64,REPT(" ",LEN($AX$87))),($BA68-1)*LEN($AX$87)+1,LEN($AX$87))) | BV68: =IF(BX68=0,"",CONCATENATE(BW68,"68:",BW68,BX68+67)) | BW68: BB | BX68: =BB66 -> 0
B69: 2 | C69: =IF(D69="","",C12) | D69: =IF(K12="","",D12) | E69: =IF(AY69="","",AY69) | H69: =IF(D69="","",AC69) | I69: =IF(K12="","",K12) | J69: =IF(F69="","",VLOOKUP(F69,'11. Condition and Temporal'!$B$6:$F$101,5,FALSE)) | L69: =IFERROR(IF(D69="","",IF(AY69="Distinctivness",((((I69*AI69*AK69)-(I69*W69*Y69))*(AW69*AU69))+(I69*W69*Y69))*(AN69*AQ69),((((I69*AI69*AK69)-(I69*W69*Y69))*(AW69*AS69))+(I69*W69*Y69))*(AN69*AQ69))/10000),"Value missing") | M69: =IF(F69="","",L69-AE69) | U69: =IF(D69="","",K12) | V69: =IF($D69="","",U12) | W69: =IF($D69="","",V12) | X69: =IF($D69="","",W12) | Y69: =IF($D69="","",X12) | Z69: =IF($D69="","",Y12) | AA69: =IF($D69="","",Z12) | AB69: =IF($D69="","",AA12) | AC69: =IF($D69="","",AB12) | AD69: =IF($D69="","",AD12) | AE69: =IF(AD69="","",(U69*W69*Y69)*(AB69*AD69)/10000) | AF69: =IF(AE69="","",IF(AI69<W69,"Not Acceptable","Acceptable")) | AG69: =IF(D69="","",I69) | AH69: =IF(D69="","",VLOOKUP(F69,'10. All Habitats + Multipliers'!$C$4:$K$99,5,FALSE)) | AI69: =IF(AH69="","",VLOOKUP(AH69,'12. Lists'!$B$47:$D$49,2,FALSE)) | AJ69: =IF(D69="","",J69) | AK69: =IF(AJ69="","",VLOOKUP(AJ69,'12. Lists'!$F$47:$G$51,2,FALSE)) | AL69: =IF(D69="","",VLOOKUP(F69,'10. All Habitats + Multipliers'!$C$4:$K$99,9,FALSE)) | AM69: =IF(AL69="","",VLOOKUP(AL69,'12. Lists'!$B$36:$D$39,2,FALSE)) | AN69: =IF(AL69="","",VLOOKUP(AL69,'12. Lists'!$B$36:$D$39,3,FALSE)) | AO69: =IF(H69="","",H69) | AP69: =IF(AO69="","",VLOOKUP(AO69,'12. Lists'!$F$36:$H$38,2,FALSE)) | AQ69: =IF(AO69="","",VLOOKUP(AO69,'12. Lists'!$F$36:$H$38,3,FALSE)) | AR69: =IF(D69="","",VLOOKUP(F69,'11. Condition and Temporal'!$B$6:$J$101,9,FALSE)) | AS69: =IF(AR69="","",VLOOKUP(AR69,'12. Lists'!$I$47:$K$80,3,FALSE)) | AT69: =IF(D69="","",VLOOKUP(F69,'11. Condition and Temporal'!$B$6:$K$104,10,FALSE)) | AU69: =IF(AT69="","",VLOOKUP(AT69,'12. Lists'!$I$47:$K$80,3,FALSE)) | AV69: =IF(D69="","",VLOOKUP(F69,'10. All Habitats + Multipliers'!$C$4:$K$99,8,FALSE)) | AW69: =IF(AV69="","",VLOOKUP(AV69,'12. Lists'!$J$35:$K$38,2,FALSE)) | AX69: =IF(D69="","",VLOOKUP(D69,'11. Condition and Temporal'!$B$6:$K$101,4,FALSE)) | AY69: =IF(F69="","",IF(D69=F69,"Condition","Distinctivness")) | BA69: 2 | BB69: =TRIM(MID(SUBSTITUTE($AX$68,$BA$64,REPT(" ",LEN($AX$68))),($BA69-1)*LEN($AX$68)+1,LEN($AX$68))) | BC69: =TRIM(MID(SUBSTITUTE($AX$69,$BA$64,REPT(" ",LEN($AX$69))),($BA69-1)*LEN($AX$69)+1,LEN($AX$69))) | BD69: =TRIM(MID(SUBSTITUTE($AX$70,$BA$64,REPT(" ",LEN($AX$70))),($BA69-1)*LEN($AX$70)+1,LEN($AX$70))) | BE69: =TRIM(MID(SUBSTITUTE($AX$71,$BA$64,REPT(" ",LEN($AX$71))),($BA69-1)*LEN($AX$71)+1,LEN($AX$71))) | BF69: =TRIM(MID(SUBSTITUTE($AX$72,$BA$64,REPT(" ",LEN($AX$72))),($BA69-1)*LEN($AX$72)+1,LEN($AX$72))) | BG69: =TRIM(MID(SUBSTITUTE($AX$73,$BA$64,REPT(" ",LEN($AX$73))),($BA69-1)*LEN($AX$73)+1,LEN($AX$73))) | BH69: =TRIM(MID(SUBSTITUTE($AX$74,$BA$64,REPT(" ",LEN($AX$74))),($BA69-1)*LEN($AX$74)+1,LEN($AX$74))) | BI69: =TRIM(MID(SUBSTITUTE($AX$75,$BA$64,REPT(" ",LEN($AX$75))),($BA69-1)*LEN($AX$75)+1,LEN($AX$75))) | BJ69: =TRIM(MID(SUBSTITUTE($AX$76,$BA$64,REPT(" ",LEN($AX$76))),($BA69-1)*LEN($AX$76)+1,LEN($AX$76))) | BK69: =TRIM(MID(SUBSTITUTE($AX$77,$BA$64,REPT(" ",LEN($AX$77))),($BA69-1)*LEN($AX$77)+1,LEN($AX$77))) | BL69: =TRIM(MID(SUBSTITUTE($AX$78,$BA$64,REPT(" ",LEN($AX$78))),($BA69-1)*LEN($AX$78)+1,LEN($AX$78))) | BM69: =TRIM(MID(SUBSTITUTE($AX$79,$BA$64,REPT(" ",LEN($AX$79))),($BA69-1)*LEN($AX$79)+1,LEN($AX$79))) | BN69: =TRIM(MID(SUBSTITUTE($AX$80,$BA$64,REPT(" ",LEN($AX$80))),($BA69-1)*LEN($AX$80)+1,LEN($AX$80))) | BO69: =TRIM(MID(SUBSTITUTE($AX$81,$BA$64,REPT(" ",LEN($AX$81))),($BA69-1)*LEN($AX$81)+1,LEN($AX$81))) | BP69: =TRIM(MID(SUBSTITUTE($AX$82,$BA$64,REPT(" ",LEN($AX$82))),($BA69-1)*LEN($AX$82)+1,LEN($AX$82))) | BQ69: =TRIM(MID(SUBSTITUTE($AX$83,$BA$64,REPT(" ",LEN($AX$83))),($BA69-1)*LEN($AX$83)+1,LEN($AX$83))) | BR69: =TRIM(MID(SUBSTITUTE($AX$84,$BA$64,REPT(" ",LEN($AX$84))),($BA69-1)*LEN($AX$84)+1,LEN($AX$84))) | BS69: =TRIM(MID(SUBSTITUTE($AX$85,$BA$64,REPT(" ",LEN($AX$85))),($BA69-1)*LEN($AX$85)+1,LEN($AX$85))) | BT69: =TRIM(MID(SUBSTITUTE($AX$86,$BA$64,REPT(" ",LEN($AX$86))),($BA69-1)*LEN($AX$86)+1,LEN($AX$86))) | BU69: =TRIM(MID(SUBSTITUTE($AX$87,$BA$64,REPT(" ",LEN($AX$87))),($BA69-1)*LEN($AX$87)+1,LEN($AX$87))) | BV69: =IF(BX69=0,"",CONCATENATE(BW69,"68:",BW69,BX69+67)) | BW69: BC | BX69: =BC66 -> 0
B70: 3 | C70: =IF(D70="","",C13) | D70: =IF(K13="","",D13) | E70: =IF(AY70="","",AY70) | H70: =IF(D70="","",AC70) | I70: =IF(K13="","",K13) | J70: =IF(F70="","",VLOOKUP(F70,'11. Condition and Temporal'!$B$6:$F$101,5,FALSE)) | L70: =IFERROR(IF(D70="","",IF(AY70="Distinctivness",((((I70*AI70*AK70)-(I70*W70*Y70))*(AW70*AU70))+(I70*W70*Y70))*(AN70*AQ70),((((I70*AI70*AK70)-(I70*W70*Y70))*(AW70*AS70))+(I70*W70*Y70))*(AN70*AQ70))/10000),"Value missing") | M70: =IF(F70="","",L70-AE70) | U70: =IF(D70="","",K13) | V70: =IF($D70="","",U13) | W70: =IF($D70="","",V13) | X70: =IF($D70="","",W13) | Y70: =IF($D70="","",X13) | Z70: =IF($D70="","",Y13) | AA70: =IF($D70="","",Z13) | AB70: =IF($D70="","",AA13) | AC70: =IF($D70="","",AB13) | AD70: =IF($D70="","",AD13) | AE70: =IF(AD70="","",(U70*W70*Y70)*(AB70*AD70)/10000) | AF70: =IF(AE70="","",IF(AI70<W70,"Not Acceptable","Acceptable")) | AG70: =IF(D70="","",I70) | AH70: =IF(D70="","",VLOOKUP(F70,'10. All Habitats + Multipliers'!$C$4:$K$99,5,FALSE)) | AI70: =IF(AH70="","",VLOOKUP(AH70,'12. Lists'!$B$47:$D$49,2,FALSE)) | AJ70: =IF(D70="","",J70) | AK70: =IF(AJ70="","",VLOOKUP(AJ70,'12. Lists'!$F$47:$G$51,2,FALSE)) | AL70: =IF(D70="","",VLOOKUP(F70,'10. All Habitats + Multipliers'!$C$4:$K$99,9,FALSE)) | AM70: =IF(AL70="","",VLOOKUP(AL70,'12. Lists'!$B$36:$D$39,2,FALSE)) | AN70: =IF(AL70="","",VLOOKUP(AL70,'12. Lists'!$B$36:$D$39,3,FALSE)) | AO70: =IF(H70="","",H70) | AP70: =IF(AO70="","",VLOOKUP(AO70,'12. Lists'!$F$36:$H$38,2,FALSE)) | AQ70: =IF(AO70="","",VLOOKUP(AO70,'12. Lists'!$F$36:$H$38,3,FALSE)) | AR70: =IF(D70="","",VLOOKUP(F70,'11. Condition and Temporal'!$B$6:$J$101,9,FALSE)) | AS70: =IF(AR70="","",VLOOKUP(AR70,'12. Lists'!$I$47:$K$80,3,FALSE)) | AT70: =IF(D70="","",VLOOKUP(F70,'11. Condition and Temporal'!$B$6:$K$104,10,FALSE)) | AU70: =IF(AT70="","",VLOOKUP(AT70,'12. Lists'!$I$47:$K$80,3,FALSE)) | AV70: =IF(D70="","",VLOOKUP(F70,'10. All Habitats + Multipliers'!$C$4:$K$99,8,FALSE)) | AW70: =IF(AV70="","",VLOOKUP(AV70,'12. Lists'!$J$35:$K$38,2,FALSE)) | AX70: =IF(D70="","",VLOOKUP(D70,'11. Condition and Temporal'!$B$6:$K$101,4,FALSE)) | AY70: =IF(F70="","",IF(D70=F70,"Condition","Distinctivness")) | BA70: 3 | BB70: =TRIM(MID(SUBSTITUTE($AX$68,$BA$64,REPT(" ",LEN($AX$68))),($BA70-1)*LEN($AX$68)+1,LEN($AX$68))) | BC70: =TRIM(MID(SUBSTITUTE($AX$69,$BA$64,REPT(" ",LEN($AX$69))),($BA70-1)*LEN($AX$69)+1,LEN($AX$69))) | BD70: =TRIM(MID(SUBSTITUTE($AX$70,$BA$64,REPT(" ",LEN($AX$70))),($BA70-1)*LEN($AX$70)+1,LEN($AX$70))) | BE70: =TRIM(MID(SUBSTITUTE($AX$71,$BA$64,REPT(" ",LEN($AX$71))),($BA70-1)*LEN($AX$71)+1,LEN($AX$71))) | BF70: =TRIM(MID(SUBSTITUTE($AX$72,$BA$64,REPT(" ",LEN($AX$72))),($BA70-1)*LEN($AX$72)+1,LEN($AX$72))) | BG70: =TRIM(MID(SUBSTITUTE($AX$73,$BA$64,REPT(" ",LEN($AX$73))),($BA70-1)*LEN($AX$73)+1,LEN($AX$73))) | BH70: =TRIM(MID(SUBSTITUTE($AX$74,$BA$64,REPT(" ",LEN($AX$74))),($BA70-1)*LEN($AX$74)+1,LEN($AX$74))) | BI70: =TRIM(MID(SUBSTITUTE($AX$75,$BA$64,REPT(" ",LEN($AX$75))),($BA70-1)*LEN($AX$75)+1,LEN($AX$75))) | BJ70: =TRIM(MID(SUBSTITUTE($AX$76,$BA$64,REPT(" ",LEN($AX$76))),($BA70-1)*LEN($AX$76)+1,LEN($AX$76))) | BK70: =TRIM(MID(SUBSTITUTE($AX$77,$BA$64,REPT(" ",LEN($AX$77))),($BA70-1)*LEN($AX$77)+1,LEN($AX$77))) | BL70: =TRIM(MID(SUBSTITUTE($AX$78,$BA$64,REPT(" ",LEN($AX$78))),($BA70-1)*LEN($AX$78)+1,LEN($AX$78))) | BM70: =TRIM(MID(SUBSTITUTE($AX$79,$BA$64,REPT(" ",LEN($AX$79))),($BA70-1)*LEN($AX$79)+1,LEN($AX$79))) | BN70: =TRIM(MID(SUBSTITUTE($AX$80,$BA$64,REPT(" ",LEN($AX$80))),($BA70-1)*LEN($AX$80)+1,LEN($AX$80))) | BO70: =TRIM(MID(SUBSTITUTE($AX$81,$BA$64,REPT(" ",LEN($AX$81))),($BA70-1)*LEN($AX$81)+1,LEN($AX$81))) | BP70: =TRIM(MID(SUBSTITUTE($AX$82,$BA$64,REPT(" ",LEN($AX$82))),($BA70-1)*LEN($AX$82)+1,LEN($AX$82))) | BQ70: =TRIM(MID(SUBSTITUTE($AX$83,$BA$64,REPT(" ",LEN($AX$83))),($BA70-1)*LEN($AX$83)+1,LEN($AX$83))) | BR70: =TRIM(MID(SUBSTITUTE($AX$84,$BA$64,REPT(" ",LEN($AX$84))),($BA70-1)*LEN($AX$84)+1,LEN($AX$84))) | BS70: =TRIM(MID(SUBSTITUTE($AX$85,$BA$64,REPT(" ",LEN($AX$85))),($BA70-1)*LEN($AX$85)+1,LEN($AX$85))) | BT70: =TRIM(MID(SUBSTITUTE($AX$86,$BA$64,REPT(" ",LEN($AX$86))),($BA70-1)*LEN($AX$86)+1,LEN($AX$86))) | BU70: =TRIM(MID(SUBSTITUTE($AX$87,$BA$64,REPT(" ",LEN($AX$87))),($BA70-1)*LEN($AX$87)+1,LEN($AX$87))) | BV70: =IF(BX70=0,"",CONCATENATE(BW70,"68:",BW70,BX70+67)) | BW70: BD | BX70: =BD66 -> 0
B71: 4 | C71: =IF(D71="","",C14) | D71: =IF(K14="","",D14) | E71: =IF(AY71="","",AY71) | H71: =IF(D71="","",AC71) | I71: =IF(K14="","",K14) | J71: =IF(F71="","",VLOOKUP(F71,'11. Condition and Temporal'!$B$6:$F$101,5,FALSE)) | L71: =IFERROR(IF(D71="","",IF(AY71="Distinctivness",((((I71*AI71*AK71)-(I71*W71*Y71))*(AW71*AU71))+(I71*W71*Y71))*(AN71*AQ71),((((I71*AI71*AK71)-(I71*W71*Y71))*(AW71*AS71))+(I71*W71*Y71))*(AN71*AQ71))/10000),"Value missing") | M71: =IF(F71="","",L71-AE71) | U71: =IF(D71="","",K14) | V71: =IF($D71="","",U14) | W71: =IF($D71="","",V14) | X71: =IF($D71="","",W14) | Y71: =IF($D71="","",X14) | Z71: =IF($D71="","",Y14) | AA71: =IF($D71="","",Z14) | AB71: =IF($D71="","",AA14) | AC71: =IF($D71="","",AB14) | AD71: =IF($D71="","",AD14) | AE71: =IF(AD71="","",(U71*W71*Y71)*(AB71*AD71)/10000) | AF71: =IF(AE71="","",IF(AI71<W71,"Not Acceptable","Acceptable")) | AG71: =IF(D71="","",I71) | AH71: =IF(D71="","",VLOOKUP(F71,'10. All Habitats + Multipliers'!$C$4:$K$99,5,FALSE)) | AI71: =IF(AH71="","",VLOOKUP(AH71,'12. Lists'!$B$47:$D$49,2,FALSE)) | AJ71: =IF(D71="","",J71) | AK71: =IF(AJ71="","",VLOOKUP(AJ71,'12. Lists'!$F$47:$G$51,2,FALSE)) | AL71: =IF(D71="","",VLOOKUP(F71,'10. All Habitats + Multipliers'!$C$4:$K$99,9,FALSE)) | AM71: =IF(AL71="","",VLOOKUP(AL71,'12. Lists'!$B$36:$D$39,2,FALSE)) | AN71: =IF(AL71="","",VLOOKUP(AL71,'12. Lists'!$B$36:$D$39,3,FALSE)) | AO71: =IF(H71="","",H71) | AP71: =IF(AO71="","",VLOOKUP(AO71,'12. Lists'!$F$36:$H$38,2,FALSE)) | AQ71: =IF(AO71="","",VLOOKUP(AO71,'12. Lists'!$F$36:$H$38,3,FALSE)) | AR71: =IF(D71="","",VLOOKUP(F71,'11. Condition and Temporal'!$B$6:$J$101,9,FALSE)) | AS71: =IF(AR71="","",VLOOKUP(AR71,'12. Lists'!$I$47:$K$80,3,FALSE)) | AT71: =IF(D71="","",VLOOKUP(F71,'11. Condition and Temporal'!$B$6:$K$104,10,FALSE)) | AU71: =IF(AT71="","",VLOOKUP(AT71,'12. Lists'!$I$47:$K$80,3,FALSE)) | AV71: =IF(D71="","",VLOOKUP(F71,'10. All Habitats + Multipliers'!$C$4:$K$99,8,FALSE)) | AW71: =IF(AV71="","",VLOOKUP(AV71,'12. Lists'!$J$35:$K$38,2,FALSE)) | AX71: =IF(D71="","",VLOOKUP(D71,'11. Condition and Temporal'!$B$6:$K$101,4,FALSE)) | AY71: =IF(F71="","",IF(D71=F71,"Condition","Distinctivness")) | BA71: 4 | BB71: =TRIM(MID(SUBSTITUTE($AX$68,$BA$64,REPT(" ",LEN($AX$68))),($BA71-1)*LEN($AX$68)+1,LEN($AX$68))) | BC71: =TRIM(MID(SUBSTITUTE($AX$69,$BA$64,REPT(" ",LEN($AX$69))),($BA71-1)*LEN($AX$69)+1,LEN($AX$69))) | BD71: =TRIM(MID(SUBSTITUTE($AX$70,$BA$64,REPT(" ",LEN($AX$70))),($BA71-1)*LEN($AX$70)+1,LEN($AX$70))) | BE71: =TRIM(MID(SUBSTITUTE($AX$71,$BA$64,REPT(" ",LEN($AX$71))),($BA71-1)*LEN($AX$71)+1,LEN($AX$71))) | BF71: =TRIM(MID(SUBSTITUTE($AX$72,$BA$64,REPT(" ",LEN($AX$72))),($BA71-1)*LEN($AX$72)+1,LEN($AX$72))) | BG71: =TRIM(MID(SUBSTITUTE($AX$73,$BA$64,REPT(" ",LEN($AX$73))),($BA71-1)*LEN($AX$73)+1,LEN($AX$73))) | BH71: =TRIM(MID(SUBSTITUTE($AX$74,$BA$64,REPT(" ",LEN($AX$74))),($BA71-1)*LEN($AX$74)+1,LEN($AX$74))) | BI71: =TRIM(MID(SUBSTITUTE($AX$75,$BA$64,REPT(" ",LEN($AX$75))),($BA71-1)*LEN($AX$75)+1,LEN($AX$75))) | BJ71: =TRIM(MID(SUBSTITUTE($AX$76,$BA$64,REPT(" ",LEN($AX$76))),($BA71-1)*LEN($AX$76)+1,LEN($AX$76))) | BK71: =TRIM(MID(SUBSTITUTE($AX$77,$BA$64,REPT(" ",LEN($AX$77))),($BA71-1)*LEN($AX$77)+1,LEN($AX$77))) | BL71: =TRIM(MID(SUBSTITUTE($AX$78,$BA$64,REPT(" ",LEN($AX$78))),($BA71-1)*LEN($AX$78)+1,LEN($AX$78))) | BM71: =TRIM(MID(SUBSTITUTE($AX$79,$BA$64,REPT(" ",LEN($AX$79))),($BA71-1)*LEN($AX$79)+1,LEN($AX$79))) | BN71: =TRIM(MID(SUBSTITUTE($AX$80,$BA$64,REPT(" ",LEN($AX$80))),($BA71-1)*LEN($AX$80)+1,LEN($AX$80))) | BO71: =TRIM(MID(SUBSTITUTE($AX$81,$BA$64,REPT(" ",LEN($AX$81))),($BA71-1)*LEN($AX$81)+1,LEN($AX$81))) | BP71: =TRIM(MID(SUBSTITUTE($AX$82,$BA$64,REPT(" ",LEN($AX$82))),($BA71-1)*LEN($AX$82)+1,LEN($AX$82))) | BQ71: =TRIM(MID(SUBSTITUTE($AX$83,$BA$64,REPT(" ",LEN($AX$83))),($BA71-1)*LEN($AX$83)+1,LEN($AX$83))) | BR71: =TRIM(MID(SUBSTITUTE($AX$84,$BA$64,REPT(" ",LEN($AX$84))),($BA71-1)*LEN($AX$84)+1,LEN($AX$84))) | BS71: =TRIM(MID(SUBSTITUTE($AX$85,$BA$64,REPT(" ",LEN($AX$85))),($BA71-1)*LEN($AX$85)+1,LEN($AX$85))) | BT71: =TRIM(MID(SUBSTITUTE($AX$86,$BA$64,REPT(" ",LEN($AX$86))),($BA71-1)*LEN($AX$86)+1,LEN($AX$86))) | BU71: =TRIM(MID(SUBSTITUTE($AX$87,$BA$64,REPT(" ",LEN($AX$87))),($BA71-1)*LEN($AX$87)+1,LEN($AX$87))) | BV71: =IF(BX71=0,"",CONCATENATE(BW71,"68:",BW71,BX71+67)) | BW71: BE | BX71: =BE66 -> 0
B72: 5 | C72: =IF(D72="","",C15) | D72: =IF(K15="","",D15) | E72: =IF(AY72="","",AY72) | H72: =IF(D72="","",AC72) | I72: =IF(K15="","",K15) | J72: =IF(F72="","",VLOOKUP(F72,'11. Condition and Temporal'!$B$6:$F$101,5,FALSE)) | L72: =IFERROR(IF(D72="","",IF(AY72="Distinctivness",((((I72*AI72*AK72)-(I72*W72*Y72))*(AW72*AU72))+(I72*W72*Y72))*(AN72*AQ72),((((I72*AI72*AK72)-(I72*W72*Y72))*(AW72*AS72))+(I72*W72*Y72))*(AN72*AQ72))/10000),"Value missing") | M72: =IF(F72="","",L72-AE72) | U72: =IF(D72="","",K15) | V72: =IF($D72="","",U15) | W72: =IF($D72="","",V15) | X72: =IF($D72="","",W15) | Y72: =IF($D72="","",X15) | Z72: =IF($D72="","",Y15) | AA72: =IF($D72="","",Z15) | AB72: =IF($D72="","",AA15) | AC72: =IF($D72="","",AB15) | AD72: =IF($D72="","",AD15) | AE72: =IF(AD72="","",(U72*W72*Y72)*(AB72*AD72)/10000) | AF72: =IF(AE72="","",IF(AI72<W72,"Not Acceptable","Acceptable")) | AG72: =IF(D72="","",I72) | AH72: =IF(D72="","",VLOOKUP(F72,'10. All Habitats + Multipliers'!$C$4:$K$99,5,FALSE)) | AI72: =IF(AH72="","",VLOOKUP(AH72,'12. Lists'!$B$47:$D$49,2,FALSE)) | AJ72: =IF(D72="","",J72) | AK72: =IF(AJ72="","",VLOOKUP(AJ72,'12. Lists'!$F$47:$G$51,2,FALSE)) | AL72: =IF(D72="","",VLOOKUP(F72,'10. All Habitats + Multipliers'!$C$4:$K$99,9,FALSE)) | AM72: =IF(AL72="","",VLOOKUP(AL72,'12. Lists'!$B$36:$D$39,2,FALSE)) | AN72: =IF(AL72="","",VLOOKUP(AL72,'12. Lists'!$B$36:$D$39,3,FALSE)) | AO72: =IF(H72="","",H72) | AP72: =IF(AO72="","",VLOOKUP(AO72,'12. Lists'!$F$36:$H$38,2,FALSE)) | AQ72: =IF(AO72="","",VLOOKUP(AO72,'12. Lists'!$F$36:$H$38,3,FALSE)) | AR72: =IF(D72="","",VLOOKUP(F72,'11. Condition and Temporal'!$B$6:$J$101,9,FALSE)) | AS72: =IF(AR72="","",VLOOKUP(AR72,'12. Lists'!$I$47:$K$80,3,FALSE)) | AT72: =IF(D72="","",VLOOKUP(F72,'11. Condition and Temporal'!$B$6:$K$104,10,FALSE)) | AU72: =IF(AT72="","",VLOOKUP(AT72,'12. Lists'!$I$47:$K$80,3,FALSE)) | AV72: =IF(D72="","",VLOOKUP(F72,'10. All Habitats + Multipliers'!$C$4:$K$99,8,FALSE)) | AW72: =IF(AV72="","",VLOOKUP(AV72,'12. Lists'!$J$35:$K$38,2,FALSE)) | AX72: =IF(D72="","",VLOOKUP(D72,'11. Condition and Temporal'!$B$6:$K$101,4,FALSE)) | AY72: =IF(F72="","",IF(D72=F72,"Condition","Distinctivness")) | BA72: 5 | BB72: =TRIM(MID(SUBSTITUTE($AX$68,$BA$64,REPT(" ",LEN($AX$68))),($BA72-1)*LEN($AX$68)+1,LEN($AX$68))) | BC72: =TRIM(MID(SUBSTITUTE($AX$69,$BA$64,REPT(" ",LEN($AX$69))),($BA72-1)*LEN($AX$69)+1,LEN($AX$69))) | BD72: =TRIM(MID(SUBSTITUTE($AX$70,$BA$64,REPT(" ",LEN($AX$70))),($BA72-1)*LEN($AX$70)+1,LEN($AX$70))) | BE72: =TRIM(MID(SUBSTITUTE($AX$71,$BA$64,REPT(" ",LEN($AX$71))),($BA72-1)*LEN($AX$71)+1,LEN($AX$71))) | BF72: =TRIM(MID(SUBSTITUTE($AX$72,$BA$64,REPT(" ",LEN($AX$72))),($BA72-1)*LEN($AX$72)+1,LEN($AX$72))) | BG72: =TRIM(MID(SUBSTITUTE($AX$73,$BA$64,REPT(" ",LEN($AX$73))),($BA72-1)*LEN($AX$73)+1,LEN($AX$73))) | BH72: =TRIM(MID(SUBSTITUTE($AX$74,$BA$64,REPT(" ",LEN($AX$74))),($BA72-1)*LEN($AX$74)+1,LEN($AX$74))) | BI72: =TRIM(MID(SUBSTITUTE($AX$75,$BA$64,REPT(" ",LEN($AX$75))),($BA72-1)*LEN($AX$75)+1,LEN($AX$75))) | BJ72: =TRIM(MID(SUBSTITUTE($AX$76,$BA$64,REPT(" ",LEN($AX$76))),($BA72-1)*LEN($AX$76)+1,LEN($AX$76))) | BK72: =TRIM(MID(SUBSTITUTE($AX$77,$BA$64,REPT(" ",LEN($AX$77))),($BA72-1)*LEN($AX$77)+1,LEN($AX$77))) | BL72: =TRIM(MID(SUBSTITUTE($AX$78,$BA$64,REPT(" ",LEN($AX$78))),($BA72-1)*LEN($AX$78)+1,LEN($AX$78))) | BM72: =TRIM(MID(SUBSTITUTE($AX$79,$BA$64,REPT(" ",LEN($AX$79))),($BA72-1)*LEN($AX$79)+1,LEN($AX$79))) | BN72: =TRIM(MID(SUBSTITUTE($AX$80,$BA$64,REPT(" ",LEN($AX$80))),($BA72-1)*LEN($AX$80)+1,LEN($AX$80))) | BO72: =TRIM(MID(SUBSTITUTE($AX$81,$BA$64,REPT(" ",LEN($AX$81))),($BA72-1)*LEN($AX$81)+1,LEN($AX$81))) | BP72: =TRIM(MID(SUBSTITUTE($AX$82,$BA$64,REPT(" ",LEN($AX$82))),($BA72-1)*LEN($AX$82)+1,LEN($AX$82))) | BQ72: =TRIM(MID(SUBSTITUTE($AX$83,$BA$64,REPT(" ",LEN($AX$83))),($BA72-1)*LEN($AX$83)+1,LEN($AX$83))) | BR72: =TRIM(MID(SUBSTITUTE($AX$84,$BA$64,REPT(" ",LEN($AX$84))),($BA72-1)*LEN($AX$84)+1,LEN($AX$84))) | BS72: =TRIM(MID(SUBSTITUTE($AX$85,$BA$64,REPT(" ",LEN($AX$85))),($BA72-1)*LEN($AX$85)+1,LEN($AX$85))) | BT72: =TRIM(MID(SUBSTITUTE($AX$86,$BA$64,REPT(" ",LEN($AX$86))),($BA72-1)*LEN($AX$86)+1,LEN($AX$86))) | BU72: =TRIM(MID(SUBSTITUTE($AX$87,$BA$64,REPT(" ",LEN($AX$87))),($BA72-1)*LEN($AX$87)+1,LEN($AX$87))) | BV72: =IF(BX72=0,"",CONCATENATE(BW72,"68:",BW72,BX72+67)) | BW72: BF | BX72: =BF66 -> 0
B73: 6 | C73: =IF(D73="","",C16) | D73: =IF(K16="","",D16) | E73: =IF(AY73="","",AY73) | H73: =IF(D73="","",AC73) | I73: =IF(K16="","",K16) | J73: =IF(F73="","",VLOOKUP(F73,'11. Condition and Temporal'!$B$6:$F$101,5,FALSE)) | L73: =IFERROR(IF(D73="","",IF(AY73="Distinctivness",((((I73*AI73*AK73)-(I73*W73*Y73))*(AW73*AU73))+(I73*W73*Y73))*(AN73*AQ73),((((I73*AI73*AK73)-(I73*W73*Y73))*(AW73*AS73))+(I73*W73*Y73))*(AN73*AQ73))/10000),"Value missing") | M73: =IF(F73="","",L73-AE73) | U73: =IF(D73="","",K16) | V73: =IF($D73="","",U16) | W73: =IF($D73="","",V16) | X73: =IF($D73="","",W16) | Y73: =IF($D73="","",X16) | Z73: =IF($D73="","",Y16) | AA73: =IF($D73="","",Z16) | AB73: =IF($D73="","",AA16) | AC73: =IF($D73="","",AB16) | AD73: =IF($D73="","",AD16) | AE73: =IF(AD73="","",(U73*W73*Y73)*(AB73*AD73)/10000) | AF73: =IF(AE73="","",IF(AI73<W73,"Not Acceptable","Acceptable")) | AG73: =IF(D73="","",I73) | AH73: =IF(D73="","",VLOOKUP(F73,'10. All Habitats + Multipliers'!$C$4:$K$99,5,FALSE)) | AI73: =IF(AH73="","",VLOOKUP(AH73,'12. Lists'!$B$47:$D$49,2,FALSE)) | AJ73: =IF(D73="","",J73) | AK73: =IF(AJ73="","",VLOOKUP(AJ73,'12. Lists'!$F$47:$G$51,2,FALSE)) | AL73: =IF(D73="","",VLOOKUP(F73,'10. All Habitats + Multipliers'!$C$4:$K$99,9,FALSE)) | AM73: =IF(AL73="","",VLOOKUP(AL73,'12. Lists'!$B$36:$D$39,2,FALSE)) | AN73: =IF(AL73="","",VLOOKUP(AL73,'12. Lists'!$B$36:$D$39,3,FALSE)) | AO73: =IF(H73="","",H73) | AP73: =IF(AO73="","",VLOOKUP(AO73,'12. Lists'!$F$36:$H$38,2,FALSE)) | AQ73: =IF(AO73="","",VLOOKUP(AO73,'12. Lists'!$F$36:$H$38,3,FALSE)) | AR73: =IF(D73="","",VLOOKUP(F73,'11. Condition and Temporal'!$B$6:$J$101,9,FALSE)) | AS73: =IF(AR73="","",VLOOKUP(AR73,'12. Lists'!$I$47:$K$80,3,FALSE)) | AT73: =IF(D73="","",VLOOKUP(F73,'11. Condition and Temporal'!$B$6:$K$104,10,FALSE)) | AU73: =IF(AT73="","",VLOOKUP(AT73,'12. Lists'!$I$47:$K$80,3,FALSE)) | AV73: =IF(D73="","",VLOOKUP(F73,'10. All Habitats + Multipliers'!$C$4:$K$99,8,FALSE)) | AW73: =IF(AV73="","",VLOOKUP(AV73,'12. Lists'!$J$35:$K$38,2,FALSE)) | AX73: =IF(D73="","",VLOOKUP(D73,'11. Condition and Temporal'!$B$6:$K$101,4,FALSE)) | AY73: =IF(F73="","",IF(D73=F73,"Condition","Distinctivness")) | BA73: 6 | BB73: =TRIM(MID(SUBSTITUTE($AX$68,$BA$64,REPT(" ",LEN($AX$68))),($BA73-1)*LEN($AX$68)+1,LEN($AX$68))) | BC73: =TRIM(MID(SUBSTITUTE($AX$69,$BA$64,REPT(" ",LEN($AX$69))),($BA73-1)*LEN($AX$69)+1,LEN($AX$69))) | BD73: =TRIM(MID(SUBSTITUTE($AX$70,$BA$64,REPT(" ",LEN($AX$70))),($BA73-1)*LEN($AX$70)+1,LEN($AX$70))) | BE73: =TRIM(MID(SUBSTITUTE($AX$71,$BA$64,REPT(" ",LEN($AX$71))),($BA73-1)*LEN($AX$71)+1,LEN($AX$71))) | BF73: =TRIM(MID(SUBSTITUTE($AX$72,$BA$64,REPT(" ",LEN($AX$72))),($BA73-1)*LEN($AX$72)+1,LEN($AX$72))) | BG73: =TRIM(MID(SUBSTITUTE($AX$73,$BA$64,REPT(" ",LEN($AX$73))),($BA73-1)*LEN($AX$73)+1,LEN($AX$73))) | BH73: =TRIM(MID(SUBSTITUTE($AX$74,$BA$64,REPT(" ",LEN($AX$74))),($BA73-1)*LEN($AX$74)+1,LEN($AX$74))) | BI73: =TRIM(MID(SUBSTITUTE($AX$75,$BA$64,REPT(" ",LEN($AX$75))),($BA73-1)*LEN($AX$75)+1,LEN($AX$75))) | BJ73: =TRIM(MID(SUBSTITUTE($AX$76,$BA$64,REPT(" ",LEN($AX$76))),($BA73-1)*LEN($AX$76)+1,LEN($AX$76))) | BK73: =TRIM(MID(SUBSTITUTE($AX$77,$BA$64,REPT(" ",LEN($AX$77))),($BA73-1)*LEN($AX$77)+1,LEN($AX$77))) | BL73: =TRIM(MID(SUBSTITUTE($AX$78,$BA$64,REPT(" ",LEN($AX$78))),($BA73-1)*LEN($AX$78)+1,LEN($AX$78))) | BM73: =TRIM(MID(SUBSTITUTE($AX$79,$BA$64,REPT(" ",LEN($AX$79))),($BA73-1)*LEN($AX$79)+1,LEN($AX$79))) | BN73: =TRIM(MID(SUBSTITUTE($AX$80,$BA$64,REPT(" ",LEN($AX$80))),($BA73-1)*LEN($AX$80)+1,LEN($AX$80))) | BO73: =TRIM(MID(SUBSTITUTE($AX$81,$BA$64,REPT(" ",LEN($AX$81))),($BA73-1)*LEN($AX$81)+1,LEN($AX$81))) | BP73: =TRIM(MID(SUBSTITUTE($AX$82,$BA$64,REPT(" ",LEN($AX$82))),($BA73-1)*LEN($AX$82)+1,LEN($AX$82))) | BQ73: =TRIM(MID(SUBSTITUTE($AX$83,$BA$64,REPT(" ",LEN($AX$83))),($BA73-1)*LEN($AX$83)+1,LEN($AX$83))) | BR73: =TRIM(MID(SUBSTITUTE($AX$84,$BA$64,REPT(" ",LEN($AX$84))),($BA73-1)*LEN($AX$84)+1,LEN($AX$84))) | BS73: =TRIM(MID(SUBSTITUTE($AX$85,$BA$64,REPT(" ",LEN($AX$85))),($BA73-1)*LEN($AX$85)+1,LEN($AX$85))) | BT73: =TRIM(MID(SUBSTITUTE($AX$86,$BA$64,REPT(" ",LEN($AX$86))),($BA73-1)*LEN($AX$86)+1,LEN($AX$86))) | BU73: =TRIM(MID(SUBSTITUTE($AX$87,$BA$64,REPT(" ",LEN($AX$87))),($BA73-1)*LEN($AX$87)+1,LEN($AX$87))) | BV73: =IF(BX73=0,"",CONCATENATE(BW73,"68:",BW73,BX73+67)) | BW73: BG | BX73: =BG66 -> 0
B74: 7 | C74: =IF(D74="","",C17) | D74: =IF(K17="","",D17) | E74: =IF(AY74="","",AY74) | H74: =IF(D74="","",AC74) | I74: =IF(K17="","",K17) | J74: =IF(F74="","",VLOOKUP(F74,'11. Condition and Temporal'!$B$6:$F$101,5,FALSE)) | L74: =IFERROR(IF(D74="","",IF(AY74="Distinctivness",((((I74*AI74*AK74)-(I74*W74*Y74))*(AW74*AU74))+(I74*W74*Y74))*(AN74*AQ74),((((I74*AI74*AK74)-(I74*W74*Y74))*(AW74*AS74))+(I74*W74*Y74))*(AN74*AQ74))/10000),"Value missing") | M74: =IF(F74="","",L74-AE74) | U74: =IF(D74="","",K17) | V74: =IF($D74="","",U17) | W74: =IF($D74="","",V17) | X74: =IF($D74="","",W17) | Y74: =IF($D74="","",X17) | Z74: =IF($D74="","",Y17) | AA74: =IF($D74="","",Z17) | AB74: =IF($D74="","",AA17) | AC74: =IF($D74="","",AB17) | AD74: =IF($D74="","",AD17) | AE74: =IF(AD74="","",(U74*W74*Y74)*(AB74*AD74)/10000) | AF74: =IF(AE74="","",IF(AI74<W74,"Not Acceptable","Acceptable")) | AG74: =IF(D74="","",I74) | AH74: =IF(D74="","",VLOOKUP(F74,'10. All Habitats + Multipliers'!$C$4:$K$99,5,FALSE)) | AI74: =IF(AH74="","",VLOOKUP(AH74,'12. Lists'!$B$47:$D$49,2,FALSE)) | AJ74: =IF(D74="","",J74) | AK74: =IF(AJ74="","",VLOOKUP(AJ74,'12. Lists'!$F$47:$G$51,2,FALSE)) | AL74: =IF(D74="","",VLOOKUP(F74,'10. All Habitats + Multipliers'!$C$4:$K$99,9,FALSE)) | AM74: =IF(AL74="","",VLOOKUP(AL74,'12. Lists'!$B$36:$D$39,2,FALSE)) | AN74: =IF(AL74="","",VLOOKUP(AL74,'12. Lists'!$B$36:$D$39,3,FALSE)) | AO74: =IF(H74="","",H74) | AP74: =IF(AO74="","",VLOOKUP(AO74,'12. Lists'!$F$36:$H$38,2,FALSE)) | AQ74: =IF(AO74="","",VLOOKUP(AO74,'12. Lists'!$F$36:$H$38,3,FALSE)) | AR74: =IF(D74="","",VLOOKUP(F74,'11. Condition and Temporal'!$B$6:$J$101,9,FALSE)) | AS74: =IF(AR74="","",VLOOKUP(AR74,'12. Lists'!$I$47:$K$80,3,FALSE)) | AT74: =IF(D74="","",VLOOKUP(F74,'11. Condition and Temporal'!$B$6:$K$104,10,FALSE)) | AU74: =IF(AT74="","",VLOOKUP(AT74,'12. Lists'!$I$47:$K$80,3,FALSE)) | AV74: =IF(D74="","",VLOOKUP(F74,'10. All Habitats + Multipliers'!$C$4:$K$99,8,FALSE)) | AW74: =IF(AV74="","",VLOOKUP(AV74,'12. Lists'!$J$35:$K$38,2,FALSE)) | AX74: =IF(D74="","",VLOOKUP(D74,'11. Condition and Temporal'!$B$6:$K$101,4,FALSE)) | AY74: =IF(F74="","",IF(D74=F74,"Condition","Distinctivness")) | BA74: 7 | BB74: =TRIM(MID(SUBSTITUTE($AX$68,$BA$64,REPT(" ",LEN($AX$68))),($BA74-1)*LEN($AX$68)+1,LEN($AX$68))) | BC74: =TRIM(MID(SUBSTITUTE($AX$69,$BA$64,REPT(" ",LEN($AX$69))),($BA74-1)*LEN($AX$69)+1,LEN($AX$69))) | BD74: =TRIM(MID(SUBSTITUTE($AX$70,$BA$64,REPT(" ",LEN($AX$70))),($BA74-1)*LEN($AX$70)+1,LEN($AX$70))) | BE74: =TRIM(MID(SUBSTITUTE($AX$71,$BA$64,REPT(" ",LEN($AX$71))),($BA74-1)*LEN($AX$71)+1,LEN($AX$71))) | BF74: =TRIM(MID(SUBSTITUTE($AX$72,$BA$64,REPT(" ",LEN($AX$72))),($BA74-1)*LEN($AX$72)+1,LEN($AX$72))) | BG74: =TRIM(MID(SUBSTITUTE($AX$73,$BA$64,REPT(" ",LEN($AX$73))),($BA74-1)*LEN($AX$73)+1,LEN($AX$73))) | BH74: =TRIM(MID(SUBSTITUTE($AX$74,$BA$64,REPT(" ",LEN($AX$74))),($BA74-1)*LEN($AX$74)+1,LEN($AX$74))) | BI74: =TRIM(MID(SUBSTITUTE($AX$75,$BA$64,REPT(" ",LEN($AX$75))),($BA74-1)*LEN($AX$75)+1,LEN($AX$75))) | BJ74: =TRIM(MID(SUBSTITUTE($AX$76,$BA$64,REPT(" ",LEN($AX$76))),($BA74-1)*LEN($AX$76)+1,LEN($AX$76))) | BK74: =TRIM(MID(SUBSTITUTE($AX$77,$BA$64,REPT(" ",LEN($AX$77))),($BA74-1)*LEN($AX$77)+1,LEN($AX$77))) | BL74: =TRIM(MID(SUBSTITUTE($AX$78,$BA$64,REPT(" ",LEN($AX$78))),($BA74-1)*LEN($AX$78)+1,LEN($AX$78))) | BM74: =TRIM(MID(SUBSTITUTE($AX$79,$BA$64,REPT(" ",LEN($AX$79))),($BA74-1)*LEN($AX$79)+1,LEN($AX$79))) | BN74: =TRIM(MID(SUBSTITUTE($AX$80,$BA$64,REPT(" ",LEN($AX$80))),($BA74-1)*LEN($AX$80)+1,LEN($AX$80))) | BO74: =TRIM(MID(SUBSTITUTE($AX$81,$BA$64,REPT(" ",LEN($AX$81))),($BA74-1)*LEN($AX$81)+1,LEN($AX$81))) | BP74: =TRIM(MID(SUBSTITUTE($AX$82,$BA$64,REPT(" ",LEN($AX$82))),($BA74-1)*LEN($AX$82)+1,LEN($AX$82))) | BQ74: =TRIM(MID(SUBSTITUTE($AX$83,$BA$64,REPT(" ",LEN($AX$83))),($BA74-1)*LEN($AX$83)+1,LEN($AX$83))) | BR74: =TRIM(MID(SUBSTITUTE($AX$84,$BA$64,REPT(" ",LEN($AX$84))),($BA74-1)*LEN($AX$84)+1,LEN($AX$84))) | BS74: =TRIM(MID(SUBSTITUTE($AX$85,$BA$64,REPT(" ",LEN($AX$85))),($BA74-1)*LEN($AX$85)+1,LEN($AX$85))) | BT74: =TRIM(MID(SUBSTITUTE($AX$86,$BA$64,REPT(" ",LEN($AX$86))),($BA74-1)*LEN($AX$86)+1,LEN($AX$86))) | BU74: =TRIM(MID(SUBSTITUTE($AX$87,$BA$64,REPT(" ",LEN($AX$87))),($BA74-1)*LEN($AX$87)+1,LEN($AX$87))) | BV74: =IF(BX74=0,"",CONCATENATE(BW74,"68:",BW74,BX74+67)) | BW74: BH | BX74: =BH66 -> 0
B75: 8 | C75: =IF(D75="","",C18) | D75: =IF(K18="","",D18) | E75: =IF(AY75="","",AY75) | H75: =IF(D75="","",AC75) | I75: =IF(K18="","",K18) | J75: =IF(F75="","",VLOOKUP(F75,'11. Condition and Temporal'!$B$6:$F$101,5,FALSE)) | L75: =IFERROR(IF(D75="","",IF(AY75="Distinctivness",((((I75*AI75*AK75)-(I75*W75*Y75))*(AW75*AU75))+(I75*W75*Y75))*(AN75*AQ75),((((I75*AI75*AK75)-(I75*W75*Y75))*(AW75*AS75))+(I75*W75*Y75))*(AN75*AQ75))/10000),"Value missing") | M75: =IF(F75="","",L75-AE75) | U75: =IF(D75="","",K18) | V75: =IF($D75="","",U18) | W75: =IF($D75="","",V18) | X75: =IF($D75="","",W18) | Y75: =IF($D75="","",X18) | Z75: =IF($D75="","",Y18) | AA75: =IF($D75="","",Z18) | AB75: =IF($D75="","",AA18) | AC75: =IF($D75="","",AB18) | AD75: =IF($D75="","",AD18) | AE75: =IF(AD75="","",(U75*W75*Y75)*(AB75*AD75)/10000) | AF75: =IF(AE75="","",IF(AI75<W75,"Not Acceptable","Acceptable")) | AG75: =IF(D75="","",I75) | AH75: =IF(D75="","",VLOOKUP(F75,'10. All Habitats + Multipliers'!$C$4:$K$99,5,FALSE)) | AI75: =IF(AH75="","",VLOOKUP(AH75,'12. Lists'!$B$47:$D$49,2,FALSE)) | AJ75: =IF(D75="","",J75) | AK75: =IF(AJ75="","",VLOOKUP(AJ75,'12. Lists'!$F$47:$G$51,2,FALSE)) | AL75: =IF(D75="","",VLOOKUP(F75,'10. All Habitats + Multipliers'!$C$4:$K$99,9,FALSE)) | AM75: =IF(AL75="","",VLOOKUP(AL75,'12. Lists'!$B$36:$D$39,2,FALSE)) | AN75: =IF(AL75="","",VLOOKUP(AL75,'12. Lists'!$B$36:$D$39,3,FALSE)) | AO75: =IF(H75="","",H75) | AP75: =IF(AO75="","",VLOOKUP(AO75,'12. Lists'!$F$36:$H$38,2,FALSE)) | AQ75: =IF(AO75="","",VLOOKUP(AO75,'12. Lists'!$F$36:$H$38,3,FALSE)) | AR75: =IF(D75="","",VLOOKUP(F75,'11. Condition and Temporal'!$B$6:$J$101,9,FALSE)) | AS75: =IF(AR75="","",VLOOKUP(AR75,'12. Lists'!$I$47:$K$80,3,FALSE)) | AT75: =IF(D75="","",VLOOKUP(F75,'11. Condition and Temporal'!$B$6:$K$104,10,FALSE)) | AU75: =IF(AT75="","",VLOOKUP(AT75,'12. Lists'!$I$47:$K$80,3,FALSE)) | AV75: =IF(D75="","",VLOOKUP(F75,'10. All Habitats + Multipliers'!$C$4:$K$99,8,FALSE)) | AW75: =IF(AV75="","",VLOOKUP(AV75,'12. Lists'!$J$35:$K$38,2,FALSE)) | AX75: =IF(D75="","",VLOOKUP(D75,'11. Condition and Temporal'!$B$6:$K$101,4,FALSE)) | AY75: =IF(F75="","",IF(D75=F75,"Condition","Distinctivness")) | BA75: 8 | BB75: =TRIM(MID(SUBSTITUTE($AX$68,$BA$64,REPT(" ",LEN($AX$68))),($BA75-1)*LEN($AX$68)+1,LEN($AX$68))) | BC75: =TRIM(MID(SUBSTITUTE($AX$69,$BA$64,REPT(" ",LEN($AX$69))),($BA75-1)*LEN($AX$69)+1,LEN($AX$69))) | BD75: =TRIM(MID(SUBSTITUTE($AX$70,$BA$64,REPT(" ",LEN($AX$70))),($BA75-1)*LEN($AX$70)+1,LEN($AX$70))) | BE75: =TRIM(MID(SUBSTITUTE($AX$71,$BA$64,REPT(" ",LEN($AX$71))),($BA75-1)*LEN($AX$71)+1,LEN($AX$71))) | BF75: =TRIM(MID(SUBSTITUTE($AX$72,$BA$64,REPT(" ",LEN($AX$72))),($BA75-1)*LEN($AX$72)+1,LEN($AX$72))) | BG75: =TRIM(MID(SUBSTITUTE($AX$73,$BA$64,REPT(" ",LEN($AX$73))),($BA75-1)*LEN($AX$73)+1,LEN($AX$73))) | BH75: =TRIM(MID(SUBSTITUTE($AX$74,$BA$64,REPT(" ",LEN($AX$74))),($BA75-1)*LEN($AX$74)+1,LEN($AX$74))) | BI75: =TRIM(MID(SUBSTITUTE($AX$75,$BA$64,REPT(" ",LEN($AX$75))),($BA75-1)*LEN($AX$75)+1,LEN($AX$75))) | BJ75: =TRIM(MID(SUBSTITUTE($AX$76,$BA$64,REPT(" ",LEN($AX$76))),($BA75-1)*LEN($AX$76)+1,LEN($AX$76))) | BK75: =TRIM(MID(SUBSTITUTE($AX$77,$BA$64,REPT(" ",LEN($AX$77))),($BA75-1)*LEN($AX$77)+1,LEN($AX$77))) | BL75: =TRIM(MID(SUBSTITUTE($AX$78,$BA$64,REPT(" ",LEN($AX$78))),($BA75-1)*LEN($AX$78)+1,LEN($AX$78))) | BM75: =TRIM(MID(SUBSTITUTE($AX$79,$BA$64,REPT(" ",LEN($AX$79))),($BA75-1)*LEN($AX$79)+1,LEN($AX$79))) | BN75: =TRIM(MID(SUBSTITUTE($AX$80,$BA$64,REPT(" ",LEN($AX$80))),($BA75-1)*LEN($AX$80)+1,LEN($AX$80))) | BO75: =TRIM(MID(SUBSTITUTE($AX$81,$BA$64,REPT(" ",LEN($AX$81))),($BA75-1)*LEN($AX$81)+1,LEN($AX$81))) | BP75: =TRIM(MID(SUBSTITUTE($AX$82,$BA$64,REPT(" ",LEN($AX$82))),($BA75-1)*LEN($AX$82)+1,LEN($AX$82))) | BQ75: =TRIM(MID(SUBSTITUTE($AX$83,$BA$64,REPT(" ",LEN($AX$83))),($BA75-1)*LEN($AX$83)+1,LEN($AX$83))) | BR75: =TRIM(MID(SUBSTITUTE($AX$84,$BA$64,REPT(" ",LEN($AX$84))),($BA75-1)*LEN($AX$84)+1,LEN($AX$84))) | BS75: =TRIM(MID(SUBSTITUTE($AX$85,$BA$64,REPT(" ",LEN($AX$85))),($BA75-1)*LEN($AX$85)+1,LEN($AX$85))) | BT75: =TRIM(MID(SUBSTITUTE($AX$86,$BA$64,REPT(" ",LEN($AX$86))),($BA75-1)*LEN($AX$86)+1,LEN($AX$86))) | BU75: =TRIM(MID(SUBSTITUTE($AX$87,$BA$64,REPT(" ",LEN($AX$87))),($BA75-1)*LEN($AX$87)+1,LEN($AX$87))) | BV75: =IF(BX75=0,"",CONCATENATE(BW75,"68:",BW75,BX75+67)) | BW75: BI | BX75: =BI66 -> 0
B76: 9 | C76: =IF(D76="","",C19) | D76: =IF(K19="","",D19) | E76: =IF(AY76="","",AY76) | H76: =IF(D76="","",AC76) | I76: =IF(K19="","",K19) | J76: =IF(F76="","",VLOOKUP(F76,'11. Condition and Temporal'!$B$6:$F$101,5,FALSE)) | L76: =IFERROR(IF(D76="","",IF(AY76="Distinctivness",((((I76*AI76*AK76)-(I76*W76*Y76))*(AW76*AU76))+(I76*W76*Y76))*(AN76*AQ76),((((I76*AI76*AK76)-(I76*W76*Y76))*(AW76*AS76))+(I76*W76*Y76))*(AN76*AQ76))/10000),"Value missing") | M76: =IF(F76="","",L76-AE76) | U76: =IF(D76="","",K19) | V76: =IF($D76="","",U19) | W76: =IF($D76="","",V19) | X76: =IF($D76="","",W19) | Y76: =IF($D76="","",X19) | Z76: =IF($D76="","",Y19) | AA76: =IF($D76="","",Z19) | AB76: =IF($D76="","",AA19) | AC76: =IF($D76="","",AB19) | AD76: =IF($D76="","",AD19) | AE76: =IF(AD76="","",(U76*W76*Y76)*(AB76*AD76)/10000) | AF76: =IF(AE76="","",IF(AI76<W76,"Not Acceptable","Acceptable")) | AG76: =IF(D76="","",I76) | AH76: =IF(D76="","",VLOOKUP(F76,'10. All Habitats + Multipliers'!$C$4:$K$99,5,FALSE)) | AI76: =IF(AH76="","",VLOOKUP(AH76,'12. Lists'!$B$47:$D$49,2,FALSE)) | AJ76: =IF(D76="","",J76) | AK76: =IF(AJ76="","",VLOOKUP(AJ76,'12. Lists'!$F$47:$G$51,2,FALSE)) | AL76: =IF(D76="","",VLOOKUP(F76,'10. All Habitats + Multipliers'!$C$4:$K$99,9,FALSE)) | AM76: =IF(AL76="","",VLOOKUP(AL76,'12. Lists'!$B$36:$D$39,2,FALSE)) | AN76: =IF(AL76="","",VLOOKUP(AL76,'12. Lists'!$B$36:$D$39,3,FALSE)) | AO76: =IF(H76="","",H76) | AP76: =IF(AO76="","",VLOOKUP(AO76,'12. Lists'!$F$36:$H$38,2,FALSE)) | AQ76: =IF(AO76="","",VLOOKUP(AO76,'12. Lists'!$F$36:$H$38,3,FALSE)) | AR76: =IF(D76="","",VLOOKUP(F76,'11. Condition and Temporal'!$B$6:$J$101,9,FALSE)) | AS76: =IF(AR76="","",VLOOKUP(AR76,'12. Lists'!$I$47:$K$80,3,FALSE)) | AT76: =IF(D76="","",VLOOKUP(F76,'11. Condition and Temporal'!$B$6:$K$104,10,FALSE)) | AU76: =IF(AT76="","",VLOOKUP(AT76,'12. Lists'!$I$47:$K$80,3,FALSE)) | AV76: =IF(D76="","",VLOOKUP(F76,'10. All Habitats + Multipliers'!$C$4:$K$99,8,FALSE)) | AW76: =IF(AV76="","",VLOOKUP(AV76,'12. Lists'!$J$35:$K$38,2,FALSE)) | AX76: =IF(D76="","",VLOOKUP(D76,'11. Condition and Temporal'!$B$6:$K$101,4,FALSE)) | AY76: =IF(F76="","",IF(D76=F76,"Condition","Distinctivness")) | BA76: 9 | BB76: =TRIM(MID(SUBSTITUTE($AX$68,$BA$64,REPT(" ",LEN($AX$68))),($BA76-1)*LEN($AX$68)+1,LEN($AX$68))) | BC76: =TRIM(MID(SUBSTITUTE($AX$69,$BA$64,REPT(" ",LEN($AX$69))),($BA76-1)*LEN($AX$69)+1,LEN($AX$69))) | BD76: =TRIM(MID(SUBSTITUTE($AX$70,$BA$64,REPT(" ",LEN($AX$70))),($BA76-1)*LEN($AX$70)+1,LEN($AX$70))) | BE76: =TRIM(MID(SUBSTITUTE($AX$71,$BA$64,REPT(" ",LEN($AX$71))),($BA76-1)*LEN($AX$71)+1,LEN($AX$71))) | BF76: =TRIM(MID(SUBSTITUTE($AX$72,$BA$64,REPT(" ",LEN($AX$72))),($BA76-1)*LEN($AX$72)+1,LEN($AX$72))) | BG76: =TRIM(MID(SUBSTITUTE($AX$73,$BA$64,REPT(" ",LEN($AX$73))),($BA76-1)*LEN($AX$73)+1,LEN($AX$73))) | BH76: =TRIM(MID(SUBSTITUTE($AX$74,$BA$64,REPT(" ",LEN($AX$74))),($BA76-1)*LEN($AX$74)+1,LEN($AX$74))) | BI76: =TRIM(MID(SUBSTITUTE($AX$75,$BA$64,REPT(" ",LEN($AX$75))),($BA76-1)*LEN($AX$75)+1,LEN($AX$75))) | BJ76: =TRIM(MID(SUBSTITUTE($AX$76,$BA$64,REPT(" ",LEN($AX$76))),($BA76-1)*LEN($AX$76)+1,LEN($AX$76))) | BK76: =TRIM(MID(SUBSTITUTE($AX$77,$BA$64,REPT(" ",LEN($AX$77))),($BA76-1)*LEN($AX$77)+1,LEN($AX$77))) | BL76: =TRIM(MID(SUBSTITUTE($AX$78,$BA$64,REPT(" ",LEN($AX$78))),($BA76-1)*LEN($AX$78)+1,LEN($AX$78))) | BM76: =TRIM(MID(SUBSTITUTE($AX$79,$BA$64,REPT(" ",LEN($AX$79))),($BA76-1)*LEN($AX$79)+1,LEN($AX$79))) | BN76: =TRIM(MID(SUBSTITUTE($AX$80,$BA$64,REPT(" ",LEN($AX$80))),($BA76-1)*LEN($AX$80)+1,LEN($AX$80))) | BO76: =TRIM(MID(SUBSTITUTE($AX$81,$BA$64,REPT(" ",LEN($AX$81))),($BA76-1)*LEN($AX$81)+1,LEN($AX$81))) | BP76: =TRIM(MID(SUBSTITUTE($AX$82,$BA$64,REPT(" ",LEN($AX$82))),($BA76-1)*LEN($AX$82)+1,LEN($AX$82))) | BQ76: =TRIM(MID(SUBSTITUTE($AX$83,$BA$64,REPT(" ",LEN($AX$83))),($BA76-1)*LEN($AX$83)+1,LEN($AX$83))) | BR76: =TRIM(MID(SUBSTITUTE($AX$84,$BA$64,REPT(" ",LEN($AX$84))),($BA76-1)*LEN($AX$84)+1,LEN($AX$84))) | BS76: =TRIM(MID(SUBSTITUTE($AX$85,$BA$64,REPT(" ",LEN($AX$85))),($BA76-1)*LEN($AX$85)+1,LEN($AX$85))) | BT76: =TRIM(MID(SUBSTITUTE($AX$86,$BA$64,REPT(" ",LEN($AX$86))),($BA76-1)*LEN($AX$86)+1,LEN($AX$86))) | BU76: =TRIM(MID(SUBSTITUTE($AX$87,$BA$64,REPT(" ",LEN($AX$87))),($BA76-1)*LEN($AX$87)+1,LEN($AX$87))) | BV76: =IF(BX76=0,"",CONCATENATE(BW76,"68:",BW76,BX76+67)) | BW76: BJ | BX76: =BJ66 -> 0
B77: 10 | C77: =IF(D77="","",C20) | D77: =IF(K20="","",D20) | E77: =IF(AY77="","",AY77) | H77: =IF(D77="","",AC77) | I77: =IF(K20="","",K20) | J77: =IF(F77="","",VLOOKUP(F77,'11. Condition and Temporal'!$B$6:$F$101,5,FALSE)) | L77: =IFERROR(IF(D77="","",IF(AY77="Distinctivness",((((I77*AI77*AK77)-(I77*W77*Y77))*(AW77*AU77))+(I77*W77*Y77))*(AN77*AQ77),((((I77*AI77*AK77)-(I77*W77*Y77))*(AW77*AS77))+(I77*W77*Y77))*(AN77*AQ77))/10000),"Value missing") | M77: =IF(F77="","",L77-AE77) | U77: =IF(D77="","",K20) | V77: =IF($D77="","",U20) | W77: =IF($D77="","",V20) | X77: =IF($D77="","",W20) | Y77: =IF($D77="","",X20) | Z77: =IF($D77="","",Y20) | AA77: =IF($D77="","",Z20) | AB77: =IF($D77="","",AA20) | AC77: =IF($D77="","",AB20) | AD77: =IF($D77="","",AD20) | AE77: =IF(AD77="","",(U77*W77*Y77)*(AB77*AD77)/10000) | AF77: =IF(AE77="","",IF(AI77<W77,"Not Acceptable","Acceptable")) | AG77: =IF(D77="","",I77) | AH77: =IF(D77="","",VLOOKUP(F77,'10. All Habitats + Multipliers'!$C$4:$K$99,5,FALSE)) | AI77: =IF(AH77="","",VLOOKUP(AH77,'12. Lists'!$B$47:$D$49,2,FALSE)) | AJ77: =IF(D77="","",J77) | AK77: =IF(AJ77="","",VLOOKUP(AJ77,'12. Lists'!$F$47:$G$51,2,FALSE)) | AL77: =IF(D77="","",VLOOKUP(F77,'10. All Habitats + Multipliers'!$C$4:$K$99,9,FALSE)) | AM77: =IF(AL77="","",VLOOKUP(AL77,'12. Lists'!$B$36:$D$39,2,FALSE)) | AN77: =IF(AL77="","",VLOOKUP(AL77,'12. Lists'!$B$36:$D$39,3,FALSE)) | AO77: =IF(H77="","",H77) | AP77: =IF(AO77="","",VLOOKUP(AO77,'12. Lists'!$F$36:$H$38,2,FALSE)) | AQ77: =IF(AO77="","",VLOOKUP(AO77,'12. Lists'!$F$36:$H$38,3,FALSE)) | AR77: =IF(D77="","",VLOOKUP(F77,'11. Condition and Temporal'!$B$6:$J$101,9,FALSE)) | AS77: =IF(AR77="","",VLOOKUP(AR77,'12. Lists'!$I$47:$K$80,3,FALSE)) | AT77: =IF(D77="","",VLOOKUP(F77,'11. Condition and Temporal'!$B$6:$K$104,10,FALSE)) | AU77: =IF(AT77="","",VLOOKUP(AT77,'12. Lists'!$I$47:$K$80,3,FALSE)) | AV77: =IF(D77="","",VLOOKUP(F77,'10. All Habitats + Multipliers'!$C$4:$K$99,8,FALSE)) | AW77: =IF(AV77="","",VLOOKUP(AV77,'12. Lists'!$J$35:$K$38,2,FALSE)) | AX77: =IF(D77="","",VLOOKUP(D77,'11. Condition and Temporal'!$B$6:$K$101,4,FALSE)) | AY77: =IF(F77="","",IF(D77=F77,"Condition","Distinctivness")) | BA77: 10 | BB77: =TRIM(MID(SUBSTITUTE($AX$68,$BA$64,REPT(" ",LEN($AX$68))),($BA77-1)*LEN($AX$68)+1,LEN($AX$68))) | BC77: =TRIM(MID(SUBSTITUTE($AX$69,$BA$64,REPT(" ",LEN($AX$69))),($BA77-1)*LEN($AX$69)+1,LEN($AX$69))) | BD77: =TRIM(MID(SUBSTITUTE($AX$70,$BA$64,REPT(" ",LEN($AX$70))),($BA77-1)*LEN($AX$70)+1,LEN($AX$70))) | BE77: =TRIM(MID(SUBSTITUTE($AX$71,$BA$64,REPT(" ",LEN($AX$71))),($BA77-1)*LEN($AX$71)+1,LEN($AX$71))) | BF77: =TRIM(MID(SUBSTITUTE($AX$72,$BA$64,REPT(" ",LEN($AX$72))),($BA77-1)*LEN($AX$72)+1,LEN($AX$72))) | BG77: =TRIM(MID(SUBSTITUTE($AX$73,$BA$64,REPT(" ",LEN($AX$73))),($BA77-1)*LEN($AX$73)+1,LEN($AX$73))) | BH77: =TRIM(MID(SUBSTITUTE($AX$74,$BA$64,REPT(" ",LEN($AX$74))),($BA77-1)*LEN($AX$74)+1,LEN($AX$74))) | BI77: =TRIM(MID(SUBSTITUTE($AX$75,$BA$64,REPT(" ",LEN($AX$75))),($BA77-1)*LEN($AX$75)+1,LEN($AX$75))) | BJ77: =TRIM(MID(SUBSTITUTE($AX$76,$BA$64,REPT(" ",LEN($AX$76))),($BA77-1)*LEN($AX$76)+1,LEN($AX$76))) | BK77: =TRIM(MID(SUBSTITUTE($AX$77,$BA$64,REPT(" ",LEN($AX$77))),($BA77-1)*LEN($AX$77)+1,LEN($AX$77))) | BL77: =TRIM(MID(SUBSTITUTE($AX$78,$BA$64,REPT(" ",LEN($AX$78))),($BA77-1)*LEN($AX$78)+1,LEN($AX$78))) | BM77: =TRIM(MID(SUBSTITUTE($AX$79,$BA$64,REPT(" ",LEN($AX$79))),($BA77-1)*LEN($AX$79)+1,LEN($AX$79))) | BN77: =TRIM(MID(SUBSTITUTE($AX$80,$BA$64,REPT(" ",LEN($AX$80))),($BA77-1)*LEN($AX$80)+1,LEN($AX$80))) | BO77: =TRIM(MID(SUBSTITUTE($AX$81,$BA$64,REPT(" ",LEN($AX$81))),($BA77-1)*LEN($AX$81)+1,LEN($AX$81))) | BP77: =TRIM(MID(SUBSTITUTE($AX$82,$BA$64,REPT(" ",LEN($AX$82))),($BA77-1)*LEN($AX$82)+1,LEN($AX$82))) | BQ77: =TRIM(MID(SUBSTITUTE($AX$83,$BA$64,REPT(" ",LEN($AX$83))),($BA77-1)*LEN($AX$83)+1,LEN($AX$83))) | BR77: =TRIM(MID(SUBSTITUTE($AX$84,$BA$64,REPT(" ",LEN($AX$84))),($BA77-1)*LEN($AX$84)+1,LEN($AX$84))) | BS77: =TRIM(MID(SUBSTITUTE($AX$85,$BA$64,REPT(" ",LEN($AX$85))),($BA77-1)*LEN($AX$85)+1,LEN($AX$85))) | BT77: =TRIM(MID(SUBSTITUTE($AX$86,$BA$64,REPT(" ",LEN($AX$86))),($BA77-1)*LEN($AX$86)+1,LEN($AX$86))) | BU77: =TRIM(MID(SUBSTITUTE($AX$87,$BA$64,REPT(" ",LEN($AX$87))),($BA77-1)*LEN($AX$87)+1,LEN($AX$87))) | BV77: =IF(BX77=0,"",CONCATENATE(BW77,"68:",BW77,BX77+67)) | BW77: BK | BX77: =BK66 -> 0
B78: 11 | C78: =IF(D78="","",C21) | D78: =IF(K21="","",D21) | E78: =IF(AY78="","",AY78) | H78: =IF(D78="","",AC78) | I78: =IF(K21="","",K21) | J78: =IF(F78="","",VLOOKUP(F78,'11. Condition and Temporal'!$B$6:$F$101,5,FALSE)) | L78: =IFERROR(IF(D78="","",IF(AY78="Distinctivness",((((I78*AI78*AK78)-(I78*W78*Y78))*(AW78*AU78))+(I78*W78*Y78))*(AN78*AQ78),((((I78*AI78*AK78)-(I78*W78*Y78))*(AW78*AS78))+(I78*W78*Y78))*(AN78*AQ78))/10000),"Value missing") | M78: =IF(F78="","",L78-AE78) | U78: =IF(D78="","",K21) | V78: =IF($D78="","",U21) | W78: =IF($D78="","",V21) | X78: =IF($D78="","",W21) | Y78: =IF($D78="","",X21) | Z78: =IF($D78="","",Y21) | AA78: =IF($D78="","",Z21) | AB78: =IF($D78="","",AA21) | AC78: =IF($D78="","",AB21) | AD78: =IF($D78="","",AD21) | AE78: =IF(AD78="","",(U78*W78*Y78)*(AB78*AD78)/10000) | AF78: =IF(AE78="","",IF(AI78<W78,"Not Acceptable","Acceptable")) | AG78: =IF(D78="","",I78) | AH78: =IF(D78="","",VLOOKUP(F78,'10. All Habitats + Multipliers'!$C$4:$K$99,5,FALSE)) | AI78: =IF(AH78="","",VLOOKUP(AH78,'12. Lists'!$B$47:$D$49,2,FALSE)) | AJ78: =IF(D78="","",J78) | AK78: =IF(AJ78="","",VLOOKUP(AJ78,'12. Lists'!$F$47:$G$51,2,FALSE)) | AL78: =IF(D78="","",VLOOKUP(F78,'10. All Habitats + Multipliers'!$C$4:$K$99,9,FALSE)) | AM78: =IF(AL78="","",VLOOKUP(AL78,'12. Lists'!$B$36:$D$39,2,FALSE)) | AN78: =IF(AL78="","",VLOOKUP(AL78,'12. Lists'!$B$36:$D$39,3,FALSE)) | AO78: =IF(H78="","",H78) | AP78: =IF(AO78="","",VLOOKUP(AO78,'12. Lists'!$F$36:$H$38,2,FALSE)) | AQ78: =IF(AO78="","",VLOOKUP(AO78,'12. Lists'!$F$36:$H$38,3,FALSE)) | AR78: =IF(D78="","",VLOOKUP(F78,'11. Condition and Temporal'!$B$6:$J$101,9,FALSE)) | AS78: =IF(AR78="","",VLOOKUP(AR78,'12. Lists'!$I$47:$K$80,3,FALSE)) | AT78: =IF(D78="","",VLOOKUP(F78,'11. Condition and Temporal'!$B$6:$K$104,10,FALSE)) | AU78: =IF(AT78="","",VLOOKUP(AT78,'12. Lists'!$I$47:$K$80,3,FALSE)) | AV78: =IF(D78="","",VLOOKUP(F78,'10. All Habitats + Multipliers'!$C$4:$K$99,8,FALSE)) | AW78: =IF(AV78="","",VLOOKUP(AV78,'12. Lists'!$J$35:$K$38,2,FALSE)) | AX78: =IF(D78="","",VLOOKUP(D78,'11. Condition and Temporal'!$B$6:$K$101,4,FALSE)) | AY78: =IF(F78="","",IF(D78=F78,"Condition","Distinctivness")) | BA78: 11 | BB78: =TRIM(MID(SUBSTITUTE($AX$68,$BA$64,REPT(" ",LEN($AX$68))),($BA78-1)*LEN($AX$68)+1,LEN($AX$68))) | BC78: =TRIM(MID(SUBSTITUTE($AX$69,$BA$64,REPT(" ",LEN($AX$69))),($BA78-1)*LEN($AX$69)+1,LEN($AX$69))) | BD78: =TRIM(MID(SUBSTITUTE($AX$70,$BA$64,REPT(" ",LEN($AX$70))),($BA78-1)*LEN($AX$70)+1,LEN($AX$70))) | BE78: =TRIM(MID(SUBSTITUTE($AX$71,$BA$64,REPT(" ",LEN($AX$71))),($BA78-1)*LEN($AX$71)+1,LEN($AX$71))) | BF78: =TRIM(MID(SUBSTITUTE($AX$72,$BA$64,REPT(" ",LEN($AX$72))),($BA78-1)*LEN($AX$72)+1,LEN($AX$72))) | BG78: =TRIM(MID(SUBSTITUTE($AX$73,$BA$64,REPT(" ",LEN($AX$73))),($BA78-1)*LEN($AX$73)+1,LEN($AX$73))) | BH78: =TRIM(MID(SUBSTITUTE($AX$74,$BA$64,REPT(" ",LEN($AX$74))),($BA78-1)*LEN($AX$74)+1,LEN($AX$74))) | BI78: =TRIM(MID(SUBSTITUTE($AX$75,$BA$64,REPT(" ",LEN($AX$75))),($BA78-1)*LEN($AX$75)+1,LEN($AX$75))) | BJ78: =TRIM(MID(SUBSTITUTE($AX$76,$BA$64,REPT(" ",LEN($AX$76))),($BA78-1)*LEN($AX$76)+1,LEN($AX$76))) | BK78: =TRIM(MID(SUBSTITUTE($AX$77,$BA$64,REPT(" ",LEN($AX$77))),($BA78-1)*LEN($AX$77)+1,LEN($AX$77))) | BL78: =TRIM(MID(SUBSTITUTE($AX$78,$BA$64,REPT(" ",LEN($AX$78))),($BA78-1)*LEN($AX$78)+1,LEN($AX$78))) | BM78: =TRIM(MID(SUBSTITUTE($AX$79,$BA$64,REPT(" ",LEN($AX$79))),($BA78-1)*LEN($AX$79)+1,LEN($AX$79))) | BN78: =TRIM(MID(SUBSTITUTE($AX$80,$BA$64,REPT(" ",LEN($AX$80))),($BA78-1)*LEN($AX$80)+1,LEN($AX$80))) | BO78: =TRIM(MID(SUBSTITUTE($AX$81,$BA$64,REPT(" ",LEN($AX$81))),($BA78-1)*LEN($AX$81)+1,LEN($AX$81))) | BP78: =TRIM(MID(SUBSTITUTE($AX$82,$BA$64,REPT(" ",LEN($AX$82))),($BA78-1)*LEN($AX$82)+1,LEN($AX$82))) | BQ78: =TRIM(MID(SUBSTITUTE($AX$83,$BA$64,REPT(" ",LEN($AX$83))),($BA78-1)*LEN($AX$83)+1,LEN($AX$83))) | BR78: =TRIM(MID(SUBSTITUTE($AX$84,$BA$64,REPT(" ",LEN($AX$84))),($BA78-1)*LEN($AX$84)+1,LEN($AX$84))) | BS78: =TRIM(MID(SUBSTITUTE($AX$85,$BA$64,REPT(" ",LEN($AX$85))),($BA78-1)*LEN($AX$85)+1,LEN($AX$85))) | BT78: =TRIM(MID(SUBSTITUTE($AX$86,$BA$64,REPT(" ",LEN($AX$86))),($BA78-1)*LEN($AX$86)+1,LEN($AX$86))) | BU78: =TRIM(MID(SUBSTITUTE($AX$87,$BA$64,REPT(" ",LEN($AX$87))),($BA78-1)*LEN($AX$87)+1,LEN($AX$87))) | BV78: =IF(BX78=0,"",CONCATENATE(BW78,"68:",BW78,BX78+67)) | BW78: BL | BX78: =BL66 -> 0
B79: 12 | C79: =IF(D79="","",C22) | D79: =IF(K22="","",D22) | E79: =IF(AY79="","",AY79) | H79: =IF(D79="","",AC79) | I79: =IF(K22="","",K22) | J79: =IF(F79="","",VLOOKUP(F79,'11. Condition and Temporal'!$B$6:$F$101,5,FALSE)) | L79: =IFERROR(IF(D79="","",IF(AY79="Distinctivness",((((I79*AI79*AK79)-(I79*W79*Y79))*(AW79*AU79))+(I79*W79*Y79))*(AN79*AQ79),((((I79*AI79*AK79)-(I79*W79*Y79))*(AW79*AS79))+(I79*W79*Y79))*(AN79*AQ79))/10000),"Value missing") | M79: =IF(F79="","",L79-AE79) | U79: =IF(D79="","",K22) | V79: =IF($D79="","",U22) | W79: =IF($D79="","",V22) | X79: =IF($D79="","",W22) | Y79: =IF($D79="","",X22) | Z79: =IF($D79="","",Y22) | AA79: =IF($D79="","",Z22) | AB79: =IF($D79="","",AA22) | AC79: =IF($D79="","",AB22) | AD79: =IF($D79="","",AD22) | AE79: =IF(AD79="","",(U79*W79*Y79)*(AB79*AD79)/10000) | AF79: =IF(AE79="","",IF(AI79<W79,"Not Acceptable","Acceptable")) | AG79: =IF(D79="","",I79) | AH79: =IF(D79="","",VLOOKUP(F79,'10. All Habitats + Multipliers'!$C$4:$K$99,5,FALSE)) | AI79: =IF(AH79="","",VLOOKUP(AH79,'12. Lists'!$B$47:$D$49,2,FALSE)) | AJ79: =IF(D79="","",J79) | AK79: =IF(AJ79="","",VLOOKUP(AJ79,'12. Lists'!$F$47:$G$51,2,FALSE)) | AL79: =IF(D79="","",VLOOKUP(F79,'10. All Habitats + Multipliers'!$C$4:$K$99,9,FALSE)) | AM79: =IF(AL79="","",VLOOKUP(AL79,'12. Lists'!$B$36:$D$39,2,FALSE)) | AN79: =IF(AL79="","",VLOOKUP(AL79,'12. Lists'!$B$36:$D$39,3,FALSE)) | AO79: =IF(H79="","",H79) | AP79: =IF(AO79="","",VLOOKUP(AO79,'12. Lists'!$F$36:$H$38,2,FALSE)) | AQ79: =IF(AO79="","",VLOOKUP(AO79,'12. Lists'!$F$36:$H$38,3,FALSE)) | AR79: =IF(D79="","",VLOOKUP(F79,'11. Condition and Temporal'!$B$6:$J$101,9,FALSE)) | AS79: =IF(AR79="","",VLOOKUP(AR79,'12. Lists'!$I$47:$K$80,3,FALSE)) | AT79: =IF(D79="","",VLOOKUP(F79,'11. Condition and Temporal'!$B$6:$K$104,10,FALSE)) | AU79: =IF(AT79="","",VLOOKUP(AT79,'12. Lists'!$I$47:$K$80,3,FALSE)) | AV79: =IF(D79="","",VLOOKUP(F79,'10. All Habitats + Multipliers'!$C$4:$K$99,8,FALSE)) | AW79: =IF(AV79="","",VLOOKUP(AV79,'12. Lists'!$J$35:$K$38,2,FALSE)) | AX79: =IF(D79="","",VLOOKUP(D79,'11. Condition and Temporal'!$B$6:$K$101,4,FALSE)) | AY79: =IF(F79="","",IF(D79=F79,"Condition","Distinctivness")) | BA79: 12 | BB79: =TRIM(MID(SUBSTITUTE($AX$68,$BA$64,REPT(" ",LEN($AX$68))),($BA79-1)*LEN($AX$68)+1,LEN($AX$68))) | BC79: =TRIM(MID(SUBSTITUTE($AX$69,$BA$64,REPT(" ",LEN($AX$69))),($BA79-1)*LEN($AX$69)+1,LEN($AX$69))) | BD79: =TRIM(MID(SUBSTITUTE($AX$70,$BA$64,REPT(" ",LEN($AX$70))),($BA79-1)*LEN($AX$70)+1,LEN($AX$70))) | BE79: =TRIM(MID(SUBSTITUTE($AX$71,$BA$64,REPT(" ",LEN($AX$71))),($BA79-1)*LEN($AX$71)+1,LEN($AX$71))) | BF79: =TRIM(MID(SUBSTITUTE($AX$72,$BA$64,REPT(" ",LEN($AX$72))),($BA79-1)*LEN($AX$72)+1,LEN($AX$72))) | BG79: =TRIM(MID(SUBSTITUTE($AX$73,$BA$64,REPT(" ",LEN($AX$73))),($BA79-1)*LEN($AX$73)+1,LEN($AX$73))) | BH79: =TRIM(MID(SUBSTITUTE($AX$74,$BA$64,REPT(" ",LEN($AX$74))),($BA79-1)*LEN($AX$74)+1,LEN($AX$74))) | BI79: =TRIM(MID(SUBSTITUTE($AX$75,$BA$64,REPT(" ",LEN($AX$75))),($BA79-1)*LEN($AX$75)+1,LEN($AX$75))) | BJ79: =TRIM(MID(SUBSTITUTE($AX$76,$BA$64,REPT(" ",LEN($AX$76))),($BA79-1)*LEN($AX$76)+1,LEN($AX$76))) | BK79: =TRIM(MID(SUBSTITUTE($AX$77,$BA$64,REPT(" ",LEN($AX$77))),($BA79-1)*LEN($AX$77)+1,LEN($AX$77))) | BL79: =TRIM(MID(SUBSTITUTE($AX$78,$BA$64,REPT(" ",LEN($AX$78))),($BA79-1)*LEN($AX$78)+1,LEN($AX$78))) | BM79: =TRIM(MID(SUBSTITUTE($AX$79,$BA$64,REPT(" ",LEN($AX$79))),($BA79-1)*LEN($AX$79)+1,LEN($AX$79))) | BN79: =TRIM(MID(SUBSTITUTE($AX$80,$BA$64,REPT(" ",LEN($AX$80))),($BA79-1)*LEN($AX$80)+1,LEN($AX$80))) | BO79: =TRIM(MID(SUBSTITUTE($AX$81,$BA$64,REPT(" ",LEN($AX$81))),($BA79-1)*LEN($AX$81)+1,LEN($AX$81))) | BP79: =TRIM(MID(SUBSTITUTE($AX$82,$BA$64,REPT(" ",LEN($AX$82))),($BA79-1)*LEN($AX$82)+1,LEN($AX$82))) | BQ79: =TRIM(MID(SUBSTITUTE($AX$83,$BA$64,REPT(" ",LEN($AX$83))),($BA79-1)*LEN($AX$83)+1,LEN($AX$83))) | BR79: =TRIM(MID(SUBSTITUTE($AX$84,$BA$64,REPT(" ",LEN($AX$84))),($BA79-1)*LEN($AX$84)+1,LEN($AX$84))) | BS79: =TRIM(MID(SUBSTITUTE($AX$85,$BA$64,REPT(" ",LEN($AX$85))),($BA79-1)*LEN($AX$85)+1,LEN($AX$85))) | BT79: =TRIM(MID(SUBSTITUTE($AX$86,$BA$64,REPT(" ",LEN($AX$86))),($BA79-1)*LEN($AX$86)+1,LEN($AX$86))) | BU79: =TRIM(MID(SUBSTITUTE($AX$87,$BA$64,REPT(" ",LEN($AX$87))),($BA79-1)*LEN($AX$87)+1,LEN($AX$87))) | BV79: =IF(BX79=0,"",CONCATENATE(BW79,"68:",BW79,BX79+67)) | BW79: BM | BX79: =BM66 -> 0
B80: 13 | C80: =IF(D80="","",C23) | D80: =IF(K23="","",D23) | E80: =IF(AY80="","",AY80) | H80: =IF(D80="","",AC80) | I80: =IF(K23="","",K23) | J80: =IF(F80="","",VLOOKUP(F80,'11. Condition and Temporal'!$B$6:$F$101,5,FALSE)) | L80: =IFERROR(IF(D80="","",IF(AY80="Distinctivness",((((I80*AI80*AK80)-(I80*W80*Y80))*(AW80*AU80))+(I80*W80*Y80))*(AN80*AQ80),((((I80*AI80*AK80)-(I80*W80*Y80))*(AW80*AS80))+(I80*W80*Y80))*(AN80*AQ80))/10000),"Value missing") | M80: =IF(F80="","",L80-AE80) | U80: =IF(D80="","",K23) | V80: =IF($D80="","",U23) | W80: =IF($D80="","",V23) | X80: =IF($D80="","",W23) | Y80: =IF($D80="","",X23) | Z80: =IF($D80="","",Y23) | AA80: =IF($D80="","",Z23) | AB80: =IF($D80="","",AA23) | AC80: =IF($D80="","",AB23) | AD80: =IF($D80="","",AD23) | AE80: =IF(AD80="","",(U80*W80*Y80)*(AB80*AD80)/10000) | AF80: =IF(AE80="","",IF(AI80<W80,"Not Acceptable","Acceptable")) | AG80: =IF(D80="","",I80) | AH80: =IF(D80="","",VLOOKUP(F80,'10. All Habitats + Multipliers'!$C$4:$K$99,5,FALSE)) | AI80: =IF(AH80="","",VLOOKUP(AH80,'12. Lists'!$B$47:$D$49,2,FALSE)) | AJ80: =IF(D80="","",J80) | AK80: =IF(AJ80="","",VLOOKUP(AJ80,'12. Lists'!$F$47:$G$51,2,FALSE)) | AL80: =IF(D80="","",VLOOKUP(F80,'10. All Habitats + Multipliers'!$C$4:$K$99,9,FALSE)) | AM80: =IF(AL80="","",VLOOKUP(AL80,'12. Lists'!$B$36:$D$39,2,FALSE)) | AN80: =IF(AL80="","",VLOOKUP(AL80,'12. Lists'!$B$36:$D$39,3,FALSE)) | AO80: =IF(H80="","",H80) | AP80: =IF(AO80="","",VLOOKUP(AO80,'12. Lists'!$F$36:$H$38,2,FALSE)) | AQ80: =IF(AO80="","",VLOOKUP(AO80,'12. Lists'!$F$36:$H$38,3,FALSE)) | AR80: =IF(D80="","",VLOOKUP(F80,'11. Condition and Temporal'!$B$6:$J$101,9,FALSE)) | AS80: =IF(AR80="","",VLOOKUP(AR80,'12. Lists'!$I$47:$K$80,3,FALSE)) | AT80: =IF(D80="","",VLOOKUP(F80,'11. Condition and Temporal'!$B$6:$K$104,10,FALSE)) | AU80: =IF(AT80="","",VLOOKUP(AT80,'12. Lists'!$I$47:$K$80,3,FALSE)) | AV80: =IF(D80="","",VLOOKUP(F80,'10. All Habitats + Multipliers'!$C$4:$K$99,8,FALSE)) | AW80: =IF(AV80="","",VLOOKUP(AV80,'12. Lists'!$J$35:$K$38,2,FALSE)) | AX80: =IF(D80="","",VLOOKUP(D80,'11. Condition and Temporal'!$B$6:$K$101,4,FALSE)) | AY80: =IF(F80="","",IF(D80=F80,"Condition","Distinctivness")) | BA80: 13 | BB80: =TRIM(MID(SUBSTITUTE($AX$68,$BA$64,REPT(" ",LEN($AX$68))),($BA80-1)*LEN($AX$68)+1,LEN($AX$68))) | BC80: =TRIM(MID(SUBSTITUTE($AX$69,$BA$64,REPT(" ",LEN($AX$69))),($BA80-1)*LEN($AX$69)+1,LEN($AX$69))) | BD80: =TRIM(MID(SUBSTITUTE($AX$70,$BA$64,REPT(" ",LEN($AX$70))),($BA80-1)*LEN($AX$70)+1,LEN($AX$70))) | BE80: =TRIM(MID(SUBSTITUTE($AX$71,$BA$64,REPT(" ",LEN($AX$71))),($BA80-1)*LEN($AX$71)+1,LEN($AX$71))) | BF80: =TRIM(MID(SUBSTITUTE($AX$72,$BA$64,REPT(" ",LEN($AX$72))),($BA80-1)*LEN($AX$72)+1,LEN($AX$72))) | BG80: =TRIM(MID(SUBSTITUTE($AX$73,$BA$64,REPT(" ",LEN($AX$73))),($BA80-1)*LEN($AX$73)+1,LEN($AX$73))) | BH80: =TRIM(MID(SUBSTITUTE($AX$74,$BA$64,REPT(" ",LEN($AX$74))),($BA80-1)*LEN($AX$74)+1,LEN($AX$74))) | BI80: =TRIM(MID(SUBSTITUTE($AX$75,$BA$64,REPT(" ",LEN($AX$75))),($BA80-1)*LEN($AX$75)+1,LEN($AX$75))) | BJ80: =TRIM(MID(SUBSTITUTE($AX$76,$BA$64,REPT(" ",LEN($AX$76))),($BA80-1)*LEN($AX$76)+1,LEN($AX$76))) | BK80: =TRIM(MID(SUBSTITUTE($AX$77,$BA$64,REPT(" ",LEN($AX$77))),($BA80-1)*LEN($AX$77)+1,LEN($AX$77))) | BL80: =TRIM(MID(SUBSTITUTE($AX$78,$BA$64,REPT(" ",LEN($AX$78))),($BA80-1)*LEN($AX$78)+1,LEN($AX$78))) | BM80: =TRIM(MID(SUBSTITUTE($AX$79,$BA$64,REPT(" ",LEN($AX$79))),($BA80-1)*LEN($AX$79)+1,LEN($AX$79))) | BN80: =TRIM(MID(SUBSTITUTE($AX$80,$BA$64,REPT(" ",LEN($AX$80))),($BA80-1)*LEN($AX$80)+1,LEN($AX$80))) | BO80: =TRIM(MID(SUBSTITUTE($AX$81,$BA$64,REPT(" ",LEN($AX$81))),($BA80-1)*LEN($AX$81)+1,LEN($AX$81))) | BP80: =TRIM(MID(SUBSTITUTE($AX$82,$BA$64,REPT(" ",LEN($AX$82))),($BA80-1)*LEN($AX$82)+1,LEN($AX$82))) | BQ80: =TRIM(MID(SUBSTITUTE($AX$83,$BA$64,REPT(" ",LEN($AX$83))),($BA80-1)*LEN($AX$83)+1,LEN($AX$83))) | BR80: =TRIM(MID(SUBSTITUTE($AX$84,$BA$64,REPT(" ",LEN($AX$84))),($BA80-1)*LEN($AX$84)+1,LEN($AX$84))) | BS80: =TRIM(MID(SUBSTITUTE($AX$85,$BA$64,REPT(" ",LEN($AX$85))),($BA80-1)*LEN($AX$85)+1,LEN($AX$85))) | BT80: =TRIM(MID(SUBSTITUTE($AX$86,$BA$64,REPT(" ",LEN($AX$86))),($BA80-1)*LEN($AX$86)+1,LEN($AX$86))) | BU80: =TRIM(MID(SUBSTITUTE($AX$87,$BA$64,REPT(" ",LEN($AX$87))),($BA80-1)*LEN($AX$87)+1,LEN($AX$87))) | BV80: =IF(BX80=0,"",CONCATENATE(BW80,"68:",BW80,BX80+67)) | BW80: BN | BX80: =BN66 -> 0
B81: 14 | C81: =IF(D81="","",C24) | D81: =IF(K24="","",D24) | E81: =IF(AY81="","",AY81) | H81: =IF(D81="","",AC81) | I81: =IF(K24="","",K24) | J81: =IF(F81="","",VLOOKUP(F81,'11. Condition and Temporal'!$B$6:$F$101,5,FALSE)) | L81: =IFERROR(IF(D81="","",IF(AY81="Distinctivness",((((I81*AI81*AK81)-(I81*W81*Y81))*(AW81*AU81))+(I81*W81*Y81))*(AN81*AQ81),((((I81*AI81*AK81)-(I81*W81*Y81))*(AW81*AS81))+(I81*W81*Y81))*(AN81*AQ81))/10000),"Value missing") | M81: =IF(F81="","",L81-AE81) | U81: =IF(D81="","",K24) | V81: =IF($D81="","",U24) | W81: =IF($D81="","",V24) | X81: =IF($D81="","",W24) | Y81: =IF($D81="","",X24) | Z81: =IF($D81="","",Y24) | AA81: =IF($D81="","",Z24) | AB81: =IF($D81="","",AA24) | AC81: =IF($D81="","",AB24) | AD81: =IF($D81="","",AD24) | AE81: =IF(AD81="","",(U81*W81*Y81)*(AB81*AD81)/10000) | AF81: =IF(AE81="","",IF(AI81<W81,"Not Acceptable","Acceptable")) | AG81: =IF(D81="","",I81) | AH81: =IF(D81="","",VLOOKUP(F81,'10. All Habitats + Multipliers'!$C$4:$K$99,5,FALSE)) | AI81: =IF(AH81="","",VLOOKUP(AH81,'12. Lists'!$B$47:$D$49,2,FALSE)) | AJ81: =IF(D81="","",J81) | AK81: =IF(AJ81="","",VLOOKUP(AJ81,'12. Lists'!$F$47:$G$51,2,FALSE)) | AL81: =IF(D81="","",VLOOKUP(F81,'10. All Habitats + Multipliers'!$C$4:$K$99,9,FALSE)) | AM81: =IF(AL81="","",VLOOKUP(AL81,'12. Lists'!$B$36:$D$39,2,FALSE)) | AN81: =IF(AL81="","",VLOOKUP(AL81,'12. Lists'!$B$36:$D$39,3,FALSE)) | AO81: =IF(H81="","",H81) | AP81: =IF(AO81="","",VLOOKUP(AO81,'12. Lists'!$F$36:$H$38,2,FALSE)) | AQ81: =IF(AO81="","",VLOOKUP(AO81,'12. Lists'!$F$36:$H$38,3,FALSE)) | AR81: =IF(D81="","",VLOOKUP(F81,'11. Condition and Temporal'!$B$6:$J$101,9,FALSE)) | AS81: =IF(AR81="","",VLOOKUP(AR81,'12. Lists'!$I$47:$K$80,3,FALSE)) | AT81: =IF(D81="","",VLOOKUP(F81,'11. Condition and Temporal'!$B$6:$K$104,10,FALSE)) | AU81: =IF(AT81="","",VLOOKUP(AT81,'12. Lists'!$I$47:$K$80,3,FALSE)) | AV81: =IF(D81="","",VLOOKUP(F81,'10. All Habitats + Multipliers'!$C$4:$K$99,8,FALSE)) | AW81: =IF(AV81="","",VLOOKUP(AV81,'12. Lists'!$J$35:$K$38,2,FALSE)) | AX81: =IF(D81="","",VLOOKUP(D81,'11. Condition and Temporal'!$B$6:$K$101,4,FALSE)) | AY81: =IF(F81="","",IF(D81=F81,"Condition","Distinctivness")) | BA81: 14 | BB81: =TRIM(MID(SUBSTITUTE($AX$68,$BA$64,REPT(" ",LEN($AX$68))),($BA81-1)*LEN($AX$68)+1,LEN($AX$68))) | BC81: =TRIM(MID(SUBSTITUTE($AX$69,$BA$64,REPT(" ",LEN($AX$69))),($BA81-1)*LEN($AX$69)+1,LEN($AX$69))) | BD81: =TRIM(MID(SUBSTITUTE($AX$70,$BA$64,REPT(" ",LEN($AX$70))),($BA81-1)*LEN($AX$70)+1,LEN($AX$70))) | BE81: =TRIM(MID(SUBSTITUTE($AX$71,$BA$64,REPT(" ",LEN($AX$71))),($BA81-1)*LEN($AX$71)+1,LEN($AX$71))) | BF81: =TRIM(MID(SUBSTITUTE($AX$72,$BA$64,REPT(" ",LEN($AX$72))),($BA81-1)*LEN($AX$72)+1,LEN($AX$72))) | BG81: =TRIM(MID(SUBSTITUTE($AX$73,$BA$64,REPT(" ",LEN($AX$73))),($BA81-1)*LEN($AX$73)+1,LEN($AX$73))) | BH81: =TRIM(MID(SUBSTITUTE($AX$74,$BA$64,REPT(" ",LEN($AX$74))),($BA81-1)*LEN($AX$74)+1,LEN($AX$74))) | BI81: =TRIM(MID(SUBSTITUTE($AX$75,$BA$64,REPT(" ",LEN($AX$75))),($BA81-1)*LEN($AX$75)+1,LEN($AX$75))) | BJ81: =TRIM(MID(SUBSTITUTE($AX$76,$BA$64,REPT(" ",LEN($AX$76))),($BA81-1)*LEN($AX$76)+1,LEN($AX$76))) | BK81: =TRIM(MID(SUBSTITUTE($AX$77,$BA$64,REPT(" ",LEN($AX$77))),($BA81-1)*LEN($AX$77)+1,LEN($AX$77))) | BL81: =TRIM(MID(SUBSTITUTE($AX$78,$BA$64,REPT(" ",LEN($AX$78))),($BA81-1)*LEN($AX$78)+1,LEN($AX$78))) | BM81: =TRIM(MID(SUBSTITUTE($AX$79,$BA$64,REPT(" ",LEN($AX$79))),($BA81-1)*LEN($AX$79)+1,LEN($AX$79))) | BN81: =TRIM(MID(SUBSTITUTE($AX$80,$BA$64,REPT(" ",LEN($AX$80))),($BA81-1)*LEN($AX$80)+1,LEN($AX$80))) | BO81: =TRIM(MID(SUBSTITUTE($AX$81,$BA$64,REPT(" ",LEN($AX$81))),($BA81-1)*LEN($AX$81)+1,LEN($AX$81))) | BP81: =TRIM(MID(SUBSTITUTE($AX$82,$BA$64,REPT(" ",LEN($AX$82))),($BA81-1)*LEN($AX$82)+1,LEN($AX$82))) | BQ81: =TRIM(MID(SUBSTITUTE($AX$83,$BA$64,REPT(" ",LEN($AX$83))),($BA81-1)*LEN($AX$83)+1,LEN($AX$83))) | BR81: =TRIM(MID(SUBSTITUTE($AX$84,$BA$64,REPT(" ",LEN($AX$84))),($BA81-1)*LEN($AX$84)+1,LEN($AX$84))) | BS81: =TRIM(MID(SUBSTITUTE($AX$85,$BA$64,REPT(" ",LEN($AX$85))),($BA81-1)*LEN($AX$85)+1,LEN($AX$85))) | BT81: =TRIM(MID(SUBSTITUTE($AX$86,$BA$64,REPT(" ",LEN($AX$86))),($BA81-1)*LEN($AX$86)+1,LEN($AX$86))) | BU81: =TRIM(MID(SUBSTITUTE($AX$87,$BA$64,REPT(" ",LEN($AX$87))),($BA81-1)*LEN($AX$87)+1,LEN($AX$87))) | BV81: =IF(BX81=0,"",CONCATENATE(BW81,"68:",BW81,BX81+67)) | BW81: BO | BX81: =BO66 -> 0
B82: 15 | C82: =IF(D82="","",C25) | D82: =IF(K25="","",D25) | E82: =IF(AY82="","",AY82) | H82: =IF(D82="","",AC82) | I82: =IF(K25="","",K25) | J82: =IF(F82="","",VLOOKUP(F82,'11. Condition and Temporal'!$B$6:$F$101,5,FALSE)) | L82: =IFERROR(IF(D82="","",IF(AY82="Distinctivness",((((I82*AI82*AK82)-(I82*W82*Y82))*(AW82*AU82))+(I82*W82*Y82))*(AN82*AQ82),((((I82*AI82*AK82)-(I82*W82*Y82))*(AW82*AS82))+(I82*W82*Y82))*(AN82*AQ82))/10000),"Value missing") | M82: =IF(F82="","",L82-AE82) | U82: =IF(D82="","",K25) | V82: =IF($D82="","",U25) | W82: =IF($D82="","",V25) | X82: =IF($D82="","",W25) | Y82: =IF($D82="","",X25) | Z82: =IF($D82="","",Y25) | AA82: =IF($D82="","",Z25) | AB82: =IF($D82="","",AA25) | AC82: =IF($D82="","",AB25) | AD82: =IF($D82="","",AD25) | AE82: =IF(AD82="","",(U82*W82*Y82)*(AB82*AD82)/10000) | AF82: =IF(AE82="","",IF(AI82<W82,"Not Acceptable","Acceptable")) | AG82: =IF(D82="","",I82) | AH82: =IF(D82="","",VLOOKUP(F82,'10. All Habitats + Multipliers'!$C$4:$K$99,5,FALSE)) | AI82: =IF(AH82="","",VLOOKUP(AH82,'12. Lists'!$B$47:$D$49,2,FALSE)) | AJ82: =IF(D82="","",J82) | AK82: =IF(AJ82="","",VLOOKUP(AJ82,'12. Lists'!$F$47:$G$51,2,FALSE)) | AL82: =IF(D82="","",VLOOKUP(F82,'10. All Habitats + Multipliers'!$C$4:$K$99,9,FALSE)) | AM82: =IF(AL82="","",VLOOKUP(AL82,'12. Lists'!$B$36:$D$39,2,FALSE)) | AN82: =IF(AL82="","",VLOOKUP(AL82,'12. Lists'!$B$36:$D$39,3,FALSE)) | AO82: =IF(H82="","",H82) | AP82: =IF(AO82="","",VLOOKUP(AO82,'12. Lists'!$F$36:$H$38,2,FALSE)) | AQ82: =IF(AO82="","",VLOOKUP(AO82,'12. Lists'!$F$36:$H$38,3,FALSE)) | AR82: =IF(D82="","",VLOOKUP(F82,'11. Condition and Temporal'!$B$6:$J$101,9,FALSE)) | AS82: =IF(AR82="","",VLOOKUP(AR82,'12. Lists'!$I$47:$K$80,3,FALSE)) | AT82: =IF(D82="","",VLOOKUP(F82,'11. Condition and Temporal'!$B$6:$K$104,10,FALSE)) | AU82: =IF(AT82="","",VLOOKUP(AT82,'12. Lists'!$I$47:$K$80,3,FALSE)) | AV82: =IF(D82="","",VLOOKUP(F82,'10. All Habitats + Multipliers'!$C$4:$K$99,8,FALSE)) | AW82: =IF(AV82="","",VLOOKUP(AV82,'12. Lists'!$J$35:$K$38,2,FALSE)) | AX82: =IF(D82="","",VLOOKUP(D82,'11. Condition and Temporal'!$B$6:$K$101,4,FALSE)) | AY82: =IF(F82="","",IF(D82=F82,"Condition","Distinctivness")) | BA82: 15 | BB82: =TRIM(MID(SUBSTITUTE($AX$68,$BA$64,REPT(" ",LEN($AX$68))),($BA82-1)*LEN($AX$68)+1,LEN($AX$68))) | BC82: =TRIM(MID(SUBSTITUTE($AX$69,$BA$64,REPT(" ",LEN($AX$69))),($BA82-1)*LEN($AX$69)+1,LEN($AX$69))) | BD82: =TRIM(MID(SUBSTITUTE($AX$70,$BA$64,REPT(" ",LEN($AX$70))),($BA82-1)*LEN($AX$70)+1,LEN($AX$70))) | BE82: =TRIM(MID(SUBSTITUTE($AX$71,$BA$64,REPT(" ",LEN($AX$71))),($BA82-1)*LEN($AX$71)+1,LEN($AX$71))) | BF82: =TRIM(MID(SUBSTITUTE($AX$72,$BA$64,REPT(" ",LEN($AX$72))),($BA82-1)*LEN($AX$72)+1,LEN($AX$72))) | BG82: =TRIM(MID(SUBSTITUTE($AX$73,$BA$64,REPT(" ",LEN($AX$73))),($BA82-1)*LEN($AX$73)+1,LEN($AX$73))) | BH82: =TRIM(MID(SUBSTITUTE($AX$74,$BA$64,REPT(" ",LEN($AX$74))),($BA82-1)*LEN($AX$74)+1,LEN($AX$74))) | BI82: =TRIM(MID(SUBSTITUTE($AX$75,$BA$64,REPT(" ",LEN($AX$75))),($BA82-1)*LEN($AX$75)+1,LEN($AX$75))) | BJ82: =TRIM(MID(SUBSTITUTE($AX$76,$BA$64,REPT(" ",LEN($AX$76))),($BA82-1)*LEN($AX$76)+1,LEN($AX$76))) | BK82: =TRIM(MID(SUBSTITUTE($AX$77,$BA$64,REPT(" ",LEN($AX$77))),($BA82-1)*LEN($AX$77)+1,LEN($AX$77))) | BL82: =TRIM(MID(SUBSTITUTE($AX$78,$BA$64,REPT(" ",LEN($AX$78))),($BA82-1)*LEN($AX$78)+1,LEN($AX$78))) | BM82: =TRIM(MID(SUBSTITUTE($AX$79,$BA$64,REPT(" ",LEN($AX$79))),($BA82-1)*LEN($AX$79)+1,LEN($AX$79))) | BN82: =TRIM(MID(SUBSTITUTE($AX$80,$BA$64,REPT(" ",LEN($AX$80))),($BA82-1)*LEN($AX$80)+1,LEN($AX$80))) | BO82: =TRIM(MID(SUBSTITUTE($AX$81,$BA$64,REPT(" ",LEN($AX$81))),($BA82-1)*LEN($AX$81)+1,LEN($AX$81))) | BP82: =TRIM(MID(SUBSTITUTE($AX$82,$BA$64,REPT(" ",LEN($AX$82))),($BA82-1)*LEN($AX$82)+1,LEN($AX$82))) | BQ82: =TRIM(MID(SUBSTITUTE($AX$83,$BA$64,REPT(" ",LEN($AX$83))),($BA82-1)*LEN($AX$83)+1,LEN($AX$83))) | BR82: =TRIM(MID(SUBSTITUTE($AX$84,$BA$64,REPT(" ",LEN($AX$84))),($BA82-1)*LEN($AX$84)+1,LEN($AX$84))) | BS82: =TRIM(MID(SUBSTITUTE($AX$85,$BA$64,REPT(" ",LEN($AX$85))),($BA82-1)*LEN($AX$85)+1,LEN($AX$85))) | BT82: =TRIM(MID(SUBSTITUTE($AX$86,$BA$64,REPT(" ",LEN($AX$86))),($BA82-1)*LEN($AX$86)+1,LEN($AX$86))) | BU82: =TRIM(MID(SUBSTITUTE($AX$87,$BA$64,REPT(" ",LEN($AX$87))),($BA82-1)*LEN($AX$87)+1,LEN($AX$87))) | BV82: =IF(BX82=0,"",CONCATENATE(BW82,"68:",BW82,BX82+67)) | BW82: BP | BX82: =BP66 -> 0
B83: 16 | C83: =IF(D83="","",C26) | D83: =IF(K26="","",D26) | E83: =IF(AY83="","",AY83) | H83: =IF(D83="","",AC83) | I83: =IF(K26="","",K26) | J83: =IF(F83="","",VLOOKUP(F83,'11. Condition and Temporal'!$B$6:$F$101,5,FALSE)) | L83: =IFERROR(IF(D83="","",IF(AY83="Distinctivness",((((I83*AI83*AK83)-(I83*W83*Y83))*(AW83*AU83))+(I83*W83*Y83))*(AN83*AQ83),((((I83*AI83*AK83)-(I83*W83*Y83))*(AW83*AS83))+(I83*W83*Y83))*(AN83*AQ83))/10000),"Value missing") | M83: =IF(F83="","",L83-AE83) | U83: =IF(D83="","",K26) | V83: =IF($D83="","",U26) | W83: =IF($D83="","",V26) | X83: =IF($D83="","",W26) | Y83: =IF($D83="","",X26) | Z83: =IF($D83="","",Y26) | AA83: =IF($D83="","",Z26) | AB83: =IF($D83="","",AA26) | AC83: =IF($D83="","",AB26) | AD83: =IF($D83="","",AD26) | AE83: =IF(AD83="","",(U83*W83*Y83)*(AB83*AD83)/10000) | AF83: =IF(AE83="","",IF(AI83<W83,"Not Acceptable","Acceptable")) | AG83: =IF(D83="","",I83) | AH83: =IF(D83="","",VLOOKUP(F83,'10. All Habitats + Multipliers'!$C$4:$K$99,5,FALSE)) | AI83: =IF(AH83="","",VLOOKUP(AH83,'12. Lists'!$B$47:$D$49,2,FALSE)) | AJ83: =IF(D83="","",J83) | AK83: =IF(AJ83="","",VLOOKUP(AJ83,'12. Lists'!$F$47:$G$51,2,FALSE)) | AL83: =IF(D83="","",VLOOKUP(F83,'10. All Habitats + Multipliers'!$C$4:$K$99,9,FALSE)) | AM83: =IF(AL83="","",VLOOKUP(AL83,'12. Lists'!$B$36:$D$39,2,FALSE)) | AN83: =IF(AL83="","",VLOOKUP(AL83,'12. Lists'!$B$36:$D$39,3,FALSE)) | AO83: =IF(H83="","",H83) | AP83: =IF(AO83="","",VLOOKUP(AO83,'12. Lists'!$F$36:$H$38,2,FALSE)) | AQ83: =IF(AO83="","",VLOOKUP(AO83,'12. Lists'!$F$36:$H$38,3,FALSE)) | AR83: =IF(D83="","",VLOOKUP(F83,'11. Condition and Temporal'!$B$6:$J$101,9,FALSE)) | AS83: =IF(AR83="","",VLOOKUP(AR83,'12. Lists'!$I$47:$K$80,3,FALSE)) | AT83: =IF(D83="","",VLOOKUP(F83,'11. Condition and Temporal'!$B$6:$K$104,10,FALSE)) | AU83: =IF(AT83="","",VLOOKUP(AT83,'12. Lists'!$I$47:$K$80,3,FALSE)) | AV83: =IF(D83="","",VLOOKUP(F83,'10. All Habitats + Multipliers'!$C$4:$K$99,8,FALSE)) | AW83: =IF(AV83="","",VLOOKUP(AV83,'12. Lists'!$J$35:$K$38,2,FALSE)) | AX83: =IF(D83="","",VLOOKUP(D83,'11. Condition and Temporal'!$B$6:$K$101,4,FALSE)) | AY83: =IF(F83="","",IF(D83=F83,"Condition","Distinctivness")) | BA83: 16 | BB83: =TRIM(MID(SUBSTITUTE($AX$68,$BA$64,REPT(" ",LEN($AX$68))),($BA83-1)*LEN($AX$68)+1,LEN($AX$68))) | BC83: =TRIM(MID(SUBSTITUTE($AX$69,$BA$64,REPT(" ",LEN($AX$69))),($BA83-1)*LEN($AX$69)+1,LEN($AX$69))) | BD83: =TRIM(MID(SUBSTITUTE($AX$70,$BA$64,REPT(" ",LEN($AX$70))),($BA83-1)*LEN($AX$70)+1,LEN($AX$70))) | BE83: =TRIM(MID(SUBSTITUTE($AX$71,$BA$64,REPT(" ",LEN($AX$71))),($BA83-1)*LEN($AX$71)+1,LEN($AX$71))) | BF83: =TRIM(MID(SUBSTITUTE($AX$72,$BA$64,REPT(" ",LEN($AX$72))),($BA83-1)*LEN($AX$72)+1,LEN($AX$72))) | BG83: =TRIM(MID(SUBSTITUTE($AX$73,$BA$64,REPT(" ",LEN($AX$73))),($BA83-1)*LEN($AX$73)+1,LEN($AX$73))) | BH83: =TRIM(MID(SUBSTITUTE($AX$74,$BA$64,REPT(" ",LEN($AX$74))),($BA83-1)*LEN($AX$74)+1,LEN($AX$74))) | BI83: =TRIM(MID(SUBSTITUTE($AX$75,$BA$64,REPT(" ",LEN($AX$75))),($BA83-1)*LEN($AX$75)+1,LEN($AX$75))) | BJ83: =TRIM(MID(SUBSTITUTE($AX$76,$BA$64,REPT(" ",LEN($AX$76))),($BA83-1)*LEN($AX$76)+1,LEN($AX$76))) | BK83: =TRIM(MID(SUBSTITUTE($AX$77,$BA$64,REPT(" ",LEN($AX$77))),($BA83-1)*LEN($AX$77)+1,LEN($AX$77))) | BL83: =TRIM(MID(SUBSTITUTE($AX$78,$BA$64,REPT(" ",LEN($AX$78))),($BA83-1)*LEN($AX$78)+1,LEN($AX$78))) | BM83: =TRIM(MID(SUBSTITUTE($AX$79,$BA$64,REPT(" ",LEN($AX$79))),($BA83-1)*LEN($AX$79)+1,LEN($AX$79))) | BN83: =TRIM(MID(SUBSTITUTE($AX$80,$BA$64,REPT(" ",LEN($AX$80))),($BA83-1)*LEN($AX$80)+1,LEN($AX$80))) | BO83: =TRIM(MID(SUBSTITUTE($AX$81,$BA$64,REPT(" ",LEN($AX$81))),($BA83-1)*LEN($AX$81)+1,LEN($AX$81))) | BP83: =TRIM(MID(SUBSTITUTE($AX$82,$BA$64,REPT(" ",LEN($AX$82))),($BA83-1)*LEN($AX$82)+1,LEN($AX$82))) | BQ83: =TRIM(MID(SUBSTITUTE($AX$83,$BA$64,REPT(" ",LEN($AX$83))),($BA83-1)*LEN($AX$83)+1,LEN($AX$83))) | BR83: =TRIM(MID(SUBSTITUTE($AX$84,$BA$64,REPT(" ",LEN($AX$84))),($BA83-1)*LEN($AX$84)+1,LEN($AX$84))) | BS83: =TRIM(MID(SUBSTITUTE($AX$85,$BA$64,REPT(" ",LEN($AX$85))),($BA83-1)*LEN($AX$85)+1,LEN($AX$85))) | BT83: =TRIM(MID(SUBSTITUTE($AX$86,$BA$64,REPT(" ",LEN($AX$86))),($BA83-1)*LEN($AX$86)+1,LEN($AX$86))) | BU83: =TRIM(MID(SUBSTITUTE($AX$87,$BA$64,REPT(" ",LEN($AX$87))),($BA83-1)*LEN($AX$87)+1,LEN($AX$87))) | BV83: =IF(BX83=0,"",CONCATENATE(BW83,"68:",BW83,BX83+67)) | BW83: BQ | BX83: =BQ66 -> 0
B84: 17 | C84: =IF(D84="","",C27) | D84: =IF(K27="","",D27) | E84: =IF(AY84="","",AY84) | H84: =IF(D84="","",AC84) | I84: =IF(K27="","",K27) | J84: =IF(F84="","",VLOOKUP(F84,'11. Condition and Temporal'!$B$6:$F$101,5,FALSE)) | L84: =IFERROR(IF(D84="","",IF(AY84="Distinctivness",((((I84*AI84*AK84)-(I84*W84*Y84))*(AW84*AU84))+(I84*W84*Y84))*(AN84*AQ84),((((I84*AI84*AK84)-(I84*W84*Y84))*(AW84*AS84))+(I84*W84*Y84))*(AN84*AQ84))/10000),"Value missing") | M84: =IF(F84="","",L84-AE84) | U84: =IF(D84="","",K27) | V84: =IF($D84="","",U27) | W84: =IF($D84="","",V27) | X84: =IF($D84="","",W27) | Y84: =IF($D84="","",X27) | Z84: =IF($D84="","",Y27) | AA84: =IF($D84="","",Z27) | AB84: =IF($D84="","",AA27) | AC84: =IF($D84="","",AB27) | AD84: =IF($D84="","",AD27) | AE84: =IF(AD84="","",(U84*W84*Y84)*(AB84*AD84)/10000) | AF84: =IF(AE84="","",IF(AI84<W84,"Not Acceptable","Acceptable")) | AG84: =IF(D84="","",I84) | AH84: =IF(D84="","",VLOOKUP(F84,'10. All Habitats + Multipliers'!$C$4:$K$99,5,FALSE)) | AI84: =IF(AH84="","",VLOOKUP(AH84,'12. Lists'!$B$47:$D$49,2,FALSE)) | AJ84: =IF(D84="","",J84) | AK84: =IF(AJ84="","",VLOOKUP(AJ84,'12. Lists'!$F$47:$G$51,2,FALSE)) | AL84: =IF(D84="","",VLOOKUP(F84,'10. All Habitats + Multipliers'!$C$4:$K$99,9,FALSE)) | AM84: =IF(AL84="","",VLOOKUP(AL84,'12. Lists'!$B$36:$D$39,2,FALSE)) | AN84: =IF(AL84="","",VLOOKUP(AL84,'12. Lists'!$B$36:$D$39,3,FALSE)) | AO84: =IF(H84="","",H84) | AP84: =IF(AO84="","",VLOOKUP(AO84,'12. Lists'!$F$36:$H$38,2,FALSE)) | AQ84: =IF(AO84="","",VLOOKUP(AO84,'12. Lists'!$F$36:$H$38,3,FALSE)) | AR84: =IF(D84="","",VLOOKUP(F84,'11. Condition and Temporal'!$B$6:$J$101,9,FALSE)) | AS84: =IF(AR84="","",VLOOKUP(AR84,'12. Lists'!$I$47:$K$80,3,FALSE)) | AT84: =IF(D84="","",VLOOKUP(F84,'11. Condition and Temporal'!$B$6:$K$104,10,FALSE)) | AU84: =IF(AT84="","",VLOOKUP(AT84,'12. Lists'!$I$47:$K$80,3,FALSE)) | AV84: =IF(D84="","",VLOOKUP(F84,'10. All Habitats + Multipliers'!$C$4:$K$99,8,FALSE)) | AW84: =IF(AV84="","",VLOOKUP(AV84,'12. Lists'!$J$35:$K$38,2,FALSE)) | AX84: =IF(D84="","",VLOOKUP(D84,'11. Condition and Temporal'!$B$6:$K$101,4,FALSE)) | AY84: =IF(F84="","",IF(D84=F84,"Condition","Distinctivness")) | BA84: 17 | BB84: =TRIM(MID(SUBSTITUTE($AX$68,$BA$64,REPT(" ",LEN($AX$68))),($BA84-1)*LEN($AX$68)+1,LEN($AX$68))) | BC84: =TRIM(MID(SUBSTITUTE($AX$69,$BA$64,REPT(" ",LEN($AX$69))),($BA84-1)*LEN($AX$69)+1,LEN($AX$69))) | BD84: =TRIM(MID(SUBSTITUTE($AX$70,$BA$64,REPT(" ",LEN($AX$70))),($BA84-1)*LEN($AX$70)+1,LEN($AX$70))) | BE84: =TRIM(MID(SUBSTITUTE($AX$71,$BA$64,REPT(" ",LEN($AX$71))),($BA84-1)*LEN($AX$71)+1,LEN($AX$71))) | BF84: =TRIM(MID(SUBSTITUTE($AX$72,$BA$64,REPT(" ",LEN($AX$72))),($BA84-1)*LEN($AX$72)+1,LEN($AX$72))) | BG84: =TRIM(MID(SUBSTITUTE($AX$73,$BA$64,REPT(" ",LEN($AX$73))),($BA84-1)*LEN($AX$73)+1,LEN($AX$73))) | BH84: =TRIM(MID(SUBSTITUTE($AX$74,$BA$64,REPT(" ",LEN($AX$74))),($BA84-1)*LEN($AX$74)+1,LEN($AX$74))) | BI84: =TRIM(MID(SUBSTITUTE($AX$75,$BA$64,REPT(" ",LEN($AX$75))),($BA84-1)*LEN($AX$75)+1,LEN($AX$75))) | BJ84: =TRIM(MID(SUBSTITUTE($AX$76,$BA$64,REPT(" ",LEN($AX$76))),($BA84-1)*LEN($AX$76)+1,LEN($AX$76))) | BK84: =TRIM(MID(SUBSTITUTE($AX$77,$BA$64,REPT(" ",LEN($AX$77))),($BA84-1)*LEN($AX$77)+1,LEN($AX$77))) | BL84: =TRIM(MID(SUBSTITUTE($AX$78,$BA$64,REPT(" ",LEN($AX$78))),($BA84-1)*LEN($AX$78)+1,LEN($AX$78))) | BM84: =TRIM(MID(SUBSTITUTE($AX$79,$BA$64,REPT(" ",LEN($AX$79))),($BA84-1)*LEN($AX$79)+1,LEN($AX$79))) | BN84: =TRIM(MID(SUBSTITUTE($AX$80,$BA$64,REPT(" ",LEN($AX$80))),($BA84-1)*LEN($AX$80)+1,LEN($AX$80))) | BO84: =TRIM(MID(SUBSTITUTE($AX$81,$BA$64,REPT(" ",LEN($AX$81))),($BA84-1)*LEN($AX$81)+1,LEN($AX$81))) | BP84: =TRIM(MID(SUBSTITUTE($AX$82,$BA$64,REPT(" ",LEN($AX$82))),($BA84-1)*LEN($AX$82)+1,LEN($AX$82))) | BQ84: =TRIM(MID(SUBSTITUTE($AX$83,$BA$64,REPT(" ",LEN($AX$83))),($BA84-1)*LEN($AX$83)+1,LEN($AX$83))) | BR84: =TRIM(MID(SUBSTITUTE($AX$84,$BA$64,REPT(" ",LEN($AX$84))),($BA84-1)*LEN($AX$84)+1,LEN($AX$84))) | BS84: =TRIM(MID(SUBSTITUTE($AX$85,$BA$64,REPT(" ",LEN($AX$85))),($BA84-1)*LEN($AX$85)+1,LEN($AX$85))) | BT84: =TRIM(MID(SUBSTITUTE($AX$86,$BA$64,REPT(" ",LEN($AX$86))),($BA84-1)*LEN($AX$86)+1,LEN($AX$86))) | BU84: =TRIM(MID(SUBSTITUTE($AX$87,$BA$64,REPT(" ",LEN($AX$87))),($BA84-1)*LEN($AX$87)+1,LEN($AX$87))) | BV84: =IF(BX84=0,"",CONCATENATE(BW84,"68:",BW84,BX84+67)) | BW84: BR | BX84: =BR66 -> 0
B85: 18 | C85: =IF(D85="","",C28) | D85: =IF(K28="","",D28) | E85: =IF(AY85="","",AY85) | H85: =IF(D85="","",AC85) | I85: =IF(K28="","",K28) | J85: =IF(F85="","",VLOOKUP(F85,'11. Condition and Temporal'!$B$6:$F$101,5,FALSE)) | L85: =IFERROR(IF(D85="","",IF(AY85="Distinctivness",((((I85*AI85*AK85)-(I85*W85*Y85))*(AW85*AU85))+(I85*W85*Y85))*(AN85*AQ85),((((I85*AI85*AK85)-(I85*W85*Y85))*(AW85*AS85))+(I85*W85*Y85))*(AN85*AQ85))/10000),"Value missing") | M85: =IF(F85="","",L85-AE85) | U85: =IF(D85="","",K28) | V85: =IF($D85="","",U28) | W85: =IF($D85="","",V28) | X85: =IF($D85="","",W28) | Y85: =IF($D85="","",X28) | Z85: =IF($D85="","",Y28) | AA85: =IF($D85="","",Z28) | AB85: =IF($D85="","",AA28) | AC85: =IF($D85="","",AB28) | AD85: =IF($D85="","",AD28) | AE85: =IF(AD85="","",(U85*W85*Y85)*(AB85*AD85)/10000) | AF85: =IF(AE85="","",IF(AI85<W85,"Not Acceptable","Acceptable")) | AG85: =IF(D85="","",I85) | AH85: =IF(D85="","",VLOOKUP(F85,'10. All Habitats + Multipliers'!$C$4:$K$99,5,FALSE)) | AI85: =IF(AH85="","",VLOOKUP(AH85,'12. Lists'!$B$47:$D$49,2,FALSE)) | AJ85: =IF(D85="","",J85) | AK85: =IF(AJ85="","",VLOOKUP(AJ85,'12. Lists'!$F$47:$G$51,2,FALSE)) | AL85: =IF(D85="","",VLOOKUP(F85,'10. All Habitats + Multipliers'!$C$4:$K$99,9,FALSE)) | AM85: =IF(AL85="","",VLOOKUP(AL85,'12. Lists'!$B$36:$D$39,2,FALSE)) | AN85: =IF(AL85="","",VLOOKUP(AL85,'12. Lists'!$B$36:$D$39,3,FALSE)) | AO85: =IF(H85="","",H85) | AP85: =IF(AO85="","",VLOOKUP(AO85,'12. Lists'!$F$36:$H$38,2,FALSE)) | AQ85: =IF(AO85="","",VLOOKUP(AO85,'12. Lists'!$F$36:$H$38,3,FALSE)) | AR85: =IF(D85="","",VLOOKUP(F85,'11. Condition and Temporal'!$B$6:$J$101,9,FALSE)) | AS85: =IF(AR85="","",VLOOKUP(AR85,'12. Lists'!$I$47:$K$80,3,FALSE)) | AT85: =IF(D85="","",VLOOKUP(F85,'11. Condition and Temporal'!$B$6:$K$104,10,FALSE)) | AU85: =IF(AT85="","",VLOOKUP(AT85,'12. Lists'!$I$47:$K$80,3,FALSE)) | AV85: =IF(D85="","",VLOOKUP(F85,'10. All Habitats + Multipliers'!$C$4:$K$99,8,FALSE)) | AW85: =IF(AV85="","",VLOOKUP(AV85,'12. Lists'!$J$35:$K$38,2,FALSE)) | AX85: =IF(D85="","",VLOOKUP(D85,'11. Condition and Temporal'!$B$6:$K$101,4,FALSE)) | AY85: =IF(F85="","",IF(D85=F85,"Condition","Distinctivness")) | BA85: 18 | BB85: =TRIM(MID(SUBSTITUTE($AX$68,$BA$64,REPT(" ",LEN($AX$68))),($BA85-1)*LEN($AX$68)+1,LEN($AX$68))) | BC85: =TRIM(MID(SUBSTITUTE($AX$69,$BA$64,REPT(" ",LEN($AX$69))),($BA85-1)*LEN($AX$69)+1,LEN($AX$69))) | BD85: =TRIM(MID(SUBSTITUTE($AX$70,$BA$64,REPT(" ",LEN($AX$70))),($BA85-1)*LEN($AX$70)+1,LEN($AX$70))) | BE85: =TRIM(MID(SUBSTITUTE($AX$71,$BA$64,REPT(" ",LEN($AX$71))),($BA85-1)*LEN($AX$71)+1,LEN($AX$71))) | BF85: =TRIM(MID(SUBSTITUTE($AX$72,$BA$64,REPT(" ",LEN($AX$72))),($BA85-1)*LEN($AX$72)+1,LEN($AX$72))) | BG85: =TRIM(MID(SUBSTITUTE($AX$73,$BA$64,REPT(" ",LEN($AX$73))),($BA85-1)*LEN($AX$73)+1,LEN($AX$73))) | BH85: =TRIM(MID(SUBSTITUTE($AX$74,$BA$64,REPT(" ",LEN($AX$74))),($BA85-1)*LEN($AX$74)+1,LEN($AX$74))) | BI85: =TRIM(MID(SUBSTITUTE($AX$75,$BA$64,REPT(" ",LEN($AX$75))),($BA85-1)*LEN($AX$75)+1,LEN($AX$75))) | BJ85: =TRIM(MID(SUBSTITUTE($AX$76,$BA$64,REPT(" ",LEN($AX$76))),($BA85-1)*LEN($AX$76)+1,LEN($AX$76))) | BK85: =TRIM(MID(SUBSTITUTE($AX$77,$BA$64,REPT(" ",LEN($AX$77))),($BA85-1)*LEN($AX$77)+1,LEN($AX$77))) | BL85: =TRIM(MID(SUBSTITUTE($AX$78,$BA$64,REPT(" ",LEN($AX$78))),($BA85-1)*LEN($AX$78)+1,LEN($AX$78))) | BM85: =TRIM(MID(SUBSTITUTE($AX$79,$BA$64,REPT(" ",LEN($AX$79))),($BA85-1)*LEN($AX$79)+1,LEN($AX$79))) | BN85: =TRIM(MID(SUBSTITUTE($AX$80,$BA$64,REPT(" ",LEN($AX$80))),($BA85-1)*LEN($AX$80)+1,LEN($AX$80))) | BO85: =TRIM(MID(SUBSTITUTE($AX$81,$BA$64,REPT(" ",LEN($AX$81))),($BA85-1)*LEN($AX$81)+1,LEN($AX$81))) | BP85: =TRIM(MID(SUBSTITUTE($AX$82,$BA$64,REPT(" ",LEN($AX$82))),($BA85-1)*LEN($AX$82)+1,LEN($AX$82))) | BQ85: =TRIM(MID(SUBSTITUTE($AX$83,$BA$64,REPT(" ",LEN($AX$83))),($BA85-1)*LEN($AX$83)+1,LEN($AX$83))) | BR85: =TRIM(MID(SUBSTITUTE($AX$84,$BA$64,REPT(" ",LEN($AX$84))),($BA85-1)*LEN($AX$84)+1,LEN($AX$84))) | BS85: =TRIM(MID(SUBSTITUTE($AX$85,$BA$64,REPT(" ",LEN($AX$85))),($BA85-1)*LEN($AX$85)+1,LEN($AX$85))) | BT85: =TRIM(MID(SUBSTITUTE($AX$86,$BA$64,REPT(" ",LEN($AX$86))),($BA85-1)*LEN($AX$86)+1,LEN($AX$86))) | BU85: =TRIM(MID(SUBSTITUTE($AX$87,$BA$64,REPT(" ",LEN($AX$87))),($BA85-1)*LEN($AX$87)+1,LEN($AX$87))) | BV85: =IF(BX85=0,"",CONCATENATE(BW85,"68:",BW85,BX85+67)) | BW85: BS | BX85: =BS66 -> 0
B86: 19 | C86: =IF(D86="","",C29) | D86: =IF(K29="","",D29) | E86: =IF(AY86="","",AY86) | H86: =IF(D86="","",AC86) | I86: =IF(K29="","",K29) | J86: =IF(F86="","",VLOOKUP(F86,'11. Condition and Temporal'!$B$6:$F$101,5,FALSE)) | L86: =IFERROR(IF(D86="","",IF(AY86="Distinctivness",((((I86*AI86*AK86)-(I86*W86*Y86))*(AW86*AU86))+(I86*W86*Y86))*(AN86*AQ86),((((I86*AI86*AK86)-(I86*W86*Y86))*(AW86*AS86))+(I86*W86*Y86))*(AN86*AQ86))/10000),"Value missing") | M86: =IF(F86="","",L86-AE86) | U86: =IF(D86="","",K29) | V86: =IF($D86="","",U29) | W86: =IF($D86="","",V29) | X86: =IF($D86="","",W29) | Y86: =IF($D86="","",X29) | Z86: =IF($D86="","",Y29) | AA86: =IF($D86="","",Z29) | AB86: =IF($D86="","",AA29) | AC86: =IF($D86="","",AB29) | AD86: =IF($D86="","",AD29) | AE86: =IF(AD86="","",(U86*W86*Y86)*(AB86*AD86)/10000) | AF86: =IF(AE86="","",IF(AI86<W86,"Not Acceptable","Acceptable")) | AG86: =IF(D86="","",I86) | AH86: =IF(D86="","",VLOOKUP(F86,'10. All Habitats + Multipliers'!$C$4:$K$99,5,FALSE)) | AI86: =IF(AH86="","",VLOOKUP(AH86,'12. Lists'!$B$47:$D$49,2,FALSE)) | AJ86: =IF(D86="","",J86) | AK86: =IF(AJ86="","",VLOOKUP(AJ86,'12. Lists'!$F$47:$G$51,2,FALSE)) | AL86: =IF(D86="","",VLOOKUP(F86,'10. All Habitats + Multipliers'!$C$4:$K$99,9,FALSE)) | AM86: =IF(AL86="","",VLOOKUP(AL86,'12. Lists'!$B$36:$D$39,2,FALSE)) | AN86: =IF(AL86="","",VLOOKUP(AL86,'12. Lists'!$B$36:$D$39,3,FALSE)) | AO86: =IF(H86="","",H86) | AP86: =IF(AO86="","",VLOOKUP(AO86,'12. Lists'!$F$36:$H$38,2,FALSE)) | AQ86: =IF(AO86="","",VLOOKUP(AO86,'12. Lists'!$F$36:$H$38,3,FALSE)) | AR86: =IF(D86="","",VLOOKUP(F86,'11. Condition and Temporal'!$B$6:$J$101,9,FALSE)) | AS86: =IF(AR86="","",VLOOKUP(AR86,'12. Lists'!$I$47:$K$80,3,FALSE)) | AT86: =IF(D86="","",VLOOKUP(F86,'11. Condition and Temporal'!$B$6:$K$104,10,FALSE)) | AU86: =IF(AT86="","",VLOOKUP(AT86,'12. Lists'!$I$47:$K$80,3,FALSE)) | AV86: =IF(D86="","",VLOOKUP(F86,'10. All Habitats + Multipliers'!$C$4:$K$99,8,FALSE)) | AW86: =IF(AV86="","",VLOOKUP(AV86,'12. Lists'!$J$35:$K$38,2,FALSE)) | AX86: =IF(D86="","",VLOOKUP(D86,'11. Condition and Temporal'!$B$6:$K$101,4,FALSE)) | AY86: =IF(F86="","",IF(D86=F86,"Condition","Distinctivness")) | BA86: 19 | BB86: =TRIM(MID(SUBSTITUTE($AX$68,$BA$64,REPT(" ",LEN($AX$68))),($BA86-1)*LEN($AX$68)+1,LEN($AX$68))) | BC86: =TRIM(MID(SUBSTITUTE($AX$69,$BA$64,REPT(" ",LEN($AX$69))),($BA86-1)*LEN($AX$69)+1,LEN($AX$69))) | BD86: =TRIM(MID(SUBSTITUTE($AX$70,$BA$64,REPT(" ",LEN($AX$70))),($BA86-1)*LEN($AX$70)+1,LEN($AX$70))) | BE86: =TRIM(MID(SUBSTITUTE($AX$71,$BA$64,REPT(" ",LEN($AX$71))),($BA86-1)*LEN($AX$71)+1,LEN($AX$71))) | BF86: =TRIM(MID(SUBSTITUTE($AX$72,$BA$64,REPT(" ",LEN($AX$72))),($BA86-1)*LEN($AX$72)+1,LEN($AX$72))) | BG86: =TRIM(MID(SUBSTITUTE($AX$73,$BA$64,REPT(" ",LEN($AX$73))),($BA86-1)*LEN($AX$73)+1,LEN($AX$73))) | BH86: =TRIM(MID(SUBSTITUTE($AX$74,$BA$64,REPT(" ",LEN($AX$74))),($BA86-1)*LEN($AX$74)+1,LEN($AX$74))) | BI86: =TRIM(MID(SUBSTITUTE($AX$75,$BA$64,REPT(" ",LEN($AX$75))),($BA86-1)*LEN($AX$75)+1,LEN($AX$75))) | BJ86: =TRIM(MID(SUBSTITUTE($AX$76,$BA$64,REPT(" ",LEN($AX$76))),($BA86-1)*LEN($AX$76)+1,LEN($AX$76))) | BK86: =TRIM(MID(SUBSTITUTE($AX$77,$BA$64,REPT(" ",LEN($AX$77))),($BA86-1)*LEN($AX$77)+1,LEN($AX$77))) | BL86: =TRIM(MID(SUBSTITUTE($AX$78,$BA$64,REPT(" ",LEN($AX$78))),($BA86-1)*LEN($AX$78)+1,LEN($AX$78))) | BM86: =TRIM(MID(SUBSTITUTE($AX$79,$BA$64,REPT(" ",LEN($AX$79))),($BA86-1)*LEN($AX$79)+1,LEN($AX$79))) | BN86: =TRIM(MID(SUBSTITUTE($AX$80,$BA$64,REPT(" ",LEN($AX$80))),($BA86-1)*LEN($AX$80)+1,LEN($AX$80))) | BO86: =TRIM(MID(SUBSTITUTE($AX$81,$BA$64,REPT(" ",LEN($AX$81))),($BA86-1)*LEN($AX$81)+1,LEN($AX$81))) | BP86: =TRIM(MID(SUBSTITUTE($AX$82,$BA$64,REPT(" ",LEN($AX$82))),($BA86-1)*LEN($AX$82)+1,LEN($AX$82))) | BQ86: =TRIM(MID(SUBSTITUTE($AX$83,$BA$64,REPT(" ",LEN($AX$83))),($BA86-1)*LEN($AX$83)+1,LEN($AX$83))) | BR86: =TRIM(MID(SUBSTITUTE($AX$84,$BA$64,REPT(" ",LEN($AX$84))),($BA86-1)*LEN($AX$84)+1,LEN($AX$84))) | BS86: =TRIM(MID(SUBSTITUTE($AX$85,$BA$64,REPT(" ",LEN($AX$85))),($BA86-1)*LEN($AX$85)+1,LEN($AX$85))) | BT86: =TRIM(MID(SUBSTITUTE($AX$86,$BA$64,REPT(" ",LEN($AX$86))),($BA86-1)*LEN($AX$86)+1,LEN($AX$86))) | BU86: =TRIM(MID(SUBSTITUTE($AX$87,$BA$64,REPT(" ",LEN($AX$87))),($BA86-1)*LEN($AX$87)+1,LEN($AX$87))) | BV86: =IF(BX86=0,"",CONCATENATE(BW86,"68:",BW86,BX86+67)) | BW86: BT | BX86: =BT66 -> 0
B87: 20 | C87: =IF(D87="","",C30) | D87: =IF(K30="","",D30) | E87: =IF(AY87="","",AY87) | H87: =IF(D87="","",AC87) | I87: =IF(K30="","",K30) | J87: =IF(F87="","",VLOOKUP(F87,'11. Condition and Temporal'!$B$6:$F$101,5,FALSE)) | L87: =IFERROR(IF(D87="","",IF(AY87="Distinctivness",((((I87*AI87*AK87)-(I87*W87*Y87))*(AW87*AU87))+(I87*W87*Y87))*(AN87*AQ87),((((I87*AI87*AK87)-(I87*W87*Y87))*(AW87*AS87))+(I87*W87*Y87))*(AN87*AQ87))/10000),"Value missing") | M87: =IF(F87="","",L87-AE87) | U87: =IF(D87="","",K30) | V87: =IF($D87="","",U30) | W87: =IF($D87="","",V30) | X87: =IF($D87="","",W30) | Y87: =IF($D87="","",X30) | Z87: =IF($D87="","",Y30) | AA87: =IF($D87="","",Z30) | AB87: =IF($D87="","",AA30) | AC87: =IF($D87="","",AB30) | AD87: =IF($D87="","",AD30) | AE87: =IF(AD87="","",(U87*W87*Y87)*(AB87*AD87)/10000) | AF87: =IF(AE87="","",IF(AI87<W87,"Not Acceptable","Acceptable")) | AG87: =IF(D87="","",I87) | AH87: =IF(D87="","",VLOOKUP(F87,'10. All Habitats + Multipliers'!$C$4:$K$99,5,FALSE)) | AI87: =IF(AH87="","",VLOOKUP(AH87,'12. Lists'!$B$47:$D$49,2,FALSE)) | AJ87: =IF(D87="","",J87) | AK87: =IF(AJ87="","",VLOOKUP(AJ87,'12. Lists'!$F$47:$G$51,2,FALSE)) | AL87: =IF(D87="","",VLOOKUP(F87,'10. All Habitats + Multipliers'!$C$4:$K$99,9,FALSE)) | AM87: =IF(AL87="","",VLOOKUP(AL87,'12. Lists'!$B$36:$D$39,2,FALSE)) | AN87: =IF(AL87="","",VLOOKUP(AL87,'12. Lists'!$B$36:$D$39,3,FALSE)) | AO87: =IF(H87="","",H87) | AP87: =IF(AO87="","",VLOOKUP(AO87,'12. Lists'!$F$36:$H$38,2,FALSE)) | AQ87: =IF(AO87="","",VLOOKUP(AO87,'12. Lists'!$F$36:$H$38,3,FALSE)) | AR87: =IF(D87="","",VLOOKUP(F87,'11. Condition and Temporal'!$B$6:$J$101,9,FALSE)) | AS87: =IF(AR87="","",VLOOKUP(AR87,'12. Lists'!$I$47:$K$80,3,FALSE)) | AT87: =IF(D87="","",VLOOKUP(F87,'11. Condition and Temporal'!$B$6:$K$104,10,FALSE)) | AU87: =IF(AT87="","",VLOOKUP(AT87,'12. Lists'!$I$47:$K$80,3,FALSE)) | AV87: =IF(D87="","",VLOOKUP(F87,'10. All Habitats + Multipliers'!$C$4:$K$99,8,FALSE)) | AW87: =IF(AV87="","",VLOOKUP(AV87,'12. Lists'!$J$35:$K$38,2,FALSE)) | AX87: =IF(D87="","",VLOOKUP(D87,'11. Condition and Temporal'!$B$6:$K$101,4,FALSE)) | AY87: =IF(F87="","",IF(D87=F87,"Condition","Distinctivness")) | BA87: 20 | BB87: =TRIM(MID(SUBSTITUTE($AX$68,$BA$64,REPT(" ",LEN($AX$68))),($BA87-1)*LEN($AX$68)+1,LEN($AX$68))) | BC87: =TRIM(MID(SUBSTITUTE($AX$69,$BA$64,REPT(" ",LEN($AX$69))),($BA87-1)*LEN($AX$69)+1,LEN($AX$69))) | BD87: =TRIM(MID(SUBSTITUTE($AX$70,$BA$64,REPT(" ",LEN($AX$70))),($BA87-1)*LEN($AX$70)+1,LEN($AX$70))) | BE87: =TRIM(MID(SUBSTITUTE($AX$71,$BA$64,REPT(" ",LEN($AX$71))),($BA87-1)*LEN($AX$71)+1,LEN($AX$71))) | BF87: =TRIM(MID(SUBSTITUTE($AX$72,$BA$64,REPT(" ",LEN($AX$72))),($BA87-1)*LEN($AX$72)+1,LEN($AX$72))) | BG87: =TRIM(MID(SUBSTITUTE($AX$73,$BA$64,REPT(" ",LEN($AX$73))),($BA87-1)*LEN($AX$73)+1,LEN($AX$73))) | BH87: =TRIM(MID(SUBSTITUTE($AX$74,$BA$64,REPT(" ",LEN($AX$74))),($BA87-1)*LEN($AX$74)+1,LEN($AX$74))) | BI87: =TRIM(MID(SUBSTITUTE($AX$75,$BA$64,REPT(" ",LEN($AX$75))),($BA87-1)*LEN($AX$75)+1,LEN($AX$75))) | BJ87: =TRIM(MID(SUBSTITUTE($AX$76,$BA$64,REPT(" ",LEN($AX$76))),($BA87-1)*LEN($AX$76)+1,LEN($AX$76))) | BK87: =TRIM(MID(SUBSTITUTE($AX$77,$BA$64,REPT(" ",LEN($AX$77))),($BA87-1)*LEN($AX$77)+1,LEN($AX$77))) | BL87: =TRIM(MID(SUBSTITUTE($AX$78,$BA$64,REPT(" ",LEN($AX$78))),($BA87-1)*LEN($AX$78)+1,LEN($AX$78))) | BM87: =TRIM(MID(SUBSTITUTE($AX$79,$BA$64,REPT(" ",LEN($AX$79))),($BA87-1)*LEN($AX$79)+1,LEN($AX$79))) | BN87: =TRIM(MID(SUBSTITUTE($AX$80,$BA$64,REPT(" ",LEN($AX$80))),($BA87-1)*LEN($AX$80)+1,LEN($AX$80))) | BO87: =TRIM(MID(SUBSTITUTE($AX$81,$BA$64,REPT(" ",LEN($AX$81))),($BA87-1)*LEN($AX$81)+1,LEN($AX$81))) | BP87: =TRIM(MID(SUBSTITUTE($AX$82,$BA$64,REPT(" ",LEN($AX$82))),($BA87-1)*LEN($AX$82)+1,LEN($AX$82))) | BQ87: =TRIM(MID(SUBSTITUTE($AX$83,$BA$64,REPT(" ",LEN($AX$83))),($BA87-1)*LEN($AX$83)+1,LEN($AX$83))) | BR87: =TRIM(MID(SUBSTITUTE($AX$84,$BA$64,REPT(" ",LEN($AX$84))),($BA87-1)*LEN($AX$84)+1,LEN($AX$84))) | BS87: =TRIM(MID(SUBSTITUTE($AX$85,$BA$64,REPT(" ",LEN($AX$85))),($BA87-1)*LEN($AX$85)+1,LEN($AX$85))) | BT87: =TRIM(MID(SUBSTITUTE($AX$86,$BA$64,REPT(" ",LEN($AX$86))),($BA87-1)*LEN($AX$86)+1,LEN($AX$86))) | BU87: =TRIM(MID(SUBSTITUTE($AX$87,$BA$64,REPT(" ",LEN($AX$87))),($BA87-1)*LEN($AX$87)+1,LEN($AX$87))) | BV87: =IF(BX87=0,"",CONCATENATE(BW87,"68:",BW87,BX87+67)) | BW87: BU | BX87: =BU66 -> 0
B88: Trees | C88: Urban | D88: Urban tree | E88: =IF(AY88="","",AY88) -> Condition | F88: Urban Tree | H88: =IF(F31="","",F31) -> Area not in local strategy | I88: =IF(K31="","",K31) -> 0 | J88: =IF(F88="","",VLOOKUP(F88,'11. Condition and Temporal'!$B$6:$F$101,5,FALSE)) -> Good | L88: =IF(F88="","",((((I88*AI88*AK88)-(I88*W88*Y88))*(AW88*AS88))+(I88*W88*Y88))*(AN88*AQ88)/10000) -> 0 | M88: =L88-AE88 -> 0 | U88: =IF(D88="","",K31) -> 0 | V88: =IF($D88="","",U31) -> Medium | W88: =IF($D88="","",V31) -> 4 | X88: =IF($D88="","",W31) -> Moderate | Y88: =IF($D88="","",X31) -> 2 | Z88: =IF($D88="","",Y31) -> Low | AA88: =IF($D88="","",Z31) -> Unconnected habitat | AB88: =IF($D88="","",AA31) -> 1 | AC88: =IF($D88="","",AB31) -> Area not in local strategy | AD88: =IF($D88="","",AD31) -> 1 | AE88: =IF(AD88="","",(U88*W88*Y88)*(AB88*AD88)/10000) -> 0 | AF88: =IF(AE88="","",IF(AI88<W88,"Not Acceptable","Acceptable")) -> Acceptable | AG88: =IF(D88="","",I88) -> 0 | AH88: =IF(D88="","",VLOOKUP(F88,'10. All Habitats + Multipliers'!$C$4:$K$99,5,FALSE)) -> Medium | AI88: =IF(AH88="","",VLOOKUP(AH88,'12. Lists'!$B$47:$D$49,2,FALSE)) -> 4 | AJ88: =IF(D88="","",J88) -> Good | AK88: =IF(AJ88="","",VLOOKUP(AJ88,'12. Lists'!$F$47:$G$51,2,FALSE)) -> 3 | AL88: =IF(D88="","",VLOOKUP(F88,'10. All Habitats + Multipliers'!$C$4:$K$99,9,FALSE)) -> Low | AM88: =IF(AL88="","",VLOOKUP(AL88,'12. Lists'!$B$36:$D$39,2,FALSE)) -> Unconnected habitat | AN88: =IF(AL88="","",VLOOKUP(AL88,'12. Lists'!$B$36:$D$39,3,FALSE)) -> 1 | AO88: =IF(H88="","",H88) -> Area not in local strategy | AP88: =IF(AO88="","",VLOOKUP(AO88,'12. Lists'!$F$36:$H$38,2,FALSE)) -> Low Strategic Significance | AQ88: =IF(AO88="","",VLOOKUP(AO88,'12. Lists'!$F$36:$H$38,3,FALSE)) -> 1 | AR88: =IF(D88="","",VLOOKUP(F88,'11. Condition and Temporal'!$B$6:$J$101,9,FALSE)) -> 16 | AS88: =IF(AR88="","",VLOOKUP(AR88,'12. Lists'!$I$47:$K$80,3,FALSE)) -> 0.56550573 | AT88: =IF(D88="","",VLOOKUP(F88,'11. Condition and Temporal'!$B$6:$K$104,10,FALSE)) -> Not Possible | AU88: =IF(AT88="","",VLOOKUP(AT88,'12. Lists'!$I$47:$K$80,3,FALSE)) -> N/A | AV88: =IF(D88="","",VLOOKUP(F88,'10. All Habitats + Multipliers'!$C$4:$K$99,8,FALSE)) -> Low | AW88: =IF(AV88="","",VLOOKUP(AV88,'12. Lists'!$J$35:$K$38,2,FALSE)) -> 1 | AX88: =IF(D88="","",VLOOKUP(D88,'11. Condition and Temporal'!$B$6:$K$101,4,FALSE)) -> Urban Tree | AY88: =IF(F88="","",IF(D88=F88,"Condition","Distinctivness")) -> Condition
H89: Totals (areas excl Trees) | I89: =SUM(I68:I87) -> 0 | L89: =SUM(L68:L88) -> 0 | M89: =SUM(M68:N88) -> 0
B92: 1.d - Urban Tree Area Calculator
B94: Tree size (Diameter at breast height) | D94: A. Total number of trees pre development | E94: B. Number of trees lost to development | G94: C. Number of trees retained & enhanced post development | H94: D. Number of new trees planted post development | I94: Areas
I95: Area pre development | L95: Area lost to development | O95: Area Enhanced by development | P95: Area of new trees planted post development | R95: Data beyond this column is automated
B96: Small -DBH 10cm | H96: 0 | I96: =D96*'12. Lists'!P47 -> 0 | L96: =(E96*'12. Lists'!P47) -> 0 | O96: =G96*'12. Lists'!P47 -> 0 | P96: =H96*'12. Lists'!P47 -> 0
B97: Medium - DBH 30cm | H97: 0 | I97: =D97*'12. Lists'!P48 -> 0 | L97: =(E97*'12. Lists'!P48) -> 0 | O97: =G97*'12. Lists'!P48 -> 0 | P97: =H97*'12. Lists'!P48 -> 0
B98: Large DBH - 50cm | H98: 0 | I98: =D98*'12. Lists'!P49 -> 0 | L98: =(E98*'12. Lists'!P49) -> 0 | O98: =G98*'12. Lists'!P49 -> 0 | P98: =H98*'12. Lists'!P49 -> 0
B99: Total | D99: =SUM(D96:D98) -> 0 | E99: =SUM(E96:E98) -> 0 | G99: =SUM(G96:G98) -> 0 | H99: =SUM(H96:H98) -> 0 | I99: =SUM(I96:I98) -> 0 | L99: =SUM(K96:M98) -> 0 | O99: =SUM(O96:O98) -> 0 | P99: =SUM(P96:P98) -> 0
A102: Data beyond this row is automated
B106: 1e . Trading Summary
B108: Broad Habitat Type | E108: =IF(SUM(J114:J133)>0,"Error - Trading Rules Not Satisfied - Insufficent Medium Distinctivness Units Created","Trading Rules Satisfied") -> Trading Rules Satisfied | J108: =IFERROR(FIND("Error",E108),0) -> 0
B109: Distinctiveness Band | E109: =IF(SUM(J136:J138)>0,"Error - Trading Rules Not Satisfied - Insufficent Units Created Within Habitat Groups","Trading Rules Satisfied") -> Trading Rules Satisfied | J109: =IFERROR(FIND("Error",E109),0) -> 0
B111: 1f . Habitat trading assessment
B113: Broad habitat types | E113: Distinctiveness band | F113: Baseline units | G113: Onsite provision | H113: Net change | I113: Trading satisfied?
B114: Cropland | E114: Low | F114: =SUMIFS($L$11:$L$30,$C$11:$C$30,$B114,$U$11:$U$30,$E114) -> 0 | G114: =SUMIFS($L$40:$L$59,$C$40:$C$59,$B114,$U$40:$U$59,$E114)+SUMIFS($L$68:$L$87,$C$68:$C$87,B114,$AH$68:$AH$87,E114)+SUMIFS($AE$11:$AE$31,$C$11:$C$31,B114,$U$11:$U$31,E114) -> 0 | H114: =G114-F114 -> 0 | I114: - | J114: =IF(I114="No",1,0) -> 0
E115: Medium | F115: =SUMIFS($L$11:$L$30,$C$11:$C$30,$B114,$U$11:$U$30,$E115) -> 0 | G115: =SUMIFS($L$40:$L$59,$C$40:$C$59,$B114,$U$40:$U$59,$E115)+SUMIFS($L$68:$L$87,$C$68:$C$87,B114,$AH$68:$AH$87,E115)+SUMIFS($AE$11:$AE$31,$C$11:$C$31,B114,$U$11:$U$31,E115) -> 0 | H115: =G115-F115 -> 0 | I115: =IF(F115=0,"N/A",IF(H115<0,"No","Yes")) -> N/A | J115: =IF(I115="No",1,0) -> 0
B116: Grassland | E116: Low | F116: =SUMIFS($L$11:$L$30,$C$11:$C$30,$B116,$U$11:$U$30,$E116) -> 0.3358 | G116: =SUMIFS($L$40:$L$59,$C$40:$C$59,$B116,$U$40:$U$59,$E116)+SUMIFS($L$68:$L$87,$C$68:$C$87,B116,$AH$68:$AH$87,E116)+SUMIFS($AE$11:$AE$31,$C$11:$C$31,B116,$U$11:$U$31,E116) -> 0 | H116: =G116-F116 -> -0.3358 | I116: - | J116: =IF(I116="No",1,0) -> 0
E117: Medium | F117: =SUMIFS($L$11:$L$30,$C$11:$C$30,$B116,$U$11:$U$30,$E117) -> 0 | G117: =SUMIFS($L$40:$L$59,$C$40:$C$59,$B116,$U$40:$U$59,$E117)+SUMIFS($L$68:$L$87,$C$68:$C$87,B116,$AH$68:$AH$87,E117)+SUMIFS($AE$11:$AE$31,$C$11:$C$31,B116,$U$11:$U$31,E117) -> 0.19324048 | H117: =G117-F117 -> 0.19324048 | I117: =IF(F117=0,"N/A",IF(H117<0,"No","Yes")) -> N/A | J117: =IF(I117="No",1,0) -> 0
B118: Heathland and shrub | E118: Low | F118: =SUMIFS($L$11:$L$30,$C$11:$C$30,$B118,$U$11:$U$30,$E118) -> 0 | G118: =SUMIFS($L$40:$L$59,$C$40:$C$59,$B118,$U$40:$U$59,$E118)+SUMIFS($L$68:$L$87,$C$68:$C$87,B118,$AH$68:$AH$87,E118)+SUMIFS($AE$11:$AE$31,$C$11:$C$31,B118,$U$11:$U$31,E118) -> 0 | H118: =G118-F118 -> 0 | I118: - | J118: =IF(I118="No",1,0) -> 0
E119: Medium | F119: =SUMIFS($L$11:$L$30,$C$11:$C$30,$B118,$U$11:$U$30,$E119) -> 0.13984 | G119: =SUMIFS($L$40:$L$59,$C$40:$C$59,$B118,$U$40:$U$59,$E119)+SUMIFS($L$68:$L$87,$C$68:$C$87,B118,$AH$68:$AH$87,E119)+SUMIFS($AE$11:$AE$31,$C$11:$C$31,B118,$U$11:$U$31,E119) -> 0.33308048 | H119: =G119-F119 -> 0.19324048 | I119: =IF(F119=0,"N/A",IF(H119<0,"No","Yes")) -> Yes | J119: =IF(I119="No",1,0) -> 0
B120: Intertidal Hard Structures | E120: Low | F120: =SUMIFS($L$11:$L$30,$C$11:$C$30,$B120,$U$11:$U$30,$E120) -> 0 | G120: =SUMIFS($L$40:$L$59,$C$40:$C$59,$B120,$U$40:$U$59,$E120)+SUMIFS($L$68:$L$87,$C$68:$C$87,B120,$AH$68:$AH$87,E120)+SUMIFS($AE$11:$AE$31,$C$11:$C$31,B120,$U$11:$U$31,E120) -> 0 | H120: =G120-F120 -> 0 | I120: - | J120: =IF(I120="No",1,0) -> 0
E121: Medium | F121: =SUMIFS($L$11:$L$30,$C$11:$C$30,$B120,$U$11:$U$30,$E121) -> 0 | G121: =SUMIFS($L$40:$L$59,$C$40:$C$59,$B120,$U$40:$U$59,$E121)+SUMIFS($L$68:$L$87,$C$68:$C$87,B120,$AH$68:$AH$87,E121)+SUMIFS($AE$11:$AE$31,$C$11:$C$31,B120,$U$11:$U$31,E121) -> 0 | H121: =G121-F121 -> 0 | I121: =IF(F121=0,"N/A",IF(H121<0,"No","Yes")) -> N/A | J121: =IF(I121="No",1,0) -> 0
...

Sheet 6. Hedges & Lines of Trees
O1: Retained Units | P1: =SUM(AE11:AE30) -> 0 | R1: Data beyond this column is automated
B2: Site Name: | C2: =IF('2. Site Details'!D5="","Enter site name on 2. Site Details",'2. Site Details'!D5) -> Land off Barnsley Rd, Darton | F2: Instructions: 1. Enter data in the Baseline Habitats table 2. Scroll down to enter data for any habitats to be created 3. Scroll down again to enter data for any habitats being enhanced | J2: =IFERROR(IF(SUM(O32:O33,J103:J106,J109:J111)>0,"Rule Based Errors Present On Sheet - Red Cells Highlight Errors","All Key Rules Satisfied"),"Technical Errors On Sheet") -> All Key Rules Satisfied | O2: Lost Units | P2: =N31 -> 0
B3: Sheet Name | C3: 5. Hedges & Lines of Trees | O3: Created Units | P3: =L59 -> 0.31565179
O4: Enhancement Units | P4: =L86 -> 0
O5: Net Change | P5: =P1+L59+L86-L31 -> 0.31565179
B7: 1a. Baseline habitats
B9: Ref | C9: Habitat | F9: C. Strategic significance | I9: Length M | L9: Baseline results | O9: Comments | U9: Habitat distinctiveness | W9: Habitat condition | Y9: Ecological connectivity | AB9: Strategic significance | AE9: Ecological baseline | AH9: Suggested action to address habitat losses | AI9: Enhancement rules
C10: A. Broad Habitat | D10: B. Habitat type | I10: D. Total Length | J10: E. Length retained | K10: F. Length enhanced | L10: Total units onsite | M10: Length Lost | N10: Units lost | O10: User comments | P10: LPA comments | U10: Distinctiveness | V10: Score | W10: Condition | X10: Score | Y10: Ecological connectivity | Z10: Connectivity | AA10: Connectivity multiplier | AB10: Strategic significance | AC10: Strategic significance | AD10: Strategic position multiplier | AE10: Baseline units retained | AF10: Baseline units to be enhanced | AG10: Area lost
B11: 1 | C11: Hedgerow | D11: Native Species Rich Hedgerow | F11: Within area formally identified in local strategy | I11: 0 | L11: =IF(C11="","",IFERROR(IF(I11="","Length Error",((I11/1000)*V11*X11)*(AA11*AD11)),"Value Missing")) -> 0 | M11: =IF(I11="","",IF(J11+K11>I11,"Length Error",I11-J11-K11)) -> 0 | N11: =IFERROR(IF(I11="","",IF(M11="Length Error","Length Error",((M11/1000)*V11*X11)*(AA11*AD11))),"Value Missing") -> 0 | U11: =IF(C11="","",VLOOKUP(D11,'10. All Habitats + Multipliers'!$C$4:$K$99,5,FALSE)) -> Medium | V11: =IF(U11="","",VLOOKUP(U11,'12. Lists'!$B$47:$D$49,2,FALSE)) -> 4 | W11: =IF(C11="","",VLOOKUP(D11,'11. Condition and Temporal'!$B$6:$C$101,2,FALSE)) -> Moderate | X11: =IF(W11="","",VLOOKUP(W11,'12. Lists'!$F$47:$G$51,2,FALSE)) -> 2 | Y11: =IF(C11="","",VLOOKUP(D11,'10. All Habitats + Multipliers'!$C$4:$K$99,9,FALSE)) -> Low | Z11: =IF(Y11="","",VLOOKUP(Y11,'12. Lists'!$B$36:$D$39,2,FALSE)) -> Unconnected habitat | AA11: =IF(Y11="","",VLOOKUP(Y11,'12. Lists'!$B$36:$D$39,3,FALSE)) -> 1 | AB11: =IF(F11="","",F11) -> Within area formally identified in local strategy | AC11: =IF(AB11="","",VLOOKUP(AB11,'12. Lists'!$F$36:$H$38,2,FALSE)) -> High strategic significance | AD11: =IF(AB11="","",VLOOKUP(AB11,'12. Lists'!$F$36:$H$38,3,FALSE)) -> 1.15 | AE11: =IF(D11="","",((J11/1000)*V11*X11)*(AA11*AD11)) -> 0 | AF11: =IF(D11="","",((K11/1000)*V11*X11)*(AA11*AD11)) -> 0 | AG11: =IF(D11="","",M11) -> 0 | AH11: =IF(U11="","",VLOOKUP(U11,'12. Lists'!$B$47:$D$49,3,FALSE)) -> Same broad habitat or a higher distinctiveness habitat required | AI11: =IF(D11="","",VLOOKUP(D11,'11. Condition and Temporal'!$B$6:$J$101,4,FALSE)) -> Native Species Rich Hedgerow
B12: 2 | L12: =IF(C12="","",IFERROR(IF(I12="","Length Error",((I12/1000)*V12*X12)*(AA12*AD12)),"Value Missing")) | M12: =IF(I12="","",IF(J12+K12>I12,"Length Error",I12-J12-K12)) | N12: =IFERROR(IF(I12="","",IF(M12="Length Error","Length Error",((M12/1000)*V12*X12)*(AA12*AD12))),"Value Missing") | U12: =IF(C12="","",VLOOKUP(D12,'10. All Habitats + Multipliers'!$C$4:$K$99,5,FALSE)) | V12: =IF(U12="","",VLOOKUP(U12,'12. Lists'!$B$47:$D$49,2,FALSE)) | W12: =IF(C12="","",VLOOKUP(D12,'11. Condition and Temporal'!$B$6:$C$101,2,FALSE)) | X12: =IF(W12="","",VLOOKUP(W12,'12. Lists'!$F$47:$G$51,2,FALSE)) | Y12: =IF(C12="","",VLOOKUP(D12,'10. All Habitats + Multipliers'!$C$4:$K$99,9,FALSE)) | Z12: =IF(Y12="","",VLOOKUP(Y12,'12. Lists'!$B$36:$D$39,2,FALSE)) | AA12: =IF(Y12="","",VLOOKUP(Y12,'12. Lists'!$B$36:$D$39,3,FALSE)) | AB12: =IF(F12="","",F12) | AC12: =IF(AB12="","",VLOOKUP(AB12,'12. Lists'!$F$36:$H$38,2,FALSE)) | AD12: =IF(AB12="","",VLOOKUP(AB12,'12. Lists'!$F$36:$H$38,3,FALSE)) | AE12: =IF(D12="","",((J12/1000)*V12*X12)*(AA12*AD12)) | AF12: =IF(D12="","",((K12/1000)*V12*X12)*(AA12*AD12)) | AG12: =IF(D12="","",M12) | AH12: =IF(U12="","",VLOOKUP(U12,'12. Lists'!$B$47:$D$49,3,FALSE)) | AI12: =IF(D12="","",VLOOKUP(D12,'11. Condition and Temporal'!$B$6:$J$101,4,FALSE))
B13: 3 | L13: =IF(C13="","",IFERROR(IF(I13="","Length Error",((I13/1000)*V13*X13)*(AA13*AD13)),"Value Missing")) | M13: =IF(I13="","",IF(J13+K13>I13,"Length Error",I13-J13-K13)) | N13: =IFERROR(IF(I13="","",IF(M13="Length Error","Length Error",((M13/1000)*V13*X13)*(AA13*AD13))),"Value Missing") | U13: =IF(C13="","",VLOOKUP(D13,'10. All Habitats + Multipliers'!$C$4:$K$99,5,FALSE)) | V13: =IF(U13="","",VLOOKUP(U13,'12. Lists'!$B$47:$D$49,2,FALSE)) | W13: =IF(C13="","",VLOOKUP(D13,'11. Condition and Temporal'!$B$6:$C$101,2,FALSE)) | X13: =IF(W13="","",VLOOKUP(W13,'12. Lists'!$F$47:$G$51,2,FALSE)) | Y13: =IF(C13="","",VLOOKUP(D13,'10. All Habitats + Multipliers'!$C$4:$K$99,9,FALSE)) | Z13: =IF(Y13="","",VLOOKUP(Y13,'12. Lists'!$B$36:$D$39,2,FALSE)) | AA13: =IF(Y13="","",VLOOKUP(Y13,'12. Lists'!$B$36:$D$39,3,FALSE)) | AB13: =IF(F13="","",F13) | AC13: =IF(AB13="","",VLOOKUP(AB13,'12. Lists'!$F$36:$H$38,2,FALSE)) | AD13: =IF(AB13="","",VLOOKUP(AB13,'12. Lists'!$F$36:$H$38,3,FALSE)) | AE13: =IF(D13="","",((J13/1000)*V13*X13)*(AA13*AD13)) | AF13: =IF(D13="","",((K13/1000)*V13*X13)*(AA13*AD13)) | AG13: =IF(D13="","",M13) | AH13: =IF(U13="","",VLOOKUP(U13,'12. Lists'!$B$47:$D$49,3,FALSE)) | AI13: =IF(D13="","",VLOOKUP(D13,'11. Condition and Temporal'!$B$6:$J$101,4,FALSE))
B14: 4 | L14: =IF(C14="","",IFERROR(IF(I14="","Length Error",((I14/1000)*V14*X14)*(AA14*AD14)),"Value Missing")) | M14: =IF(I14="","",IF(J14+K14>I14,"Length Error",I14-J14-K14)) | N14: =IFERROR(IF(I14="","",IF(M14="Length Error","Length Error",((M14/1000)*V14*X14)*(AA14*AD14))),"Value Missing") | U14: =IF(C14="","",VLOOKUP(D14,'10. All Habitats + Multipliers'!$C$4:$K$99,5,FALSE)) | V14: =IF(U14="","",VLOOKUP(U14,'12. Lists'!$B$47:$D$49,2,FALSE)) | W14: =IF(C14="","",VLOOKUP(D14,'11. Condition and Temporal'!$B$6:$C$101,2,FALSE)) | X14: =IF(W14="","",VLOOKUP(W14,'12. Lists'!$F$47:$G$51,2,FALSE)) | Y14: =IF(C14="","",VLOOKUP(D14,'10. All Habitats + Multipliers'!$C$4:$K$99,9,FALSE)) | Z14: =IF(Y14="","",VLOOKUP(Y14,'12. Lists'!$B$36:$D$39,2,FALSE)) | AA14: =IF(Y14="","",VLOOKUP(Y14,'12. Lists'!$B$36:$D$39,3,FALSE)) | AB14: =IF(F14="","",F14) | AC14: =IF(AB14="","",VLOOKUP(AB14,'12. Lists'!$F$36:$H$38,2,FALSE)) | AD14: =IF(AB14="","",VLOOKUP(AB14,'12. Lists'!$F$36:$H$38,3,FALSE)) | AE14: =IF(D14="","",((J14/1000)*V14*X14)*(AA14*AD14)) | AF14: =IF(D14="","",((K14/1000)*V14*X14)*(AA14*AD14)) | AG14: =IF(D14="","",M14) | AH14: =IF(U14="","",VLOOKUP(U14,'12. Lists'!$B$47:$D$49,3,FALSE)) | AI14: =IF(D14="","",VLOOKUP(D14,'11. Condition and Temporal'!$B$6:$J$101,4,FALSE))
B15: 5 | L15: =IF(C15="","",IFERROR(IF(I15="","Length Error",((I15/1000)*V15*X15)*(AA15*AD15)),"Value Missing")) | M15: =IF(I15="","",IF(J15+K15>I15,"Length Error",I15-J15-K15)) | N15: =IFERROR(IF(I15="","",IF(M15="Length Error","Length Error",((M15/1000)*V15*X15)*(AA15*AD15))),"Value Missing") | U15: =IF(C15="","",VLOOKUP(D15,'10. All Habitats + Multipliers'!$C$4:$K$99,5,FALSE)) | V15: =IF(U15="","",VLOOKUP(U15,'12. Lists'!$B$47:$D$49,2,FALSE)) | W15: =IF(C15="","",VLOOKUP(D15,'11. Condition and Temporal'!$B$6:$C$101,2,FALSE)) | X15: =IF(W15="","",VLOOKUP(W15,'12. Lists'!$F$47:$G$51,2,FALSE)) | Y15: =IF(C15="","",VLOOKUP(D15,'10. All Habitats + Multipliers'!$C$4:$K$99,9,FALSE)) | Z15: =IF(Y15="","",VLOOKUP(Y15,'12. Lists'!$B$36:$D$39,2,FALSE)) | AA15: =IF(Y15="","",VLOOKUP(Y15,'12. Lists'!$B$36:$D$39,3,FALSE)) | AB15: =IF(F15="","",F15) | AC15: =IF(AB15="","",VLOOKUP(AB15,'12. Lists'!$F$36:$H$38,2,FALSE)) | AD15: =IF(AB15="","",VLOOKUP(AB15,'12. Lists'!$F$36:$H$38,3,FALSE)) | AE15: =IF(D15="","",((J15/1000)*V15*X15)*(AA15*AD15)) | AF15: =IF(D15="","",((K15/1000)*V15*X15)*(AA15*AD15)) | AG15: =IF(D15="","",M15) | AH15: =IF(U15="","",VLOOKUP(U15,'12. Lists'!$B$47:$D$49,3,FALSE)) | AI15: =IF(D15="","",VLOOKUP(D15,'11. Condition and Temporal'!$B$6:$J$101,4,FALSE))
B16: 6 | L16: =IF(C16="","",IFERROR(IF(I16="","Length Error",((I16/1000)*V16*X16)*(AA16*AD16)),"Value Missing")) | M16: =IF(I16="","",IF(J16+K16>I16,"Length Error",I16-J16-K16)) | N16: =IFERROR(IF(I16="","",IF(M16="Length Error","Length Error",((M16/1000)*V16*X16)*(AA16*AD16))),"Value Missing") | U16: =IF(C16="","",VLOOKUP(D16,'10. All Habitats + Multipliers'!$C$4:$K$99,5,FALSE)) | V16: =IF(U16="","",VLOOKUP(U16,'12. Lists'!$B$47:$D$49,2,FALSE)) | W16: =IF(C16="","",VLOOKUP(D16,'11. Condition and Temporal'!$B$6:$C$101,2,FALSE)) | X16: =IF(W16="","",VLOOKUP(W16,'12. Lists'!$F$47:$G$51,2,FALSE)) | Y16: =IF(C16="","",VLOOKUP(D16,'10. All Habitats + Multipliers'!$C$4:$K$99,9,FALSE)) | Z16: =IF(Y16="","",VLOOKUP(Y16,'12. Lists'!$B$36:$D$39,2,FALSE)) | AA16: =IF(Y16="","",VLOOKUP(Y16,'12. Lists'!$B$36:$D$39,3,FALSE)) | AB16: =IF(F16="","",F16) | AC16: =IF(AB16="","",VLOOKUP(AB16,'12. Lists'!$F$36:$H$38,2,FALSE)) | AD16: =IF(AB16="","",VLOOKUP(AB16,'12. Lists'!$F$36:$H$38,3,FALSE)) | AE16: =IF(D16="","",((J16/1000)*V16*X16)*(AA16*AD16)) | AF16: =IF(D16="","",((K16/1000)*V16*X16)*(AA16*AD16)) | AG16: =IF(D16="","",M16) | AH16: =IF(U16="","",VLOOKUP(U16,'12. Lists'!$B$47:$D$49,3,FALSE)) | AI16: =IF(D16="","",VLOOKUP(D16,'11. Condition and Temporal'!$B$6:$J$101,4,FALSE))
B17: 7 | L17: =IF(C17="","",IFERROR(IF(I17="","Length Error",((I17/1000)*V17*X17)*(AA17*AD17)),"Value Missing")) | M17: =IF(I17="","",IF(J17+K17>I17,"Length Error",I17-J17-K17)) | N17: =IFERROR(IF(I17="","",IF(M17="Length Error","Length Error",((M17/1000)*V17*X17)*(AA17*AD17))),"Value Missing") | U17: =IF(C17="","",VLOOKUP(D17,'10. All Habitats + Multipliers'!$C$4:$K$99,5,FALSE)) | V17: =IF(U17="","",VLOOKUP(U17,'12. Lists'!$B$47:$D$49,2,FALSE)) | W17: =IF(C17="","",VLOOKUP(D17,'11. Condition and Temporal'!$B$6:$C$101,2,FALSE)) | X17: =IF(W17="","",VLOOKUP(W17,'12. Lists'!$F$47:$G$51,2,FALSE)) | Y17: =IF(C17="","",VLOOKUP(D17,'10. All Habitats + Multipliers'!$C$4:$K$99,9,FALSE)) | Z17: =IF(Y17="","",VLOOKUP(Y17,'12. Lists'!$B$36:$D$39,2,FALSE)) | AA17: =IF(Y17="","",VLOOKUP(Y17,'12. Lists'!$B$36:$D$39,3,FALSE)) | AB17: =IF(F17="","",F17) | AC17: =IF(AB17="","",VLOOKUP(AB17,'12. Lists'!$F$36:$H$38,2,FALSE)) | AD17: =IF(AB17="","",VLOOKUP(AB17,'12. Lists'!$F$36:$H$38,3,FALSE)) | AE17: =IF(D17="","",((J17/1000)*V17*X17)*(AA17*AD17)) | AF17: =IF(D17="","",((K17/1000)*V17*X17)*(AA17*AD17)) | AG17: =IF(D17="","",M17) | AH17: =IF(U17="","",VLOOKUP(U17,'12. Lists'!$B$47:$D$49,3,FALSE)) | AI17: =IF(D17="","",VLOOKUP(D17,'11. Condition and Temporal'!$B$6:$J$101,4,FALSE))
B18: 8 | L18: =IF(C18="","",IFERROR(IF(I18="","Length Error",((I18/1000)*V18*X18)*(AA18*AD18)),"Value Missing")) | M18: =IF(I18="","",IF(J18+K18>I18,"Length Error",I18-J18-K18)) | N18: =IFERROR(IF(I18="","",IF(M18="Length Error","Length Error",((M18/1000)*V18*X18)*(AA18*AD18))),"Value Missing") | U18: =IF(C18="","",VLOOKUP(D18,'10. All Habitats + Multipliers'!$C$4:$K$99,5,FALSE)) | V18: =IF(U18="","",VLOOKUP(U18,'12. Lists'!$B$47:$D$49,2,FALSE)) | W18: =IF(C18="","",VLOOKUP(D18,'11. Condition and Temporal'!$B$6:$C$101,2,FALSE)) | X18: =IF(W18="","",VLOOKUP(W18,'12. Lists'!$F$47:$G$51,2,FALSE)) | Y18: =IF(C18="","",VLOOKUP(D18,'10. All Habitats + Multipliers'!$C$4:$K$99,9,FALSE)) | Z18: =IF(Y18="","",VLOOKUP(Y18,'12. Lists'!$B$36:$D$39,2,FALSE)) | AA18: =IF(Y18="","",VLOOKUP(Y18,'12. Lists'!$B$36:$D$39,3,FALSE)) | AB18: =IF(F18="","",F18) | AC18: =IF(AB18="","",VLOOKUP(AB18,'12. Lists'!$F$36:$H$38,2,FALSE)) | AD18: =IF(AB18="","",VLOOKUP(AB18,'12. Lists'!$F$36:$H$38,3,FALSE)) | AE18: =IF(D18="","",((J18/1000)*V18*X18)*(AA18*AD18)) | AF18: =IF(D18="","",((K18/1000)*V18*X18)*(AA18*AD18)) | AG18: =IF(D18="","",M18) | AH18: =IF(U18="","",VLOOKUP(U18,'12. Lists'!$B$47:$D$49,3,FALSE)) | AI18: =IF(D18="","",VLOOKUP(D18,'11. Condition and Temporal'!$B$6:$J$101,4,FALSE))
B19: 9 | L19: =IF(C19="","",IFERROR(IF(I19="","Length Error",((I19/1000)*V19*X19)*(AA19*AD19)),"Value Missing")) | M19: =IF(I19="","",IF(J19+K19>I19,"Length Error",I19-J19-K19)) | N19: =IFERROR(IF(I19="","",IF(M19="Length Error","Length Error",((M19/1000)*V19*X19)*(AA19*AD19))),"Value Missing") | U19: =IF(C19="","",VLOOKUP(D19,'10. All Habitats + Multipliers'!$C$4:$K$99,5,FALSE)) | V19: =IF(U19="","",VLOOKUP(U19,'12. Lists'!$B$47:$D$49,2,FALSE)) | W19: =IF(C19="","",VLOOKUP(D19,'11. Condition and Temporal'!$B$6:$C$101,2,FALSE)) | X19: =IF(W19="","",VLOOKUP(W19,'12. Lists'!$F$47:$G$51,2,FALSE)) | Y19: =IF(C19="","",VLOOKUP(D19,'10. All Habitats + Multipliers'!$C$4:$K$99,9,FALSE)) | Z19: =IF(Y19="","",VLOOKUP(Y19,'12. Lists'!$B$36:$D$39,2,FALSE)) | AA19: =IF(Y19="","",VLOOKUP(Y19,'12. Lists'!$B$36:$D$39,3,FALSE)) | AB19: =IF(F19="","",F19) | AC19: =IF(AB19="","",VLOOKUP(AB19,'12. Lists'!$F$36:$H$38,2,FALSE)) | AD19: =IF(AB19="","",VLOOKUP(AB19,'12. Lists'!$F$36:$H$38,3,FALSE)) | AE19: =IF(D19="","",((J19/1000)*V19*X19)*(AA19*AD19)) | AF19: =IF(D19="","",((K19/1000)*V19*X19)*(AA19*AD19)) | AG19: =IF(D19="","",M19) | AH19: =IF(U19="","",VLOOKUP(U19,'12. Lists'!$B$47:$D$49,3,FALSE)) | AI19: =IF(D19="","",VLOOKUP(D19,'11. Condition and Temporal'!$B$6:$J$101,4,FALSE))
B20: 10 | L20: =IF(C20="","",IFERROR(IF(I20="","Length Error",((I20/1000)*V20*X20)*(AA20*AD20)),"Value Missing")) | M20: =IF(I20="","",IF(J20+K20>I20,"Length Error",I20-J20-K20)) | N20: =IFERROR(IF(I20="","",IF(M20="Length Error","Length Error",((M20/1000)*V20*X20)*(AA20*AD20))),"Value Missing") | U20: =IF(C20="","",VLOOKUP(D20,'10. All Habitats + Multipliers'!$C$4:$K$99,5,FALSE)) | V20: =IF(U20="","",VLOOKUP(U20,'12. Lists'!$B$47:$D$49,2,FALSE)) | W20: =IF(C20="","",VLOOKUP(D20,'11. Condition and Temporal'!$B$6:$C$101,2,FALSE)) | X20: =IF(W20="","",VLOOKUP(W20,'12. Lists'!$F$47:$G$51,2,FALSE)) | Y20: =IF(C20="","",VLOOKUP(D20,'10. All Habitats + Multipliers'!$C$4:$K$99,9,FALSE)) | Z20: =IF(Y20="","",VLOOKUP(Y20,'12. Lists'!$B$36:$D$39,2,FALSE)) | AA20: =IF(Y20="","",VLOOKUP(Y20,'12. Lists'!$B$36:$D$39,3,FALSE)) | AB20: =IF(F20="","",F20) | AC20: =IF(AB20="","",VLOOKUP(AB20,'12. Lists'!$F$36:$H$38,2,FALSE)) | AD20: =IF(AB20="","",VLOOKUP(AB20,'12. Lists'!$F$36:$H$38,3,FALSE)) | AE20: =IF(D20="","",((J20/1000)*V20*X20)*(AA20*AD20)) | AF20: =IF(D20="","",((K20/1000)*V20*X20)*(AA20*AD20)) | AG20: =IF(D20="","",M20) | AH20: =IF(U20="","",VLOOKUP(U20,'12. Lists'!$B$47:$D$49,3,FALSE)) | AI20: =IF(D20="","",VLOOKUP(D20,'11. Condition and Temporal'!$B$6:$J$101,4,FALSE))
B21: 11 | L21: =IF(C21="","",IFERROR(IF(I21="","Length Error",((I21/1000)*V21*X21)*(AA21*AD21)),"Value Missing")) | M21: =IF(I21="","",IF(J21+K21>I21,"Length Error",I21-J21-K21)) | N21: =IFERROR(IF(I21="","",IF(M21="Length Error","Length Error",((M21/1000)*V21*X21)*(AA21*AD21))),"Value Missing") | U21: =IF(C21="","",VLOOKUP(D21,'10. All Habitats + Multipliers'!$C$4:$K$99,5,FALSE)) | V21: =IF(U21="","",VLOOKUP(U21,'12. Lists'!$B$47:$D$49,2,FALSE)) | W21: =IF(C21="","",VLOOKUP(D21,'11. Condition and Temporal'!$B$6:$C$101,2,FALSE)) | X21: =IF(W21="","",VLOOKUP(W21,'12. Lists'!$F$47:$G$51,2,FALSE)) | Y21: =IF(C21="","",VLOOKUP(D21,'10. All Habitats + Multipliers'!$C$4:$K$99,9,FALSE)) | Z21: =IF(Y21="","",VLOOKUP(Y21,'12. Lists'!$B$36:$D$39,2,FALSE)) | AA21: =IF(Y21="","",VLOOKUP(Y21,'12. Lists'!$B$36:$D$39,3,FALSE)) | AB21: =IF(F21="","",F21) | AC21: =IF(AB21="","",VLOOKUP(AB21,'12. Lists'!$F$36:$H$38,2,FALSE)) | AD21: =IF(AB21="","",VLOOKUP(AB21,'12. Lists'!$F$36:$H$38,3,FALSE)) | AE21: =IF(D21="","",((J21/1000)*V21*X21)*(AA21*AD21)) | AF21: =IF(D21="","",((K21/1000)*V21*X21)*(AA21*AD21)) | AG21: =IF(D21="","",M21) | AH21: =IF(U21="","",VLOOKUP(U21,'12. Lists'!$B$47:$D$49,3,FALSE)) | AI21: =IF(D21="","",VLOOKUP(D21,'11. Condition and Temporal'!$B$6:$J$101,4,FALSE))
B22: 12 | L22: =IF(C22="","",IFERROR(IF(I22="","Length Error",((I22/1000)*V22*X22)*(AA22*AD22)),"Value Missing")) | M22: =IF(I22="","",IF(J22+K22>I22,"Length Error",I22-J22-K22)) | N22: =IFERROR(IF(I22="","",IF(M22="Length Error","Length Error",((M22/1000)*V22*X22)*(AA22*AD22))),"Value Missing") | U22: =IF(C22="","",VLOOKUP(D22,'10. All Habitats + Multipliers'!$C$4:$K$99,5,FALSE)) | V22: =IF(U22="","",VLOOKUP(U22,'12. Lists'!$B$47:$D$49,2,FALSE)) | W22: =IF(C22="","",VLOOKUP(D22,'11. Condition and Temporal'!$B$6:$C$101,2,FALSE)) | X22: =IF(W22="","",VLOOKUP(W22,'12. Lists'!$F$47:$G$51,2,FALSE)) | Y22: =IF(C22="","",VLOOKUP(D22,'10. All Habitats + Multipliers'!$C$4:$K$99,9,FALSE)) | Z22: =IF(Y22="","",VLOOKUP(Y22,'12. Lists'!$B$36:$D$39,2,FALSE)) | AA22: =IF(Y22="","",VLOOKUP(Y22,'12. Lists'!$B$36:$D$39,3,FALSE)) | AB22: =IF(F22="","",F22) | AC22: =IF(AB22="","",VLOOKUP(AB22,'12. Lists'!$F$36:$H$38,2,FALSE)) | AD22: =IF(AB22="","",VLOOKUP(AB22,'12. Lists'!$F$36:$H$38,3,FALSE)) | AE22: =IF(D22="","",((J22/1000)*V22*X22)*(AA22*AD22)) | AF22: =IF(D22="","",((K22/1000)*V22*X22)*(AA22*AD22)) | AG22: =IF(D22="","",M22) | AH22: =IF(U22="","",VLOOKUP(U22,'12. Lists'!$B$47:$D$49,3,FALSE)) | AI22: =IF(D22="","",VLOOKUP(D22,'11. Condition and Temporal'!$B$6:$J$101,4,FALSE))
B23: 13 | L23: =IF(C23="","",IFERROR(IF(I23="","Length Error",((I23/1000)*V23*X23)*(AA23*AD23)),"Value Missing")) | M23: =IF(I23="","",IF(J23+K23>I23,"Length Error",I23-J23-K23)) | N23: =IFERROR(IF(I23="","",IF(M23="Length Error","Length Error",((M23/1000)*V23*X23)*(AA23*AD23))),"Value Missing") | U23: =IF(C23="","",VLOOKUP(D23,'10. All Habitats + Multipliers'!$C$4:$K$99,5,FALSE)) | V23: =IF(U23="","",VLOOKUP(U23,'12. Lists'!$B$47:$D$49,2,FALSE)) | W23: =IF(C23="","",VLOOKUP(D23,'11. Condition and Temporal'!$B$6:$C$101,2,FALSE)) | X23: =IF(W23="","",VLOOKUP(W23,'12. Lists'!$F$47:$G$51,2,FALSE)) | Y23: =IF(C23="","",VLOOKUP(D23,'10. All Habitats + Multipliers'!$C$4:$K$99,9,FALSE)) | Z23: =IF(Y23="","",VLOOKUP(Y23,'12. Lists'!$B$36:$D$39,2,FALSE)) | AA23: =IF(Y23="","",VLOOKUP(Y23,'12. Lists'!$B$36:$D$39,3,FALSE)) | AB23: =IF(F23="","",F23) | AC23: =IF(AB23="","",VLOOKUP(AB23,'12. Lists'!$F$36:$H$38,2,FALSE)) | AD23: =IF(AB23="","",VLOOKUP(AB23,'12. Lists'!$F$36:$H$38,3,FALSE)) | AE23: =IF(D23="","",((J23/1000)*V23*X23)*(AA23*AD23)) | AF23: =IF(D23="","",((K23/1000)*V23*X23)*(AA23*AD23)) | AG23: =IF(D23="","",M23) | AH23: =IF(U23="","",VLOOKUP(U23,'12. Lists'!$B$47:$D$49,3,FALSE)) | AI23: =IF(D23="","",VLOOKUP(D23,'11. Condition and Temporal'!$B$6:$J$101,4,FALSE))
... B30: 20 | L30: =IF(C30="","",IFERROR(IF(I30="","Length Error",((I30/1000)*V30*X30)*(AA30*AD30)),"Value Missing")) | M30: =IF(I30="","",IF(J30+K30>I30,"Length Error",I30-J30-K30)) | N30: =IFERROR(IF(I30="","",IF(M30="Length Error","Length Error",((M30/1000)*V30*X30)*(AA30*AD30))),"Value Missing") | U30: =IF(C30="","",VLOOKUP(D30,'10. All Habitats + Multipliers'!$C$4:$K$99,5,FALSE)) | V30: =IF(U30="","",VLOOKUP(U30,'12. Lists'!$B$47:$D$49,2,FALSE)) | W30: =IF(C30="","",VLOOKUP(D30,'11. Condition and Temporal'!$B$6:$C$101,2,FALSE)) | X30: =IF(W30="","",VLOOKUP(W30,'12. Lists'!$F$47:$G$51,2,FALSE)) | Y30: =IF(C30="","",VLOOKUP(D30,'10. All Habitats + Multipliers'!$C$4:$K$99,9,FALSE)) | Z30: =IF(Y30="","",VLOOKUP(Y30,'12. Lists'!$B$36:$D$39,2,FALSE)) | AA30: =IF(Y30="","",VLOOKUP(Y30,'12. Lists'!$B$36:$D$39,3,FALSE)) | AB30: =IF(F30="","",F30) | AC30: =IF(AB30="","",VLOOKUP(AB30,'12. Lists'!$F$36:$H$38,2,FALSE)) | AD30: =IF(AB30="","",VLOOKUP(AB30,'12. Lists'!$F$36:$H$38,3,FALSE)) | AE30: =IF(D30="","",((J30/1000)*V30*X30)*(AA30*AD30)) | AF30: =IF(D30="","",((K30/1000)*V30*X30)*(AA30*AD30)) | AG30: =IF(D30="","",M30) | AH30: =IF(U30="","",VLOOKUP(U30,'12. Lists'!$B$47:$D$49,3,FALSE)) | AI30: =IF(D30="","",VLOOKUP(D30,'11. Condition and Temporal'!$B$6:$J$101,4,FALSE))
H31: Totals | I31: =SUM(I11:I30) -> 0 | J31: =SUM(J11:J30) -> 0 | K31: =SUM(K11:K30) -> 0 | L31: =SUM(L11:L30) -> 0 | M31: =SUM(M11:M30) -> 0 | N31: =SUM(N11:N30) -> 0
H32: Error Check 1 | I32: =IF(I31<J31+K31,"Error - Lengths Retained and Enhanced Exceed Total Length","Lengths Acceptable") -> Lengths Acceptable | O32: =IFERROR(FIND("Error",I32),0) -> 0
O33: =COUNTIF(L11:N30,"*"&"error"&"*") -> 0
R34: Data beyond this column is automated
B35: 1b. Habitats to be created
B37: Ref | E37: Condition Assessment | H37: D. Strategic significance | I37: E. Total Length created M | L37: Units created onsite | O37: Comments | U37: Habitat distinctiveness | W37: Habitat condition | Y37: Ecological connectivity | AB37: Strategic significance | AE37: Temporal multiplier | AG37: Difficulty multipliers
C38: A. Broad Habitat | D38: B. Habitat type | E38: Acceptable condition options | F38: C. Targeted condition | O38: User comments | P38: LPA comments | U38: Distinctiveness | V38: Score | W38: Condition | X38: Score | Y38: Ecological connectivity | Z38: Connectivity | AA38: Connectivity multiplier | AB38: Strategic significance | AC38: Strategic significance | AD38: Strategic position multiplier | AE38: Time to target condition/years | AF38: Time to target multiplier | AG38: Difficulty of creation category | AH38: Difficulty of creation multiplier
B39: 1 | C39: Hedgerow | D39: Native Species Rich Hedgerow | E39: =IF(D39="","",VLOOKUP(D39,'11. Condition and Temporal'!$B$6:$D$101,3,FALSE)) -> Moderate, Good | F39: Moderate | H39: Within area formally identified in local strategy | I39: 41 | L39: =IF(C39="","",IFERROR(IF(I39="","Length error",((I39/1000)*(V39*X39))*(AH39*AF39)*(AA39*AD39)),"Value missing")) -> 0.31565179 | O39: The species mix for the new hedge will include in excess of five native woody species | U39: =IF(C39="","",VLOOKUP(D39,'10. All Habitats + Multipliers'!$C$4:$K$99,5,FALSE)) -> Medium | V39: =IF(U39="","",VLOOKUP(U39,'12. Lists'!$B$47:$D$49,2,FALSE)) -> 4 | W39: =IF(F39="","",F39) -> Moderate | X39: =IF(W39="","",VLOOKUP(W39,'12. Lists'!$F$47:$G$51,2,FALSE)) -> 2 | Y39: =IF(C39="","",VLOOKUP(D39,'10. All Habitats + Multipliers'!$C$4:$K$99,9,FALSE)) -> Low | Z39: =IF(Y39="","",VLOOKUP(Y39,'12. Lists'!$B$36:$D$39,2,FALSE)) -> Unconnected habitat | AA39: =IF(Y39="","",VLOOKUP(Y39,'12. Lists'!$B$36:$D$39,3,FALSE)) -> 1 | AB39: =IF(H39="","",H39) -> Within area formally identified in local strategy | AC39: =IF(AB39="","",VLOOKUP(AB39,'12. Lists'!$F$36:$H$38,2,FALSE)) -> High strategic significance | AD39: =IF(AB39="","",VLOOKUP(AB39,'12. Lists'!$F$36:$H$38,3,FALSE)) -> 1.15 | AE39: =IF(F39="","",IF(F39="Moderate",VLOOKUP(D39,'11. Condition and Temporal'!$B$6:$J$101,6,FALSE),IF('6. Hedges & Lines of Trees'!F39="Good",VLOOKUP(D39,'11. Condition and Temporal'!$B$6:$J$101,7,FALSE),VLOOKUP(D39,'11. Condition and Temporal'!$B$6:$J$101,8,FALSE)))) -> 5 | AF39: =IF(AE39="","",VLOOKUP(AE39,'12. Lists'!$I$47:$K$80,3,FALSE)) -> 0.8368287 | AG39: =IF(D39="","",VLOOKUP(D39,'10. All Habitats + Multipliers'!$C$4:$K$99,7,FALSE)) -> Low | AH39: =IF(AG39="","",VLOOKUP(AG39,'12. Lists'!$J$35:$K$38,2,FALSE)) -> 1
B40: 2 | E40: =IF(D40="","",VLOOKUP(D40,'11. Condition and Temporal'!$B$6:$D$101,3,FALSE)) | L40: =IF(C40="","",IFERROR(IF(I40="","Length error",((I40/1000)*(V40*X40))*(AH40*AF40)*(AA40*AD40)),"Value missing")) | U40: =IF(C40="","",VLOOKUP(D40,'10. All Habitats + Multipliers'!$C$4:$K$99,5,FALSE)) | V40: =IF(U40="","",VLOOKUP(U40,'12. Lists'!$B$47:$D$49,2,FALSE)) | W40: =IF(F40="","",F40) | X40: =IF(W40="","",VLOOKUP(W40,'12. Lists'!$F$47:$G$51,2,FALSE)) | Y40: =IF(C40="","",VLOOKUP(D40,'10. All Habitats + Multipliers'!$C$4:$K$99,9,FALSE)) | Z40: =IF(Y40="","",VLOOKUP(Y40,'12. Lists'!$B$36:$D$39,2,FALSE)) | AA40: =IF(Y40="","",VLOOKUP(Y40,'12. Lists'!$B$36:$D$39,3,FALSE)) | AB40: =IF(H40="","",H40) | AC40: =IF(AB40="","",VLOOKUP(AB40,'12. Lists'!$F$36:$H$38,2,FALSE)) | AD40: =IF(AB40="","",VLOOKUP(AB40,'12. Lists'!$F$36:$H$38,3,FALSE)) | AE40: =IF(F40="","",IF(F40="Moderate",VLOOKUP(D40,'11. Condition and Temporal'!$B$6:$J$101,6,FALSE),IF('6. Hedges & Lines of Trees'!F40="Good",VLOOKUP(D40,'11. Condition and Temporal'!$B$6:$J$101,7,FALSE),VLOOKUP(D40,'11. Condition and Temporal'!$B$6:$J$101,8,FALSE)))) | AF40: =IF(AE40="","",VLOOKUP(AE40,'12. Lists'!$I$47:$K$80,3,FALSE)) | AG40: =IF(D40="","",VLOOKUP(D40,'10. All Habitats + Multipliers'!$C$4:$K$99,7,FALSE)) | AH40: =IF(AG40="","",VLOOKUP(AG40,'12. Lists'!$J$35:$K$38,2,FALSE))
B41: 3 | E41: =IF(D41="","",VLOOKUP(D41,'11. Condition and Temporal'!$B$6:$D$101,3,FALSE)) | L41: =IF(C41="","",IFERROR(IF(I41="","Length error",((I41/1000)*(V41*X41))*(AH41*AF41)*(AA41*AD41)),"Value missing")) | U41: =IF(C41="","",VLOOKUP(D41,'10. All Habitats + Multipliers'!$C$4:$K$99,5,FALSE)) | V41: =IF(U41="","",VLOOKUP(U41,'12. Lists'!$B$47:$D$49,2,FALSE)) | W41: =IF(F41="","",F41) | X41: =IF(W41="","",VLOOKUP(W41,'12. Lists'!$F$47:$G$51,2,FALSE)) | Y41: =IF(C41="","",VLOOKUP(D41,'10. All Habitats + Multipliers'!$C$4:$K$99,9,FALSE)) | Z41: =IF(Y41="","",VLOOKUP(Y41,'12. Lists'!$B$36:$D$39,2,FALSE)) | AA41: =IF(Y41="","",VLOOKUP(Y41,'12. Lists'!$B$36:$D$39,3,FALSE)) | AB41: =IF(H41="","",H41) | AC41: =IF(AB41="","",VLOOKUP(AB41,'12. Lists'!$F$36:$H$38,2,FALSE)) | AD41: =IF(AB41="","",VLOOKUP(AB41,'12. Lists'!$F$36:$H$38,3,FALSE)) | AE41: =IF(F41="","",IF(F41="Moderate",VLOOKUP(D41,'11. Condition and Temporal'!$B$6:$J$101,6,FALSE),IF('6. Hedges & Lines of Trees'!F41="Good",VLOOKUP(D41,'11. Condition and Temporal'!$B$6:$J$101,7,FALSE),VLOOKUP(D41,'11. Condition and Temporal'!$B$6:$J$101,8,FALSE)))) | AF41: =IF(AE41="","",VLOOKUP(AE41,'12. Lists'!$I$47:$K$80,3,FALSE)) | AG41: =IF(D41="","",VLOOKUP(D41,'10. All Habitats + Multipliers'!$C$4:$K$99,7,FALSE)) | AH41: =IF(AG41="","",VLOOKUP(AG41,'12. Lists'!$J$35:$K$38,2,FALSE))
B42: 4 | E42: =IF(D42="","",VLOOKUP(D42,'11. Condition and Temporal'!$B$6:$D$101,3,FALSE)) | L42: =IF(C42="","",IFERROR(IF(I42="","Length error",((I42/1000)*(V42*X42))*(AH42*AF42)*(AA42*AD42)),"Value missing")) | U42: =IF(C42="","",VLOOKUP(D42,'10. All Habitats + Multipliers'!$C$4:$K$99,5,FALSE)) | V42: =IF(U42="","",VLOOKUP(U42,'12. Lists'!$B$47:$D$49,2,FALSE)) | W42: =IF(F42="","",F42) | X42: =IF(W42="","",VLOOKUP(W42,'12. Lists'!$F$47:$G$51,2,FALSE)) | Y42: =IF(C42="","",VLOOKUP(D42,'10. All Habitats + Multipliers'!$C$4:$K$99,9,FALSE)) | Z42: =IF(Y42="","",VLOOKUP(Y42,'12. Lists'!$B$36:$D$39,2,FALSE)) | AA42: =IF(Y42="","",VLOOKUP(Y42,'12. Lists'!$B$36:$D$39,3,FALSE)) | AB42: =IF(H42="","",H42) | AC42: =IF(AB42="","",VLOOKUP(AB42,'12. Lists'!$F$36:$H$38,2,FALSE)) | AD42: =IF(AB42="","",VLOOKUP(AB42,'12. Lists'!$F$36:$H$38,3,FALSE)) | AE42: =IF(F42="","",IF(F42="Moderate",VLOOKUP(D42,'11. Condition and Temporal'!$B$6:$J$101,6,FALSE),IF('6. Hedges & Lines of Trees'!F42="Good",VLOOKUP(D42,'11. Condition and Temporal'!$B$6:$J$101,7,FALSE),VLOOKUP(D42,'11. Condition and Temporal'!$B$6:$J$101,8,FALSE)))) | AF42: =IF(AE42="","",VLOOKUP(AE42,'12. Lists'!$I$47:$K$80,3,FALSE)) | AG42: =IF(D42="","",VLOOKUP(D42,'10. All Habitats + Multipliers'!$C$4:$K$99,7,FALSE)) | AH42: =IF(AG42="","",VLOOKUP(AG42,'12. Lists'!$J$35:$K$38,2,FALSE))
B43: 5 | E43: =IF(D43="","",VLOOKUP(D43,'11. Condition and Temporal'!$B$6:$D$101,3,FALSE)) | L43: =IF(C43="","",IFERROR(IF(I43="","Length error",((I43/1000)*(V43*X43))*(AH43*AF43)*(AA43*AD43)),"Value missing")) | U43: =IF(C43="","",VLOOKUP(D43,'10. All Habitats + Multipliers'!$C$4:$K$99,5,FALSE)) | V43: =IF(U43="","",VLOOKUP(U43,'12. Lists'!$B$47:$D$49,2,FALSE)) | W43: =IF(F43="","",F43) | X43: =IF(W43="","",VLOOKUP(W43,'12. Lists'!$F$47:$G$51,2,FALSE)) | Y43: =IF(C43="","",VLOOKUP(D43,'10. All Habitats + Multipliers'!$C$4:$K$99,9,FALSE)) | Z43: =IF(Y43="","",VLOOKUP(Y43,'12. Lists'!$B$36:$D$39,2,FALSE)) | AA43: =IF(Y43="","",VLOOKUP(Y43,'12. Lists'!$B$36:$D$39,3,FALSE)) | AB43: =IF(H43="","",H43) | AC43: =IF(AB43="","",VLOOKUP(AB43,'12. Lists'!$F$36:$H$38,2,FALSE)) | AD43: =IF(AB43="","",VLOOKUP(AB43,'12. Lists'!$F$36:$H$38,3,FALSE)) | AE43: =IF(F43="","",IF(F43="Moderate",VLOOKUP(D43,'11. Condition and Temporal'!$B$6:$J$101,6,FALSE),IF('6. Hedges & Lines of Trees'!F43="Good",VLOOKUP(D43,'11. Condition and Temporal'!$B$6:$J$101,7,FALSE),VLOOKUP(D43,'11. Condition and Temporal'!$B$6:$J$101,8,FALSE)))) | AF43: =IF(AE43="","",VLOOKUP(AE43,'12. Lists'!$I$47:$K$80,3,FALSE)) | AG43: =IF(D43="","",VLOOKUP(D43,'10. All Habitats + Multipliers'!$C$4:$K$99,7,FALSE)) | AH43: =IF(AG43="","",VLOOKUP(AG43,'12. Lists'!$J$35:$K$38,2,FALSE))
B44: 6 | E44: =IF(D44="","",VLOOKUP(D44,'11. Condition and Temporal'!$B$6:$D$101,3,FALSE)) | L44: =IF(C44="","",IFERROR(IF(I44="","Length error",((I44/1000)*(V44*X44))*(AH44*AF44)*(AA44*AD44)),"Value missing")) | U44: =IF(C44="","",VLOOKUP(D44,'10. All Habitats + Multipliers'!$C$4:$K$99,5,FALSE)) | V44: =IF(U44="","",VLOOKUP(U44,'12. Lists'!$B$47:$D$49,2,FALSE)) | W44: =IF(F44="","",F44) | X44: =IF(W44="","",VLOOKUP(W44,'12. Lists'!$F$47:$G$51,2,FALSE)) | Y44: =IF(C44="","",VLOOKUP(D44,'10. All Habitats + Multipliers'!$C$4:$K$99,9,FALSE)) | Z44: =IF(Y44="","",VLOOKUP(Y44,'12. Lists'!$B$36:$D$39,2,FALSE)) | AA44: =IF(Y44="","",VLOOKUP(Y44,'12. Lists'!$B$36:$D$39,3,FALSE)) | AB44: =IF(H44="","",H44) | AC44: =IF(AB44="","",VLOOKUP(AB44,'12. Lists'!$F$36:$H$38,2,FALSE)) | AD44: =IF(AB44="","",VLOOKUP(AB44,'12. Lists'!$F$36:$H$38,3,FALSE)) | AE44: =IF(F44="","",IF(F44="Moderate",VLOOKUP(D44,'11. Condition and Temporal'!$B$6:$J$101,6,FALSE),IF('6. Hedges & Lines of Trees'!F44="Good",VLOOKUP(D44,'11. Condition and Temporal'!$B$6:$J$101,7,FALSE),VLOOKUP(D44,'11. Condition and Temporal'!$B$6:$J$101,8,FALSE)))) | AF44: =IF(AE44="","",VLOOKUP(AE44,'12. Lists'!$I$47:$K$80,3,FALSE)) | AG44: =IF(D44="","",VLOOKUP(D44,'10. All Habitats + Multipliers'!$C$4:$K$99,7,FALSE)) | AH44: =IF(AG44="","",VLOOKUP(AG44,'12. Lists'!$J$35:$K$38,2,FALSE))
B45: 7 | E45: =IF(D45="","",VLOOKUP(D45,'11. Condition and Temporal'!$B$6:$D$101,3,FALSE)) | L45: =IF(C45="","",IFERROR(IF(I45="","Length error",((I45/1000)*(V45*X45))*(AH45*AF45)*(AA45*AD45)),"Value missing")) | U45: =IF(C45="","",VLOOKUP(D45,'10. All Habitats + Multipliers'!$C$4:$K$99,5,FALSE)) | V45: =IF(U45="","",VLOOKUP(U45,'12. Lists'!$B$47:$D$49,2,FALSE)) | W45: =IF(F45="","",F45) | X45: =IF(W45="","",VLOOKUP(W45,'12. Lists'!$F$47:$G$51,2,FALSE)) | Y45: =IF(C45="","",VLOOKUP(D45,'10. All Habitats + Multipliers'!$C$4:$K$99,9,FALSE)) | Z45: =IF(Y45="","",VLOOKUP(Y45,'12. Lists'!$B$36:$D$39,2,FALSE)) | AA45: =IF(Y45="","",VLOOKUP(Y45,'12. Lists'!$B$36:$D$39,3,FALSE)) | AB45: =IF(H45="","",H45) | AC45: =IF(AB45="","",VLOOKUP(AB45,'12. Lists'!$F$36:$H$38,2,FALSE)) | AD45: =IF(AB45="","",VLOOKUP(AB45,'12. Lists'!$F$36:$H$38,3,FALSE)) | AE45: =IF(F45="","",IF(F45="Moderate",VLOOKUP(D45,'11. Condition and Temporal'!$B$6:$J$101,6,FALSE),IF('6. Hedges & Lines of Trees'!F45="Good",VLOOKUP(D45,'11. Condition and Temporal'!$B$6:$J$101,7,FALSE),VLOOKUP(D45,'11. Condition and Temporal'!$B$6:$J$101,8,FALSE)))) | AF45: =IF(AE45="","",VLOOKUP(AE45,'12. Lists'!$I$47:$K$80,3,FALSE)) | AG45: =IF(D45="","",VLOOKUP(D45,'10. All Habitats + Multipliers'!$C$4:$K$99,7,FALSE)) | AH45: =IF(AG45="","",VLOOKUP(AG45,'12. Lists'!$J$35:$K$38,2,FALSE))
B46: 8 | E46: =IF(D46="","",VLOOKUP(D46,'11. Condition and Temporal'!$B$6:$D$101,3,FALSE)) | L46: =IF(C46="","",IFERROR(IF(I46="","Length error",((I46/1000)*(V46*X46))*(AH46*AF46)*(AA46*AD46)),"Value missing")) | U46: =IF(C46="","",VLOOKUP(D46,'10. All Habitats + Multipliers'!$C$4:$K$99,5,FALSE)) | V46: =IF(U46="","",VLOOKUP(U46,'12. Lists'!$B$47:$D$49,2,FALSE)) | W46: =IF(F46="","",F46) | X46: =IF(W46="","",VLOOKUP(W46,'12. Lists'!$F$47:$G$51,2,FALSE)) | Y46: =IF(C46="","",VLOOKUP(D46,'10. All Habitats + Multipliers'!$C$4:$K$99,9,FALSE)) | Z46: =IF(Y46="","",VLOOKUP(Y46,'12. Lists'!$B$36:$D$39,2,FALSE)) | AA46: =IF(Y46="","",VLOOKUP(Y46,'12. Lists'!$B$36:$D$39,3,FALSE)) | AB46: =IF(H46="","",H46) | AC46: =IF(AB46="","",VLOOKUP(AB46,'12. Lists'!$F$36:$H$38,2,FALSE)) | AD46: =IF(AB46="","",VLOOKUP(AB46,'12. Lists'!$F$36:$H$38,3,FALSE)) | AE46: =IF(F46="","",IF(F46="Moderate",VLOOKUP(D46,'11. Condition and Temporal'!$B$6:$J$101,6,FALSE),IF('6. Hedges & Lines of Trees'!F46="Good",VLOOKUP(D46,'11. Condition and Temporal'!$B$6:$J$101,7,FALSE),VLOOKUP(D46,'11. Condition and Temporal'!$B$6:$J$101,8,FALSE)))) | AF46: =IF(AE46="","",VLOOKUP(AE46,'12. Lists'!$I$47:$K$80,3,FALSE)) | AG46: =IF(D46="","",VLOOKUP(D46,'10. All Habitats + Multipliers'!$C$4:$K$99,7,FALSE)) | AH46: =IF(AG46="","",VLOOKUP(AG46,'12. Lists'!$J$35:$K$38,2,FALSE))
B47: 9 | E47: =IF(D47="","",VLOOKUP(D47,'11. Condition and Temporal'!$B$6:$D$101,3,FALSE)) | L47: =IF(C47="","",IFERROR(IF(I47="","Length error",((I47/1000)*(V47*X47))*(AH47*AF47)*(AA47*AD47)),"Value missing")) | U47: =IF(C47="","",VLOOKUP(D47,'10. All Habitats + Multipliers'!$C$4:$K$99,5,FALSE)) | V47: =IF(U47="","",VLOOKUP(U47,'12. Lists'!$B$47:$D$49,2,FALSE)) | W47: =IF(F47="","",F47) | X47: =IF(W47="","",VLOOKUP(W47,'12. Lists'!$F$47:$G$51,2,FALSE)) | Y47: =IF(C47="","",VLOOKUP(D47,'10. All Habitats + Multipliers'!$C$4:$K$99,9,FALSE)) | Z47: =IF(Y47="","",VLOOKUP(Y47,'12. Lists'!$B$36:$D$39,2,FALSE)) | AA47: =IF(Y47="","",VLOOKUP(Y47,'12. Lists'!$B$36:$D$39,3,FALSE)) | AB47: =IF(H47="","",H47) | AC47: =IF(AB47="","",VLOOKUP(AB47,'12. Lists'!$F$36:$H$38,2,FALSE)) | AD47: =IF(AB47="","",VLOOKUP(AB47,'12. Lists'!$F$36:$H$38,3,FALSE)) | AE47: =IF(F47="","",IF(F47="Moderate",VLOOKUP(D47,'11. Condition and Temporal'!$B$6:$J$101,6,FALSE),IF('6. Hedges & Lines of Trees'!F47="Good",VLOOKUP(D47,'11. Condition and Temporal'!$B$6:$J$101,7,FALSE),VLOOKUP(D47,'11. Condition and Temporal'!$B$6:$J$101,8,FALSE)))) | AF47: =IF(AE47="","",VLOOKUP(AE47,'12. Lists'!$I$47:$K$80,3,FALSE)) | AG47: =IF(D47="","",VLOOKUP(D47,'10. All Habitats + Multipliers'!$C$4:$K$99,7,FALSE)) | AH47: =IF(AG47="","",VLOOKUP(AG47,'12. Lists'!$J$35:$K$38,2,FALSE))
B48: 10 | E48: =IF(D48="","",VLOOKUP(D48,'11. Condition and Temporal'!$B$6:$D$101,3,FALSE)) | L48: =IF(C48="","",IFERROR(IF(I48="","Length error",((I48/1000)*(V48*X48))*(AH48*AF48)*(AA48*AD48)),"Value missing")) | U48: =IF(C48="","",VLOOKUP(D48,'10. All Habitats + Multipliers'!$C$4:$K$99,5,FALSE)) | V48: =IF(U48="","",VLOOKUP(U48,'12. Lists'!$B$47:$D$49,2,FALSE)) | W48: =IF(F48="","",F48) | X48: =IF(W48="","",VLOOKUP(W48,'12. Lists'!$F$47:$G$51,2,FALSE)) | Y48: =IF(C48="","",VLOOKUP(D48,'10. All Habitats + Multipliers'!$C$4:$K$99,9,FALSE)) | Z48: =IF(Y48="","",VLOOKUP(Y48,'12. Lists'!$B$36:$D$39,2,FALSE)) | AA48: =IF(Y48="","",VLOOKUP(Y48,'12. Lists'!$B$36:$D$39,3,FALSE)) | AB48: =IF(H48="","",H48) | AC48: =IF(AB48="","",VLOOKUP(AB48,'12. Lists'!$F$36:$H$38,2,FALSE)) | AD48: =IF(AB48="","",VLOOKUP(AB48,'12. Lists'!$F$36:$H$38,3,FALSE)) | AE48: =IF(F48="","",IF(F48="Moderate",VLOOKUP(D48,'11. Condition and Temporal'!$B$6:$J$101,6,FALSE),IF('6. Hedges & Lines of Trees'!F48="Good",VLOOKUP(D48,'11. Condition and Temporal'!$B$6:$J$101,7,FALSE),VLOOKUP(D48,'11. Condition and Temporal'!$B$6:$J$101,8,FALSE)))) | AF48: =IF(AE48="","",VLOOKUP(AE48,'12. Lists'!$I$47:$K$80,3,FALSE)) | AG48: =IF(D48="","",VLOOKUP(D48,'10. All Habitats + Multipliers'!$C$4:$K$99,7,FALSE)) | AH48: =IF(AG48="","",VLOOKUP(AG48,'12. Lists'!$J$35:$K$38,2,FALSE))
B49: 11 | E49: =IF(D49="","",VLOOKUP(D49,'11. Condition and Temporal'!$B$6:$D$101,3,FALSE)) | L49: =IF(C49="","",IFERROR(IF(I49="","Length error",((I49/1000)*(V49*X49))*(AH49*AF49)*(AA49*AD49)),"Value missing")) | U49: =IF(C49="","",VLOOKUP(D49,'10. All Habitats + Multipliers'!$C$4:$K$99,5,FALSE)) | V49: =IF(U49="","",VLOOKUP(U49,'12. Lists'!$B$47:$D$49,2,FALSE)) | W49: =IF(F49="","",F49) | X49: =IF(W49="","",VLOOKUP(W49,'12. Lists'!$F$47:$G$51,2,FALSE)) | Y49: =IF(C49="","",VLOOKUP(D49,'10. All Habitats + Multipliers'!$C$4:$K$99,9,FALSE)) | Z49: =IF(Y49="","",VLOOKUP(Y49,'12. Lists'!$B$36:$D$39,2,FALSE)) | AA49: =IF(Y49="","",VLOOKUP(Y49,'12. Lists'!$B$36:$D$39,3,FALSE)) | AB49: =IF(H49="","",H49) | AC49: =IF(AB49="","",VLOOKUP(AB49,'12. Lists'!$F$36:$H$38,2,FALSE)) | AD49: =IF(AB49="","",VLOOKUP(AB49,'12. Lists'!$F$36:$H$38,3,FALSE)) | AE49: =IF(F49="","",IF(F49="Moderate",VLOOKUP(D49,'11. Condition and Temporal'!$B$6:$J$101,6,FALSE),IF('6. Hedges & Lines of Trees'!F49="Good",VLOOKUP(D49,'11. Condition and Temporal'!$B$6:$J$101,7,FALSE),VLOOKUP(D49,'11. Condition and Temporal'!$B$6:$J$101,8,FALSE)))) | AF49: =IF(AE49="","",VLOOKUP(AE49,'12. Lists'!$I$47:$K$80,3,FALSE)) | AG49: =IF(D49="","",VLOOKUP(D49,'10. All Habitats + Multipliers'!$C$4:$K$99,7,FALSE)) | AH49: =IF(AG49="","",VLOOKUP(AG49,'12. Lists'!$J$35:$K$38,2,FALSE))
B50: 12 | E50: =IF(D50="","",VLOOKUP(D50,'11. Condition and Temporal'!$B$6:$D$101,3,FALSE)) | L50: =IF(C50="","",IFERROR(IF(I50="","Length error",((I50/1000)*(V50*X50))*(AH50*AF50)*(AA50*AD50)),"Value missing")) | U50: =IF(C50="","",VLOOKUP(D50,'10. All Habitats + Multipliers'!$C$4:$K$99,5,FALSE)) | V50: =IF(U50="","",VLOOKUP(U50,'12. Lists'!$B$47:$D$49,2,FALSE)) | W50: =IF(F50="","",F50) | X50: =IF(W50="","",VLOOKUP(W50,'12. Lists'!$F$47:$G$51,2,FALSE)) | Y50: =IF(C50="","",VLOOKUP(D50,'10. All Habitats + Multipliers'!$C$4:$K$99,9,FALSE)) | Z50: =IF(Y50="","",VLOOKUP(Y50,'12. Lists'!$B$36:$D$39,2,FALSE)) | AA50: =IF(Y50="","",VLOOKUP(Y50,'12. Lists'!$B$36:$D$39,3,FALSE)) | AB50: =IF(H50="","",H50) | AC50: =IF(AB50="","",VLOOKUP(AB50,'12. Lists'!$F$36:$H$38,2,FALSE)) | AD50: =IF(AB50="","",VLOOKUP(AB50,'12. Lists'!$F$36:$H$38,3,FALSE)) | AE50: =IF(F50="","",IF(F50="Moderate",VLOOKUP(D50,'11. Condition and Temporal'!$B$6:$J$101,6,FALSE),IF('6. Hedges & Lines of Trees'!F50="Good",VLOOKUP(D50,'11. Condition and Temporal'!$B$6:$J$101,7,FALSE),VLOOKUP(D50,'11. Condition and Temporal'!$B$6:$J$101,8,FALSE)))) | AF50: =IF(AE50="","",VLOOKUP(AE50,'12. Lists'!$I$47:$K$80,3,FALSE)) | AG50: =IF(D50="","",VLOOKUP(D50,'10. All Habitats + Multipliers'!$C$4:$K$99,7,FALSE)) | AH50: =IF(AG50="","",VLOOKUP(AG50,'12. Lists'!$J$35:$K$38,2,FALSE))
