Workbook
Name CoastalSaltmarsh: Table15[CoastalSaltmarsh]
Name CoastalSaltmarsh: Table15[CoastalSaltmarsh]
Name CoastalSaltmarsh: Table15[CoastalSaltmarsh]
Name CoastalSaltmarsh: Table15[CoastalSaltmarsh]
Name Cropland: Table2[Cropland]
Name Cropland: Table2[Cropland]
Name Cropland: Table2[Cropland]
Name Cropland: Table2[Cropland]
Name Grassland: Table3[Grassland]
Name Grassland: Table3[Grassland]
Name Grassland: Table3[Grassland]
Name Grassland: Table3[Grassland]
Name Heathlandandshrub: Table4[Heathlandandshrub]
Name Heathlandandshrub: Table4[Heathlandandshrub]
Name Heathlandandshrub: Table4[Heathlandandshrub]
Name Heathlandandshrub: Table4[Heathlandandshrub]
Name Hedgerow: Table11[Hedgerow]
Name Hedgerow: Table11[Hedgerow]
Name Intertidalhardstructures: Table5[Intertidalhardstructures]
Name Intertidalhardstructures: Table5[Intertidalhardstructures]
Name Intertidalhardstructures: Table5[Intertidalhardstructures]
Name Intertidalhardstructures: Table5[Intertidalhardstructures]
Name Intertidalsediment: Table6[Intertidalsediment]
Name Intertidalsediment: Table6[Intertidalsediment]
Name Intertidalsediment: Table6[Intertidalsediment]
Name Intertidalsediment: Table6[Intertidalsediment]
Name Lakes: Table7[Lakes]
Name Lakes: Table7[Lakes]
Name Lakes: Table7[Lakes]
Name Lakes: Table7[Lakes]
Name Lineoftrees: Table12[Lineoftrees]
Name Lineoftrees: Table12[Lineoftrees]
Name Lineoftrees: Table12[Lineoftrees]
Name Lineoftrees: Table12[Lineoftrees]
Name Rivers: Table13[Watercourses]
Name Rivers: Table13[Watercourses]
Name Rivers: Table13[Watercourses]
Name Rivers: Table13[Watercourses]
Name Sparselyvegetatedland: Table8[Sparselyvegetatedland]
Name Sparselyvegetatedland: Table8[Sparselyvegetatedland]
Name Sparselyvegetatedland: Table8[Sparselyvegetatedland]
Name Sparselyvegetatedland: Table8[Sparselyvegetatedland]
Name TemporalConditions: '[1]G-4 Temporal multipliers'!$F$3:$M$3
Name TemporalData: '[1]G-4 Temporal multipliers'!$F$3:$M$138
Name TemporalHabitats: '[1]G-4 Temporal multipliers'!$F$3:$F$138
Name Urban: Table9[Urban]
Name Urban: Table9[Urban]
Name Urban: Table9[Urban]
Name Urban: Table9[Urban]
Name Watercourses: '12. Lists'!$Y$2:$Y$4
Name Woodlandandforest: Table10[Woodlandandforest]
Name Woodlandandforest: Table10[Woodlandandforest]
Name Woodlandandforest: Table10[Woodlandandforest]
Name Woodlandandforest: Table10[Woodlandandforest]

Sheet 1. Introduction
A6: created by Sam Arthur @ FPCR | B6: Small Sites Metric
B9: Beta Test
B11: Release Date: | F11: July 2021
B12: Version | F12: 1.0
B13: ISBN: 978-1-78354-793-7
B14: Authors: | C14: Sam Arthur (Associate Ecologist & Biodiversity Net Gain Specialist - FPCR) James Hutchinson (Ecologist - FPCR) Tom Butterworth (Technical Director for Natural Capital and Biodiversity - WSP) Julia Baker (Biodiversity Technical Specialist - Balfour Beatty Construction Services UK) Jack Potter (Biodiversity Net Gain Senior Specialist - Natural England)
B17: Cell style conventions
D19: Option information
D21: Enter data
D23: Automated equation
D25: Result
J26: Technical Requirements - Excel Versions: 2010, 2013, 2016, 2019, Office 365, Excel for Android

Sheet 2. Site Details
B2: Sheet Name | D2: Site Details
B4: 1. Planning authority: | D4: Barnsley Metropolitan Borough Council
B5: 2. Site name: | D5: Land off Barnsley Rd, Darton
B6: 3. Applicant:
B7: 4. Planning application type: | D7: Outline planning consent
B8: 5. Planning application reference: | D8: 2021/1571
B9: 6. Metric completed by (name & job title): | D9: Robert Bell - Principal Ecologist
B10: 7. Date of metric completion: | D10: 44669
B11: 8. Revision number: | D11: 1
B12: 9. Masterplan document title / drawing number: | D12: 0280_BARN_108
B13: Net Gain Targets
B14: 10. Targeted % increase in Units | C14: 12a. Habitat | D14: 10 | E14: =IF(D14<10,"Caution - % target reduced below default",IF(D14>10,"Caution -Target increased above default",""))
C15: 12b. Hedgerow | D15: 10 | E15: =IF(D15<10,"Caution - % target reduced below default",IF(D15>10,"Caution -Target increased above default",""))
C16: 12c. River | D16: 10 | E16: =IF(D16<10,"Caution - % target reduced below default",IF(D16>10,"Caution -Target increased above default",""))
B18: 11. Targeted increase in Units if baseline value is zero - agreed with local planning authority | C18: 12a. Habitat units | D18: 0 | E18: =IF(D18=0,"","Unit increase Targets must be agreed with LPA")
C19: 12b. Hedgerow units | D19: 0 | E19: =IF(D19=0,"","Unit increase Targets must be agreed with LPA")
C20: 12c. River units | D20: 0 | E20: =IF(D20=0,"","Unit increase Targets must be agreed with LPA")
B22: For planning authority use only
B23: 12. Planning authority reviewer:
B24: 13. Date of planning authority review:

Sheet 3. Desktop Assessment
B2: Site Name: | C2: =IF('2. Site Details'!D5="","Enter site name on 2. Site Details",'2. Site Details'!D5) -> Land off Barnsley Rd, Darton
B3: Sheet Name | C3: Desktop Assessment
B5: Development
B6: 14. Select the type of proposed development. If Other provide details at Q.24 below | C6: Residential | D6: =IF(C6="","",IF(OR(C6="Other",AND(C6="Residential",C9<10,C9>0),AND(C6="Mixed",C9<10,C9>0)),"Site area must be less than 10,000 m2","Site area must be less than 5,000 m2")) -> Site area must be less than 10,000 m2
B7: 15. Site area (m2) | C7: 2518.8 | D7: =IF(AND(D6="Site area must be less than 10,000 m2",C7>=10000),"ERROR- Site too large for metric - USE MAIN METRIC",IF(AND(D6="Site area must be less than 5,000 m2",C7>=5000),"ERROR- Site too large for metric - USE MAIN METRIC",""))
B8: =IF(OR(C6="Residential",C6="Other"),"n/a",IF(C6="","","16. Building footprint (m2) of commercial buildings proposed within the development site (or zero if none)")) -> n/a | D8: =IF(AND(B8="n/a",C8<>""),"ERROR- Not required",IF(AND(C8<>"",C8>=1000),"ERROR- Footprint too large for metric - USE MAIN METRIC",IF(AND(C8<>"",C8>C7),"ERROR - Footprint larger than development area","")))
B9: =IF(OR(C6="Commercial",C6="Other"),"n/a",IF(C6="","","17. Number of residential units proposed within the development site")) -> 17. Number of residential units proposed within the development site | C9: 3 | D9: =IF(AND(B9="n/a",C9<>""),"ERROR- Not required",IF(OR(AND(C6="Residential",C9>=10),AND(C6="Mixed",C9>=10)),"ERROR- Number of units too large for metric - USE MAIN METRIC",IF(AND(C9<>"",C8>C7),"ERROR - Footprint larger than development area","")))
B10: Designated sites and priority habitats
B11: 18. Any designated sites on or within 500m of the site? | C11: No | D11: =IF(C11="On site","ERROR- Site too complex for metric - USE MAIN METRIC","")
B12: 19. Any priority habitats on or within 500m of the site? | C12: No | D12: =IF(C12="On site","ERROR- Site too complex for metric - USE MAIN METRIC","")
B13: 20. List the designated sites and/or priority habitats
B14: 21. Information sources used. See guidance for details of requirements.
B15: Site walkover
B16: 22. Site walkover completed? | C16: Walkover completed by qualified ecologist | D16: =IF(C16="Walkover completed by competent person","A competent person should be able to confidently identify the habitats onsite",IF(C16="No Walkover Undertaken","ERROR- Site walkover required",""))
B17: 23. Date of site walkover - DD/MM/YY | C17: 44664 | D17: =IF(C17="","Walk over date required","Site walkover data valid until "&TEXT(EDATE(C17,6),"dd/mm/yy")) -> Site walkover data valid until 13/10/22
B18: 24. Name and job title of who undertook the walkover | C18: Robert Bell - Principal Ecologist
B19: Additional details
B20: 25. Any additional information or notes:

Sheet 4. Supporting Infromation
B2: Site Name: | D2: =IF('2. Site Details'!D5="","Enter site name on 2. Site Details",'2. Site Details'!D5) -> Land off Barnsley Rd, Darton | E2: =IF(OR('3. Desktop Assessment'!C16="Walkover completed by competent person",'3. Desktop Assessment'!C16="No walkover undertaken"),IF(COUNTA(D8:E8,D10:E10,D14:E14,D16:E16,D18:E18,D22:E22,D26:E26,D30:E30,D34:E34,D38:E38,D42:E42,D46:E46,D12:E12,D20:E20,D24:E24,D28:E28,D32:E32,D36:E36,D40:E40,D44:E44)=0,"Error - Site photographs required to support application",""),"")
B3: Sheet Name | D3: Supporting Information
B5: Baseline Habitat Photos | D5: In order to support the assumptions made within the metric please inset the relevant photographs
B7: Ref | C7: Habitat type | D7: Photo 1 | E7: Photo 2
B8: 1 | C8: Date taken
C9: =IF('5. Area Habitats'!D11=0,"",'5. Area Habitats'!D11) -> Modified grassland
B10: 2 | C10: Date taken
C11: =IF('5. Area Habitats'!D12=0,"",'5. Area Habitats'!D12) -> Mixed scrub
B12: 3 | C12: Date taken
C13: =IF('5. Area Habitats'!D13=0,"",'5. Area Habitats'!D13) -> Developed land; sealed surface
B14: 4
C15: =IF('5. Area Habitats'!D14=0,"",'5. Area Habitats'!D14) -> Artificial unvegetated, unsealed surface
B16: 5 | C16: Date taken
C17: =IF('5. Area Habitats'!D15=0,"",'5. Area Habitats'!D15)
B18: 6 | C18: Date taken
C19: =IF('5. Area Habitats'!D16=0,"",'5. Area Habitats'!D16)
B20: 7 | C20: Date taken
C21: =IF('5. Area Habitats'!D17=0,"",'5. Area Habitats'!D17)
B22: 8 | C22: Date taken
C23: =IF('5. Area Habitats'!D18=0,"",'5. Area Habitats'!D18)
B24: 9 | C24: Date taken
C25: =IF('5. Area Habitats'!D19=0,"",'5. Area Habitats'!D19)
B26: 10 | C26: Date taken
C27: =IF('5. Area Habitats'!D20=0,"",'5. Area Habitats'!D20)
B28: 11 | C28: Date taken
C29: =IF('5. Area Habitats'!D21=0,"",'5. Area Habitats'!D21)
B30: 12 | C30: Date taken
C31: =IF('5. Area Habitats'!D22=0,"",'5. Area Habitats'!D22)
B32: 13 | C32: Date taken
C33: =IF('5. Area Habitats'!D23=0,"",'5. Area Habitats'!D23)
B34: 14 | C34: Date taken
C35: =IF('5. Area Habitats'!D24=0,"",'5. Area Habitats'!D24)
B36: 15 | C36: Date taken
C37: =IF('5. Area Habitats'!D25=0,"",'5. Area Habitats'!D25)
B38: 16 | C38: Date taken
C39: =IF('5. Area Habitats'!D26=0,"",'5. Area Habitats'!D26)
B40: 17 | C40: Date taken
C41: =IF('5. Area Habitats'!D27=0,"",'5. Area Habitats'!D27)
B42: 18 | C42: Date taken
C43: =IF('5. Area Habitats'!D28=0,"",'5. Area Habitats'!D28)
...

Sheet 5. Area Habitats
O1: Retained Units | P1: =SUM(AE11:AE31) -> 0.13984 | R1: Data beyond this column is automated
B2: Site Name: | C2: =IF('2. Site Details'!D5="","Enter site name on 2. Site Details",'2. Site Details'!D5) -> Land off Barnsley Rd, Darton | F2: Instructions: 1. Enter data in the Baseline Habitats table 2. Scroll down to enter data for any habitats to be created 3. Scroll down again to enter data for any habitats being enhanced 4. Finally scroll down to enter data about any urban trees | J2: =IFERROR(IF(SUM(O33:O35,O62,O90,J114:J133,J136:J140,O36)>0,"Rule Based Errors Present On Sheet - Red Cells Highlight Errors","All Key Rules Satisfied"),"Technical Errors On Sheet") -> Rule Based Errors Present On Sheet - Red Cells Highlight Errors | O2: Lost Units | P2: =N32 -> 0.3358
B3: Sheet Name | C3: 4. Area Habitats | O3: Created Units | P3: =L61 -> 0.63883812
O4: Enhancement Units | P4: =L89 -> 0
O5: Net Change | P5: =P1+L61+L89-L32 -> 0.30303812
B7: 1a. Baseline habitats
B9: Ref | C9: Habitat | F9: C. Strategic significance | I9: Areas M sq | L9: Baseline results | O9: Comments | U9: Habitat distinctiveness | W9: Habitat condition | Y9: Ecological connectivity | AB9: Strategic significance | AE9: Ecological baseline | AH9: Suggested action to address habitat losses | AI9: Enhancement rules
C10: A. Broad Habitat | D10: B. Habitat type | I10: D. Total Area | J10: E. Area retained | K10: F. Area enhanced | L10: Total habitat units onsite | M10: Area Lost | N10: Units lost | O10: User comments | P10: LPA comments | U10: Distinctiveness | V10: Score | W10: Condition | X10: Score | Y10: Ecological connectivity | Z10: Connectivity | AA10: Connectivity multiplier | AB10: Strategic significance | AC10: Strategic significance | AD10: Strategic position multiplier | AE10: Baseline units retained | AF10: Baseline units to be enhanced | AG10: Area lost
B11: 1 | C11: Grassland | D11: Modified grassland | F11: Within area formally identified in local strategy | I11: 730 | L11: =IF(C11="","",IFERROR(IF(I11="","Area Error",((I11/10000)*V11*X11)*(AA11*AD11)),"Value Missing")) -> 0.3358 | M11: =IF(I11="","",IF(J11+K11>I11,"Area Error",I11-J11-K11)) -> 730 | N11: =IFERROR(IF(I11="","",IF(M11="Area Error","Area Error",((M11/10000)*V11*X11)*(AA11*AD11))),"Value Missing") -> 0.3358 | U11: =IF(C11="","",VLOOKUP(D11,'10. All Habitats + Multipliers'!$C$4:$K$99,5,FALSE)) -> Low | V11: =IF(U11="","",VLOOKUP(U11,'12. Lists'!$B$47:$D$49,2,FALSE)) -> 2 | W11: =IF(C11="","",VLOOKUP(D11,'11. Condition and Temporal'!$B$6:$C$101,2,FALSE)) -> Moderate | X11: =IF(W11="","",VLOOKUP(W11,'12. Lists'!$F$47:$G$51,2,FALSE)) -> 2 | Y11: =IF(C11="","",VLOOKUP(D11,'10. All Habitats + Multipliers'!$C$4:$K$99,9,FALSE)) -> Low | Z11: =IF(Y11="","",VLOOKUP(Y11,'12. Lists'!$B$36:$D$39,2,FALSE)) -> Unconnected habitat | AA11: =IF(Y11="","",VLOOKUP(Y11,'12. Lists'!$B$36:$D$39,3,FALSE)) -> 1 | AB11: =IF(F11="","",F11) -> Within area formally identified in local strategy | AC11: =IF(AB11="","",VLOOKUP(AB11,'12. Lists'!$F$36:$H$38,2,FALSE)) -> High strategic significance | AD11: =IF(AB11="","",VLOOKUP(AB11,'12. Lists'!$F$36:$H$38,3,FALSE)) -> 1.15 | AE11: =IF(D11="","",((J11/10000)*V11*X11)*(AA11*AD11)) -> 0 | AF11: =IF(D11="","",((K11/10000)*V11*X11)*(AA11*AD11)) -> 0 | AG11: =IF(D11="","",M11) -> 730 | AH11: =IF(U11="","",VLOOKUP(U11,'12. Lists'!$B$47:$D$49,3,FALSE)) -> Same distinctiveness or better habitat required | AI11: =IF(D11="","",VLOOKUP(D11,'11. Condition and Temporal'!$B$6:$J$101,4,FALSE)) -> Modified grassland, Other lowland acid grassland, Other neutral grassland, Upland acid grassland
B12: 2 | C12: Heathland and shrub | D12: Mixed scrub | F12: Within area formally identified in local strategy | I12: 152 | J12: 152 | L12: =IF(C12="","",IFERROR(IF(I12="","Area Error",((I12/10000)*V12*X12)*(AA12*AD12)),"Value Missing")) -> 0.13984 | M12: =IF(I12="","",IF(J12+K12>I12,"Area Error",I12-J12-K12)) -> 0 | N12: =IFERROR(IF(I12="","",IF(M12="Area Error","Area Error",((M12/10000)*V12*X12)*(AA12*AD12))),"Value Missing") -> 0 | U12: =IF(C12="","",VLOOKUP(D12,'10. All Habitats + Multipliers'!$C$4:$K$99,5,FALSE)) -> Medium | V12: =IF(U12="","",VLOOKUP(U12,'12. Lists'!$B$47:$D$49,2,FALSE)) -> 4 | W12: =IF(C12="","",VLOOKUP(D12,'11. Condition and Temporal'!$B$6:$C$101,2,FALSE)) -> Moderate | X12: =IF(W12="","",VLOOKUP(W12,'12. Lists'!$F$47:$G$51,2,FALSE)) -> 2 | Y12: =IF(C12="","",VLOOKUP(D12,'10. All Habitats + Multipliers'!$C$4:$K$99,9,FALSE)) -> Low | Z12: =IF(Y12="","",VLOOKUP(Y12,'12. Lists'!$B$36:$D$39,2,FALSE)) -> Unconnected habitat | AA12: =IF(Y12="","",VLOOKUP(Y12,'12. Lists'!$B$36:$D$39,3,FALSE)) -> 1 | AB12: =IF(F12="","",F12) -> Within area formally identified in local strategy | AC12: =IF(AB12="","",VLOOKUP(AB12,'12. Lists'!$F$36:$H$38,2,FALSE)) -> High strategic significance | AD12: =IF(AB12="","",VLOOKUP(AB12,'12. Lists'!$F$36:$H$38,3,FALSE)) -> 1.15 | AE12: =IF(D12="","",((J12/10000)*V12*X12)*(AA12*AD12)) -> 0.13984 | AF12: =IF(D12="","",((K12/10000)*V12*X12)*(AA12*AD12)) -> 0 | AG12: =IF(D12="","",M12) -> 0 | AH12: =IF(U12="","",VLOOKUP(U12,'12. Lists'!$B$47:$D$49,3,FALSE)) -> Same broad habitat or a higher distinctiveness habitat required | AI12: =IF(D12="","",VLOOKUP(D12,'11. Condition and Temporal'!$B$6:$J$101,4,FALSE)) -> Mixed scrub
B13: 3 | C13: Urban | D13: Developed land; sealed surface | F13: Within area formally identified in local strategy | I13: 465 | L13: =IF(C13="","",IFERROR(IF(I13="","Area Error",((I13/10000)*V13*X13)*(AA13*AD13)),"Value Missing")) -> 0 | M13: =IF(I13="","",IF(J13+K13>I13,"Area Error",I13-J13-K13)) -> 465 | N13: =IFERROR(IF(I13="","",IF(M13="Area Error","Area Error",((M13/10000)*V13*X13)*(AA13*AD13))),"Value Missing") -> 0 | U13: =IF(C13="","",VLOOKUP(D13,'10. All Habitats + Multipliers'!$C$4:$K$99,5,FALSE)) -> V.Low | V13: =IF(U13="","",VLOOKUP(U13,'12. Lists'!$B$47:$D$49,2,FALSE)) -> 0 | W13: =IF(C13="","",VLOOKUP(D13,'11. Condition and Temporal'!$B$6:$C$101,2,FALSE)) -> N/A - Other | X13: =IF(W13="","",VLOOKUP(W13,'12. Lists'!$F$47:$G$51,2,FALSE)) -> 0 | Y13: =IF(C13="","",VLOOKUP(D13,'10. All Habitats + Multipliers'!$C$4:$K$99,9,FALSE)) -> Low | Z13: =IF(Y13="","",VLOOKUP(Y13,'12. Lists'!$B$36:$D$39,2,FALSE)) -> Unconnected habitat | AA13: =IF(Y13="","",VLOOKUP(Y13,'12. Lists'!$B$36:$D$39,3,FALSE)) -> 1 | AB13: =IF(F13="","",F13) -> Within area formally identified in local strategy | AC13: =IF(AB13="","",VLOOKUP(AB13,'12. Lists'!$F$36:$H$38,2,FALSE)) -> High strategic significance | AD13: =IF(AB13="","",VLOOKUP(AB13,'12. Lists'!$F$36:$H$38,3,FALSE)) -> 1.15 | AE13: =IF(D13="","",((J13/10000)*V13*X13)*(AA13*AD13)) -> 0 | AF13: =IF(D13="","",((K13/10000)*V13*X13)*(AA13*AD13)) -> 0 | AG13: =IF(D13="","",M13) -> 465 | AH13: =IF(U13="","",VLOOKUP(U13,'12. Lists'!$B$47:$D$49,3,FALSE)) -> Compensation Not Required | AI13: =IF(D13="","",VLOOKUP(D13,'11. Condition and Temporal'!$B$6:$J$101,4,FALSE)) -> Enhancement Not Possible
B14: 4 | C14: Urban | D14: Artificial unvegetated, unsealed surface | F14: Within area formally identified in local strategy | I14: 1172 | L14: =IF(C14="","",IFERROR(IF(I14="","Area Error",((I14/10000)*V14*X14)*(AA14*AD14)),"Value Missing")) -> 0 | M14: =IF(I14="","",IF(J14+K14>I14,"Area Error",I14-J14-K14)) -> 1172 | N14: =IFERROR(IF(I14="","",IF(M14="Area Error","Area Error",((M14/10000)*V14*X14)*(AA14*AD14))),"Value Missing") -> 0 | U14: =IF(C14="","",VLOOKUP(D14,'10. All Habitats + Multipliers'!$C$4:$K$99,5,FALSE)) -> V.Low | V14: =IF(U14="","",VLOOKUP(U14,'12. Lists'!$B$47:$D$49,2,FALSE)) -> 0 | W14: =IF(C14="","",VLOOKUP(D14,'11. Condition and Temporal'!$B$6:$C$101,2,FALSE)) -> N/A - Other | X14: =IF(W14="","",VLOOKUP(W14,'12. Lists'!$F$47:$G$51,2,FALSE)) -> 0 | Y14: =IF(C14="","",VLOOKUP(D14,'10. All Habitats + Multipliers'!$C$4:$K$99,9,FALSE)) -> Low | Z14: =IF(Y14="","",VLOOKUP(Y14,'12. Lists'!$B$36:$D$39,2,FALSE)) -> Unconnected habitat | AA14: =IF(Y14="","",VLOOKUP(Y14,'12. Lists'!$B$36:$D$39,3,FALSE)) -> 1 | AB14: =IF(F14="","",F14) -> Within area formally identified in local strategy | AC14: =IF(AB14="","",VLOOKUP(AB14,'12. Lists'!$F$36:$H$38,2,FALSE)) -> High strategic significance | AD14: =IF(AB14="","",VLOOKUP(AB14,'12. Lists'!$F$36:$H$38,3,FALSE)) -> 1.15 | AE14: =IF(D14="","",((J14/10000)*V14*X14)*(AA14*AD14)) -> 0 | AF14: =IF(D14="","",((K14/10000)*V14*X14)*(AA14*AD14)) -> 0 | AG14: =IF(D14="","",M14) -> 1172 | AH14: =IF(U14="","",VLOOKUP(U14,'12. Lists'!$B$47:$D$49,3,FALSE)) -> Compensation Not Required | AI14: =IF(D14="","",VLOOKUP(D14,'11. Condition and Temporal'!$B$6:$J$101,4,FALSE)) -> Enhancement Not Possible
B15: 5 | L15: =IF(C15="","",IFERROR(IF(I15="","Area Error",((I15/10000)*V15*X15)*(AA15*AD15)),"Value Missing")) | M15: =IF(I15="","",IF(J15+K15>I15,"Area Error",I15-J15-K15)) | N15: =IFERROR(IF(I15="","",IF(M15="Area Error","Area Error",((M15/10000)*V15*X15)*(AA15*AD15))),"Value Missing") | U15: =IF(C15="","",VLOOKUP(D15,'10. All Habitats + Multipliers'!$C$4:$K$99,5,FALSE)) | V15: =IF(U15="","",VLOOKUP(U15,'12. Lists'!$B$47:$D$49,2,FALSE)) | W15: =IF(C15="","",VLOOKUP(D15,'11. Condition and Temporal'!$B$6:$C$101,2,FALSE)) | X15: =IF(W15="","",VLOOKUP(W15,'12. Lists'!$F$47:$G$51,2,FALSE)) | Y15: =IF(C15="","",VLOOKUP(D15,'10. All Habitats + Multipliers'!$C$4:$K$99,9,FALSE)) | Z15: =IF(Y15="","",VLOOKUP(Y15,'12. Lists'!$B$36:$D$39,2,FALSE)) | AA15: =IF(Y15="","",VLOOKUP(Y15,'12. Lists'!$B$36:$D$39,3,FALSE)) | AB15: =IF(F15="","",F15) | AC15: =IF(AB15="","",VLOOKUP(AB15,'12. Lists'!$F$36:$H$38,2,FALSE)) | AD15: =IF(AB15="","",VLOOKUP(AB15,'12. Lists'!$F$36:$H$38,3,FALSE)) | AE15: =IF(D15="","",((J15/10000)*V15*X15)*(AA15*AD15)) | AF15: =IF(D15="","",((K15/10000)*V15*X15)*(AA15*AD15)) | AG15: =IF(D15="","",M15) | AH15: =IF(U15="","",VLOOKUP(U15,'12. Lists'!$B$47:$D$49,3,FALSE)) | AI15: =IF(D15="","",VLOOKUP(D15,'11. Condition and Temporal'!$B$6:$J$101,4,FALSE))
B16: 6 | L16: =IF(C16="","",IFERROR(IF(I16="","Area Error",((I16/10000)*V16*X16)*(AA16*AD16)),"Value Missing")) | M16: =IF(I16="","",IF(J16+K16>I16,"Area Error",I16-J16-K16)) | N16: =IFERROR(IF(I16="","",IF(M16="Area Error","Area Error",((M16/10000)*V16*X16)*(AA16*AD16))),"Value Missing") | U16: =IF(C16="","",VLOOKUP(D16,'10. All Habitats + Multipliers'!$C$4:$K$99,5,FALSE)) | V16: =IF(U16="","",VLOOKUP(U16,'12. Lists'!$B$47:$D$49,2,FALSE)) | W16: =IF(C16="","",VLOOKUP(D16,'11. Condition and Temporal'!$B$6:$C$101,2,FALSE)) | X16: =IF(W16="","",VLOOKUP(W16,'12. Lists'!$F$47:$G$51,2,FALSE)) | Y16: =IF(C16="","",VLOOKUP(D16,'10. All Habitats + Multipliers'!$C$4:$K$99,9,FALSE)) | Z16: =IF(Y16="","",VLOOKUP(Y16,'12. Lists'!$B$36:$D$39,2,FALSE)) | AA16: =IF(Y16="","",VLOOKUP(Y16,'12. Lists'!$B$36:$D$39,3,FALSE)) | AB16: =IF(F16="","",F16) | AC16: =IF(AB16="","",VLOOKUP(AB16,'12. Lists'!$F$36:$H$38,2,FALSE)) | AD16: =IF(AB16="","",VLOOKUP(AB16,'12. Lists'!$F$36:$H$38,3,FALSE)) | AE16: =IF(D16="","",((J16/10000)*V16*X16)*(AA16*AD16)) | AF16: =IF(D16="","",((K16/10000)*V16*X16)*(AA16*AD16)) | AG16: =IF(D16="","",M16) | AH16: =IF(U16="","",VLOOKUP(U16,'12. Lists'!$B$47:$D$49,3,FALSE)) | AI16: =IF(D16="","",VLOOKUP(D16,'11. Condition and Temporal'!$B$6:$J$101,4,FALSE))
B17: 7 | L17: =IF(C17="","",IFERROR(IF(I17="","Area Error",((I17/10000)*V17*X17)*(AA17*AD17)),"Value Missing")) | M17: =IF(I17="","",IF(J17+K17>I17,"Area Error",I17-J17-K17)) | N17: =IFERROR(IF(I17="","",IF(M17="Area Error","Area Error",((M17/10000)*V17*X17)*(AA17*AD17))),"Value Missing") | U17: =IF(C17="","",VLOOKUP(D17,'10. All Habitats + Multipliers'!$C$4:$K$99,5,FALSE)) | V17: =IF(U17="","",VLOOKUP(U17,'12. Lists'!$B$47:$D$49,2,FALSE)) | W17: =IF(C17="","",VLOOKUP(D17,'11. Condition and Temporal'!$B$6:$C$101,2,FALSE)) | X17: =IF(W17="","",VLOOKUP(W17,'12. Lists'!$F$47:$G$51,2,FALSE)) | Y17: =IF(C17="","",VLOOKUP(D17,'10. All Habitats + Multipliers'!$C$4:$K$99,9,FALSE)) | Z17: =IF(Y17="","",VLOOKUP(Y17,'12. Lists'!$B$36:$D$39,2,FALSE)) | AA17: =IF(Y17="","",VLOOKUP(Y17,'12. Lists'!$B$36:$D$39,3,FALSE)) | AB17: =IF(F17="","",F17) | AC17: =IF(AB17="","",VLOOKUP(AB17,'12. Lists'!$F$36:$H$38,2,FALSE)) | AD17: =IF(AB17="","",VLOOKUP(AB17,'12. Lists'!$F$36:$H$38,3,FALSE)) | AE17: =IF(D17="","",((J17/10000)*V17*X17)*(AA17*AD17)) | AF17: =IF(D17="","",((K17/10000)*V17*X17)*(AA17*AD17)) | AG17: =IF(D17="","",M17) | AH17: =IF(U17="","",VLOOKUP(U17,'12. Lists'!$B$47:$D$49,3,FALSE)) | AI17: =IF(D17="","",VLOOKUP(D17,'11. Condition and Temporal'!$B$6:$J$101,4,FALSE))
B18: 8 | L18: =IF(C18="","",IFERROR(IF(I18="","Area Error",((I18/10000)*V18*X18)*(AA18*AD18)),"Value Missing")) | M18: =IF(I18="","",IF(J18+K18>I18,"Area Error",I18-J18-K18)) | N18: =IFERROR(IF(I18="","",IF(M18="Area Error","Area Error",((M18/10000)*V18*X18)*(AA18*AD18))),"Value Missing") | U18: =IF(C18="","",VLOOKUP(D18,'10. All Habitats + Multipliers'!$C$4:$K$99,5,FALSE)) | V18: =IF(U18="","",VLOOKUP(U18,'12. Lists'!$B$47:$D$49,2,FALSE)) | W18: =IF(C18="","",VLOOKUP(D18,'11. Condition and Temporal'!$B$6:$C$101,2,FALSE)) | X18: =IF(W18="","",VLOOKUP(W18,'12. Lists'!$F$47:$G$51,2,FALSE)) | Y18: =IF(C18="","",VLOOKUP(D18,'10. All Habitats + Multipliers'!$C$4:$K$99,9,FALSE)) | Z18: =IF(Y18="","",VLOOKUP(Y18,'12. Lists'!$B$36:$D$39,2,FALSE)) | AA18: =IF(Y18="","",VLOOKUP(Y18,'12. Lists'!$B$36:$D$39,3,FALSE)) | AB18: =IF(F18="","",F18) | AC18: =IF(AB18="","",VLOOKUP(AB18,'12. Lists'!$F$36:$H$38,2,FALSE)) | AD18: =IF(AB18="","",VLOOKUP(AB18,'12. Lists'!$F$36:$H$38,3,FALSE)) | AE18: =IF(D18="","",((J18/10000)*V18*X18)*(AA18*AD18)) | AF18: =IF(D18="","",((K18/10000)*V18*X18)*(AA18*AD18)) | AG18: =IF(D18="","",M18) | AH18: =IF(U18="","",VLOOKUP(U18,'12. Lists'!$B$47:$D$49,3,FALSE)) | AI18: =IF(D18="","",VLOOKUP(D18,'11. Condition and Temporal'!$B$6:$J$101,4,FALSE))
B19: 9 | L19: =IF(C19="","",IFERROR(IF(I19="","Area Error",((I19/10000)*V19*X19)*(AA19*AD19)),"Value Missing")) | M19: =IF(I19="","",IF(J19+K19>I19,"Area Error",I19-J19-K19)) | N19: =IFERROR(IF(I19="","",IF(M19="Area Error","Area Error",((M19/10000)*V19*X19)*(AA19*AD19))),"Value Missing") | U19: =IF(C19="","",VLOOKUP(D19,'10. All Habitats + Multipliers'!$C$4:$K$99,5,FALSE)) | V19: =IF(U19="","",VLOOKUP(U19,'12. Lists'!$B$47:$D$49,2,FALSE)) | W19: =IF(C19="","",VLOOKUP(D19,'11. Condition and Temporal'!$B$6:$C$101,2,FALSE)) | X19: =IF(W19="","",VLOOKUP(W19,'12. Lists'!$F$47:$G$51,2,FALSE)) | Y19: =IF(C19="","",VLOOKUP(D19,'10. All Habitats + Multipliers'!$C$4:$K$99,9,FALSE)) | Z19: =IF(Y19="","",VLOOKUP(Y19,'12. Lists'!$B$36:$D$39,2,FALSE)) | AA19: =IF(Y19="","",VLOOKUP(Y19,'12. Lists'!$B$36:$D$39,3,FALSE)) | AB19: =IF(F19="","",F19) | AC19: =IF(AB19="","",VLOOKUP(AB19,'12. Lists'!$F$36:$H$38,2,FALSE)) | AD19: =IF(AB19="","",VLOOKUP(AB19,'12. Lists'!$F$36:$H$38,3,FALSE)) | AE19: =IF(D19="","",((J19/10000)*V19*X19)*(AA19*AD19)) | AF19: =IF(D19="","",((K19/10000)*V19*X19)*(AA19*AD19)) | AG19: =IF(D19="","",M19) | AH19: =IF(U19="","",VLOOKUP(U19,'12. Lists'!$B$47:$D$49,3,FALSE)) | AI19: =IF(D19="","",VLOOKUP(D19,'11. Condition and Temporal'!$B$6:$J$101,4,FALSE))
B20: 10 | L20: =IF(C20="","",IFERROR(IF(I20="","Area Error",((I20/10000)*V20*X20)*(AA20*AD20)),"Value Missing")) | M20: =IF(I20="","",IF(J20+K20>I20,"Area Error",I20-J20-K20)) | N20: =IFERROR(IF(I20="","",IF(M20="Area Error","Area Error",((M20/10000)*V20*X20)*(AA20*AD20))),"Value Missing") | U20: =IF(C20="","",VLOOKUP(D20,'10. All Habitats + Multipliers'!$C$4:$K$99,5,FALSE)) | V20: =IF(U20="","",VLOOKUP(U20,'12. Lists'!$B$47:$D$49,2,FALSE)) | W20: =IF(C20="","",VLOOKUP(D20,'11. Condition and Temporal'!$B$6:$C$101,2,FALSE)) | X20: =IF(W20="","",VLOOKUP(W20,'12. Lists'!$F$47:$G$51,2,FALSE)) | Y20: =IF(C20="","",VLOOKUP(D20,'10. All Habitats + Multipliers'!$C$4:$K$99,9,FALSE)) | Z20: =IF(Y20="","",VLOOKUP(Y20,'12. Lists'!$B$36:$D$39,2,FALSE)) | AA20: =IF(Y20="","",VLOOKUP(Y20,'12. Lists'!$B$36:$D$39,3,FALSE)) | AB20: =IF(F20="","",F20) | AC20: =IF(AB20="","",VLOOKUP(AB20,'12. Lists'!$F$36:$H$38,2,FALSE)) | AD20: =IF(AB20="","",VLOOKUP(AB20,'12. Lists'!$F$36:$H$38,3,FALSE)) | AE20: =IF(D20="","",((J20/10000)*V20*X20)*(AA20*AD20)) | AF20: =IF(D20="","",((K20/10000)*V20*X20)*(AA20*AD20)) | AG20: =IF(D20="","",M20) | AH20: =IF(U20="","",VLOOKUP(U20,'12. Lists'!$B$47:$D$49,3,FALSE)) | AI20: =IF(D20="","",VLOOKUP(D20,'11. Condition and Temporal'!$B$6:$J$101,4,FALSE))
B21: 11 | L21: =IF(C21="","",IFERROR(IF(I21="","Area Error",((I21/10000)*V21*X21)*(AA21*AD21)),"Value Missing")) | M21: =IF(I21="","",IF(J21+K21>I21,"Area Error",I21-J21-K21)) | N21: =IFERROR(IF(I21="","",IF(M21="Area Error","Area Error",((M21/10000)*V21*X21)*(AA21*AD21))),"Value Missing") | U21: =IF(C21="","",VLOOKUP(D21,'10. All Habitats + Multipliers'!$C$4:$K$99,5,FALSE)) | V21: =IF(U21="","",VLOOKUP(U21,'12. Lists'!$B$47:$D$49,2,FALSE)) | W21: =IF(C21="","",VLOOKUP(D21,'11. Condition and Temporal'!$B$6:$C$101,2,FALSE)) | X21: =IF(W21="","",VLOOKUP(W21,'12. Lists'!$F$47:$G$51,2,FALSE)) | Y21: =IF(C21="","",VLOOKUP(D21,'10. All Habitats + Multipliers'!$C$4:$K$99,9,FALSE)) | Z21: =IF(Y21="","",VLOOKUP(Y21,'12. Lists'!$B$36:$D$39,2,FALSE)) | AA21: =IF(Y21="","",VLOOKUP(Y21,'12. Lists'!$B$36:$D$39,3,FALSE)) | AB21: =IF(F21="","",F21) | AC21: =IF(AB21="","",VLOOKUP(AB21,'12. Lists'!$F$36:$H$38,2,FALSE)) | AD21: =IF(AB21="","",VLOOKUP(AB21,'12. Lists'!$F$36:$H$38,3,FALSE)) | AE21: =IF(D21="","",((J21/10000)*V21*X21)*(AA21*AD21)) | AF21: =IF(D21="","",((K21/10000)*V21*X21)*(AA21*AD21)) | AG21: =IF(D21="","",M21) | AH21: =IF(U21="","",VLOOKUP(U21,'12. Lists'!$B$47:$D$49,3,FALSE)) | AI21: =IF(D21="","",VLOOKUP(D21,'11. Condition and Temporal'!$B$6:$J$101,4,FALSE))
B22: 12 | L22: =IF(C22="","",IFERROR(IF(I22="","Area Error",((I22/10000)*V22*X22)*(AA22*AD22)),"Value Missing")) | M22: =IF(I22="","",IF(J22+K22>I22,"Area Error",I22-J22-K22)) | N22: =IFERROR(IF(I22="","",IF(M22="Area Error","Area Error",((M22/10000)*V22*X22)*(AA22*AD22))),"Value Missing") | U22: =IF(C22="","",VLOOKUP(D22,'10. All Habitats + Multipliers'!$C$4:$K$99,5,FALSE)) | V22: =IF(U22="","",VLOOKUP(U22,'12. Lists'!$B$47:$D$49,2,FALSE)) | W22: =IF(C22="","",VLOOKUP(D22,'11. Condition and Temporal'!$B$6:$C$101,2,FALSE)) | X22: =IF(W22="","",VLOOKUP(W22,'12. Lists'!$F$47:$G$51,2,FALSE)) | Y22: =IF(C22="","",VLOOKUP(D22,'10. All Habitats + Multipliers'!$C$4:$K$99,9,FALSE)) | Z22: =IF(Y22="","",VLOOKUP(Y22,'12. Lists'!$B$36:$D$39,2,FALSE)) | AA22: =IF(Y22="","",VLOOKUP(Y22,'12. Lists'!$B$36:$D$39,3,FALSE)) | AB22: =IF(F22="","",F22) | AC22: =IF(AB22="","",VLOOKUP(AB22,'12. Lists'!$F$36:$H$38,2,FALSE)) | AD22: =IF(AB22="","",VLOOKUP(AB22,'12. Lists'!$F$36:$H$38,3,FALSE)) | AE22: =IF(D22="","",((J22/10000)*V22*X22)*(AA22*AD22)) | AF22: =IF(D22="","",((K22/10000)*V22*X22)*(AA22*AD22)) | AG22: =IF(D22="","",M22) | AH22: =IF(U22="","",VLOOKUP(U22,'12. Lists'!$B$47:$D$49,3,FALSE)) | AI22: =IF(D22="","",VLOOKUP(D22,'11. Condition and Temporal'!$B$6:$J$101,4,FALSE))
B23: 13 | L23: =IF(C23="","",IFERROR(IF(I23="","Area Error",((I23/10000)*V23*X23)*(AA23*AD23)),"Value Missing")) | M23: =IF(I23="","",IF(J23+K23>I23,"Area Error",I23-J23-K23)) | N23: =IFERROR(IF(I23="","",IF(M23="Area Error","Area Error",((M23/10000)*V23*X23)*(AA23*AD23))),"Value Missing") | U23: =IF(C23="","",VLOOKUP(D23,'10. All Habitats + Multipliers'!$C$4:$K$99,5,FALSE)) | V23: =IF(U23="","",VLOOKUP(U23,'12. Lists'!$B$47:$D$49,2,FALSE)) | W23: =IF(C23="","",VLOOKUP(D23,'11. Condition and Temporal'!$B$6:$C$101,2,FALSE)) | X23: =IF(W23="","",VLOOKUP(W23,'12. Lists'!$F$47:$G$51,2,FALSE)) | Y23: =IF(C23="","",VLOOKUP(D23,'10. All Habitats + Multipliers'!$C$4:$K$99,9,FALSE)) | Z23: =IF(Y23="","",VLOOKUP(Y23,'12. Lists'!$B$36:$D$39,2,FALSE)) | AA23: =IF(Y23="","",VLOOKUP(Y23,'12. Lists'!$B$36:$D$39,3,FALSE)) | AB23: =IF(F23="","",F23) | AC23: =IF(AB23="","",VLOOKUP(AB23,'12. Lists'!$F$36:$H$38,2,FALSE)) | AD23: =IF(AB23="","",VLOOKUP(AB23,'12. Lists'!$F$36:$H$38,3,FALSE)) | AE23: =IF(D23="","",((J23/10000)*V23*X23)*(AA23*AD23)) | AF23: =IF(D23="","",((K23/10000)*V23*X23)*(AA23*AD23)) | AG23: =IF(D23="","",M23) | AH23: =IF(U23="","",VLOOKUP(U23,'12. Lists'!$B$47:$D$49,3,FALSE)) | AI23: =IF(D23="","",VLOOKUP(D23,'11. Condition and Temporal'!$B$6:$J$101,4,FALSE))
B24: 14 | L24: =IF(C24="","",IFERROR(IF(I24="","Area Error",((I24/10000)*V24*X24)*(AA24*AD24)),"Value Missing")) | M24: =IF(I24="","",IF(J24+K24>I24,"Area Error",I24-J24-K24)) | N24: =IFERROR(IF(I24="","",IF(M24="Area Error","Area Error",((M24/10000)*V24*X24)*(AA24*AD24))),"Value Missing") | U24: =IF(C24="","",VLOOKUP(D24,'10. All Habitats + Multipliers'!$C$4:$K$99,5,FALSE)) | V24: =IF(U24="","",VLOOKUP(U24,'12. Lists'!$B$47:$D$49,2,FALSE)) | W24: =IF(C24="","",VLOOKUP(D24,'11. Condition and Temporal'!$B$6:$C$101,2,FALSE)) | X24: =IF(W24="","",VLOOKUP(W24,'12. Lists'!$F$47:$G$51,2,FALSE)) | Y24: =IF(C24="","",VLOOKUP(D24,'10. All Habitats + Multipliers'!$C$4:$K$99,9,FALSE)) | Z24: =IF(Y24="","",VLOOKUP(Y24,'12. Lists'!$B$36:$D$39,2,FALSE)) | AA24: =IF(Y24="","",VLOOKUP(Y24,'12. Lists'!$B$36:$D$39,3,FALSE)) | AB24: =IF(F24="","",F24) | AC24: =IF(AB24="","",VLOOKUP(AB24,'12. Lists'!$F$36:$H$38,2,FALSE)) | AD24: =IF(AB24="","",VLOOKUP(AB24,'12. Lists'!$F$36:$H$38,3,FALSE)) | AE24: =IF(D24="","",((J24/10000)*V24*X24)*(AA24*AD24)) | AF24: =IF(D24="","",((K24/10000)*V24*X24)*(AA24*AD24)) | AG24: =IF(D24="","",M24) | AH24: =IF(U24="","",VLOOKUP(U24,'12. Lists'!$B$47:$D$49,3,FALSE)) | AI24: =IF(D24="","",VLOOKUP(D24,'11. Condition and Temporal'!$B$6:$J$101,4,FALSE))
B25: 15 | L25: =IF(C25="","",IFERROR(IF(I25="","Area Error",((I25/10000)*V25*X25)*(AA25*AD25)),"Value Missing")) | M25: =IF(I25="","",IF(J25+K25>I25,"Area Error",I25-J25-K25)) | N25: =IFERROR(IF(I25="","",IF(M25="Area Error","Area Error",((M25/10000)*V25*X25)*(AA25*AD25))),"Value Missing") | U25: =IF(C25="","",VLOOKUP(D25,'10. All Habitats + Multipliers'!$C$4:$K$99,5,FALSE)) | V25: =IF(U25="","",VLOOKUP(U25,'12. Lists'!$B$47:$D$49,2,FALSE)) | W25: =IF(C25="","",VLOOKUP(D25,'11. Condition and Temporal'!$B$6:$C$101,2,FALSE)) | X25: =IF(W25="","",VLOOKUP(W25,'12. Lists'!$F$47:$G$51,2,FALSE)) | Y25: =IF(C25="","",VLOOKUP(D25,'10. All Habitats + Multipliers'!$C$4:$K$99,9,FALSE)) | Z25: =IF(Y25="","",VLOOKUP(Y25,'12. Lists'!$B$36:$D$39,2,FALSE)) | AA25: =IF(Y25="","",VLOOKUP(Y25,'12. Lists'!$B$36:$D$39,3,FALSE)) | AB25: =IF(F25="","",F25) | AC25: =IF(AB25="","",VLOOKUP(AB25,'12. Lists'!$F$36:$H$38,2,FALSE)) | AD25: =IF(AB25="","",VLOOKUP(AB25,'12. Lists'!$F$36:$H$38,3,FALSE)) | AE25: =IF(D25="","",((J25/10000)*V25*X25)*(AA25*AD25)) | AF25: =IF(D25="","",((K25/10000)*V25*X25)*(AA25*AD25)) | AG25: =IF(D25="","",M25) | AH25: =IF(U25="","",VLOOKUP(U25,'12. Lists'!$B$47:$D$49,3,FALSE)) | AI25: =IF(D25="","",VLOOKUP(D25,'11. Condition and Temporal'!$B$6:$J$101,4,FALSE))
B26: 16 | L26: =IF(C26="","",IFERROR(IF(I26="","Area Error",((I26/10000)*V26*X26)*(AA26*AD26)),"Value Missing")) | M26: =IF(I26="","",IF(J26+K26>I26,"Area Error",I26-J26-K26)) | N26: =IFERROR(IF(I26="","",IF(M26="Area Error","Area Error",((M26/10000)*V26*X26)*(AA26*AD26))),"Value Missing") | U26: =IF(C26="","",VLOOKUP(D26,'10. All Habitats + Multipliers'!$C$4:$K$99,5,FALSE)) | V26: =IF(U26="","",VLOOKUP(U26,'12. Lists'!$B$47:$D$49,2,FALSE)) | W26: =IF(C26="","",VLOOKUP(D26,'11. Condition and Temporal'!$B$6:$C$101,2,FALSE)) | X26: =IF(W26="","",VLOOKUP(W26,'12. Lists'!$F$47:$G$51,2,FALSE)) | Y26: =IF(C26="","",VLOOKUP(D26,'10. All Habitats + Multipliers'!$C$4:$K$99,9,FALSE)) | Z26: =IF(Y26="","",VLOOKUP(Y26,'12. Lists'!$B$36:$D$39,2,FALSE)) | AA26: =IF(Y26="","",VLOOKUP(Y26,'12. Lists'!$B$36:$D$39,3,FALSE)) | AB26: =IF(F26="","",F26) | AC26: =IF(AB26="","",VLOOKUP(AB26,'12. Lists'!$F$36:$H$38,2,FALSE)) | AD26: =IF(AB26="","",VLOOKUP(AB26,'12. Lists'!$F$36:$H$38,3,FALSE)) | AE26: =IF(D26="","",((J26/10000)*V26*X26)*(AA26*AD26)) | AF26: =IF(D26="","",((K26/10000)*V26*X26)*(AA26*AD26)) | AG26: =IF(D26="","",M26) | AH26: =IF(U26="","",VLOOKUP(U26,'12. Lists'!$B$47:$D$49,3,FALSE)) | AI26: =IF(D26="","",VLOOKUP(D26,'11. Condition and Temporal'!$B$6:$J$101,4,FALSE))
... B30: 20 | L30: =IF(C30="","",IFERROR(IF(I30="","Area Error",((I30/10000)*V30*X30)*(AA30*AD30)),"Value Missing")) | M30: =IF(I30="","",IF(J30+K30>I30,"Area Error",I30-J30-K30)) | N30: =IFERROR(IF(I30="","",IF(M30="Area Error","Area Error",((M30/10000)*V30*X30)*(AA30*AD30))),"Value Missing") | U30: =IF(C30="","",VLOOKUP(D30,'10. All Habitats + Multipliers'!$C$4:$K$99,5,FALSE)) | V30: =IF(U30="","",VLOOKUP(U30,'12. Lists'!$B$47:$D$49,2,FALSE)) | W30: =IF(C30="","",VLOOKUP(D30,'11. Condition and Temporal'!$B$6:$C$101,2,FALSE)) | X30: =IF(W30="","",VLOOKUP(W30,'12. Lists'!$F$47:$G$51,2,FALSE)) | Y30: =IF(C30="","",VLOOKUP(D30,'10. All Habitats + Multipliers'!$C$4:$K$99,9,FALSE)) | Z30: =IF(Y30="","",VLOOKUP(Y30,'12. Lists'!$B$36:$D$39,2,FALSE)) | AA30: =IF(Y30="","",VLOOKUP(Y30,'12. Lists'!$B$36:$D$39,3,FALSE)) | AB30: =IF(F30="","",F30) | AC30: =IF(AB30="","",VLOOKUP(AB30,'12. Lists'!$F$36:$H$38,2,FALSE)) | AD30: =IF(AB30="","",VLOOKUP(AB30,'12. Lists'!$F$36:$H$38,3,FALSE)) | AE30: =IF(D30="","",((J30/10000)*V30*X30)*(AA30*AD30)) | AF30: =IF(D30="","",((K30/10000)*V30*X30)*(AA30*AD30)) | AG30: =IF(D30="","",M30) | AH30: =IF(U30="","",VLOOKUP(U30,'12. Lists'!$B$47:$D$49,3,FALSE)) | AI30: =IF(D30="","",VLOOKUP(D30,'11. Condition and Temporal'!$B$6:$J$101,4,FALSE))
B31: Trees | C31: Urban | D31: Urban Tree | F31: Area not in local strategy | I31: =I99 -> 0 | J31: =I99-L99 -> 0 | K31: =O99 -> 0 | L31: =IF(C31="","",((I31/10000)*V31*X31)*(AA31*AD31)) -> 0 | M31: =IF(C31="","",I31-J31-K31) -> 0 | N31: =IF(C31="","",((M31/10000)*V31*X31)*(AA31*AD31)) -> 0 | U31: =IF(C31="","",VLOOKUP(D31,'10. All Habitats + Multipliers'!$C$4:$K$99,5,FALSE)) -> Medium | V31: =IF(U31="","",VLOOKUP(U31,'12. Lists'!$B$47:$D$49,2,FALSE)) -> 4 | W31: =IF(C31="","",VLOOKUP(D31,'11. Condition and Temporal'!$B$6:$C$101,2,FALSE)) -> Moderate | X31: =IF(W31="","",VLOOKUP(W31,'12. Lists'!$F$47:$G$51,2,FALSE)) -> 2 | Y31: =IF(C31="","",VLOOKUP(D31,'10. All Habitats + Multipliers'!$C$4:$K$99,9,FALSE)) -> Low | Z31: =IF(Y31="","",VLOOKUP(Y31,'12. Lists'!$B$36:$D$39,2,FALSE)) -> Unconnected habitat | AA31: =IF(Y31="","",VLOOKUP(Y31,'12. Lists'!$B$36:$D$39,3,FALSE)) -> 1 | AB31: =IF(F31="","",F31) -> Area not in local strategy | AC31: =IF(AB31="","",VLOOKUP(AB31,'12. Lists'!$F$36:$H$38,2,FALSE)) -> Low Strategic Significance | AD31: =IF(AB31="","",VLOOKUP(AB31,'12. Lists'!$F$36:$H$38,3,FALSE)) -> 1 | AE31: =IF(D31="","",((J31/10000)*V31*X31)*(AA31*AD31)) -> 0 | AF31: =IF(D31="","",((K31/10000)*V31*X31)*(AA31*AD31)) -> 0 | AG31: =IF(D31="","",M31) -> 0 | AH31: =IF(U31="","",VLOOKUP(U31,'12. Lists'!$B$47:$D$49,3,FALSE)) -> Same broad habitat or a higher distinctiveness habitat required | AI31: =IF(D31="","",VLOOKUP(D31,'11. Condition and Temporal'!$B$6:$J$101,4,FALSE)) -> Urban Tree
H32: Totals (areas excl Trees) | I32: =SUM(I11:I30) -> 2519 | J32: =SUM(J11:J30) -> 152 | K32: =SUM(K11:K30) -> 0 | L32: =SUM(L11:L31) -> 0.47564 | M32: =SUM(M11:M30) -> 2367 | N32: =SUM(N11:N31) -> 0.3358
H33: Error Check 1 | I33: =IF(AND('3. Desktop Assessment'!C6="Other",I32<10000),"Areas Acceptable", IF(I32>5000,"Error - Site exceeds areas appropriate for the small sites metric","Areas Acceptable")) -> Areas Acceptable | O33: =IFERROR(FIND("Error",I33),0) -> 0
H34: Error Check 2 | I34: =IF(I32<J32+K32,"Error - Areas Retained and Enhanced Exceed Total Area","Areas Acceptable") -> Areas Acceptable | O34: =IFERROR(FIND("Error",I34),0) -> 0
H35: Error Check 3 | I35: =IF(I32=0,"Areas Acceptable",IF(I32<>'3. Desktop Assessment'!C7,"Error - Areas Entered Does Not Match Stated Site Area","Areas Acceptable")) -> Error - Areas Entered Does Not Match Stated Site Area | O35: =IFERROR(FIND("Error",I35),0) -> 1 | R35: Data beyond this column is automated
B36: 1b. Habitats to be created | O36: =COUNTIF(L11:N30,"*"&"error"&"*") -> 0
B38: Ref | E38: Condition Assessment | H38: D. Strategic significance | I38: E. Total Area M sq. | L38: Habitat units created onsite | O38: Comments | U38: Habitat distinctiveness | W38: Habitat condition | Y38: Ecological connectivity | AB38: Strategic significance | AE38: Temporal multiplier | AG38: Difficulty multipliers
C39: A. Broad Habitat | D39: B. Habitat type | E39: Acceptable condition options | F39: C. Targeted condition | O39: User comments | P39: LPA comments | U39: Distinctiveness | V39: Score | W39: Condition | X39: Score | Y39: Ecological connectivity | Z39: Connectivity | AA39: Connectivity multiplier | AB39: Strategic significance | AC39: Strategic significance | AD39: Strategic position multiplier | AE39: Time to target condition/years | AF39: Time to target multiplier | AG39: Difficulty of creation category | AH39: Difficulty of creation multiplier
B40: 1 | C40: Grassland | D40: Other neutral grassland | E40: =IF(D40="","",VLOOKUP(D40,'11. Condition and Temporal'!$B$6:$D$101,3,FALSE)) -> Moderate, Good | F40: Moderate | H40: Within area formally identified in local strategy | I40: 251 | L40: =IF(C40="","",IFERROR(IF(I40="","Area error",((I40/10000)*(V40*X40))*(AH40*AF40)*(AA40*AD40)),"Value missing")) -> 0.19324048 | O40: This will be newly created grassland to comprise a species -rich mix on a low nutrient substrate subject to low intensity management | U40: =IF(C40="","",VLOOKUP(D40,'10. All Habitats + Multipliers'!$C$4:$K$99,5,FALSE)) -> Medium | V40: =IF(U40="","",VLOOKUP(U40,'12. Lists'!$B$47:$D$49,2,FALSE)) -> 4 | W40: =IF(F40="","",F40) -> Moderate | X40: =IF(W40="","",VLOOKUP(W40,'12. Lists'!$F$47:$G$51,2,FALSE)) -> 2 | Y40: =IF(C40="","",VLOOKUP(D40,'10. All Habitats + Multipliers'!$C$4:$K$99,9,FALSE)) -> Low | Z40: =IF(Y40="","",VLOOKUP(Y40,'12. Lists'!$B$36:$D$39,2,FALSE)) -> Unconnected habitat | AA40: =IF(Y40="","",VLOOKUP(Y40,'12. Lists'!$B$36:$D$39,3,FALSE)) -> 1 | AB40: =IF(H40="","",H40) -> Within area formally identified in local strategy | AC40: =IF(AB40="","",VLOOKUP(AB40,'12. Lists'!$F$36:$H$38,2,FALSE)) -> High strategic significance | AD40: =IF(AB40="","",VLOOKUP(AB40,'12. Lists'!$F$36:$H$38,3,FALSE)) -> 1.15 | AE40: =IF(F40="","",IF(F40="Moderate",VLOOKUP(D40,'11. Condition and Temporal'!$B$6:$J$101,6,FALSE),IF('5. Area Habitats'!F40="Good",VLOOKUP(D40,'11. Condition and Temporal'!$B$6:$J$101,7,FALSE),VLOOKUP(D40,'11. Condition and Temporal'!$B$6:$J$101,8,FALSE)))) -> 5 | AF40: =IF(AE40="","",VLOOKUP(AE40,'12. Lists'!$I$47:$K$80,3,FALSE)) -> 0.8368287 | AG40: =IF(D40="","",VLOOKUP(D40,'10. All Habitats + Multipliers'!$C$4:$K$99,7,FALSE)) -> Low | AH40: =IF(AG40="","",VLOOKUP(AG40,'12. Lists'!$J$35:$K$38,2,FALSE)) -> 1
B41: 2 | C41: Urban | D41: Developed land; sealed surface | E41: =IF(D41="","",VLOOKUP(D41,'11. Condition and Temporal'!$B$6:$D$101,3,FALSE)) -> N/A - Other | F41: N/A - Other | H41: Within area formally identified in local strategy | I41: 728 | L41: =IF(C41="","",IFERROR(IF(I41="","Area error",((I41/10000)*(V41*X41))*(AH41*AF41)*(AA41*AD41)),"Value missing")) -> 0 | U41: =IF(C41="","",VLOOKUP(D41,'10. All Habitats + Multipliers'!$C$4:$K$99,5,FALSE)) -> V.Low | V41: =IF(U41="","",VLOOKUP(U41,'12. Lists'!$B$47:$D$49,2,FALSE)) -> 0 | W41: =IF(F41="","",F41) -> N/A - Other | X41: =IF(W41="","",VLOOKUP(W41,'12. Lists'!$F$47:$G$51,2,FALSE)) -> 0 | Y41: =IF(C41="","",VLOOKUP(D41,'10. All Habitats + Multipliers'!$C$4:$K$99,9,FALSE)) -> Low | Z41: =IF(Y41="","",VLOOKUP(Y41,'12. Lists'!$B$36:$D$39,2,FALSE)) -> Unconnected habitat | AA41: =IF(Y41="","",VLOOKUP(Y41,'12. Lists'!$B$36:$D$39,3,FALSE)) -> 1 | AB41: =IF(H41="","",H41) -> Within area formally identified in local strategy | AC41: =IF(AB41="","",VLOOKUP(AB41,'12. Lists'!$F$36:$H$38,2,FALSE)) -> High strategic significance | AD41: =IF(AB41="","",VLOOKUP(AB41,'12. Lists'!$F$36:$H$38,3,FALSE)) -> 1.15 | AE41: =IF(F41="","",IF(F41="Moderate",VLOOKUP(D41,'11. Condition and Temporal'!$B$6:$J$101,6,FALSE),IF('5. Area Habitats'!F41="Good",VLOOKUP(D41,'11. Condition and Temporal'!$B$6:$J$101,7,FALSE),VLOOKUP(D41,'11. Condition and Temporal'!$B$6:$J$101,8,FALSE)))) -> 0 | AF41: =IF(AE41="","",VLOOKUP(AE41,'12. Lists'!$I$47:$K$80,3,FALSE)) -> 1 | AG41: =IF(D41="","",VLOOKUP(D41,'10. All Habitats + Multipliers'!$C$4:$K$99,7,FALSE)) -> Low | AH41: =IF(AG41="","",VLOOKUP(AG41,'12. Lists'!$J$35:$K$38,2,FALSE)) -> 1
B42: 3 | C42: Urban | D42: Vegetated garden | E42: =IF(D42="","",VLOOKUP(D42,'11. Condition and Temporal'!$B$6:$D$101,3,FALSE)) -> Poor | F42: Poor | H42: Within area formally identified in local strategy | I42: 1137 | L42: =IF(C42="","",IFERROR(IF(I42="","Area error",((I42/10000)*(V42*X42))*(AH42*AF42)*(AA42*AD42)),"Value missing")) -> 0.25235715 | U42: =IF(C42="","",VLOOKUP(D42,'10. All Habitats + Multipliers'!$C$4:$K$99,5,FALSE)) -> Low | V42: =IF(U42="","",VLOOKUP(U42,'12. Lists'!$B$47:$D$49,2,FALSE)) -> 2 | W42: =IF(F42="","",F42) -> Poor | X42: =IF(W42="","",VLOOKUP(W42,'12. Lists'!$F$47:$G$51,2,FALSE)) -> 1 | Y42: =IF(C42="","",VLOOKUP(D42,'10. All Habitats + Multipliers'!$C$4:$K$99,9,FALSE)) -> Low | Z42: =IF(Y42="","",VLOOKUP(Y42,'12. Lists'!$B$36:$D$39,2,FALSE)) -> Unconnected habitat | AA42: =IF(Y42="","",VLOOKUP(Y42,'12. Lists'!$B$36:$D$39,3,FALSE)) -> 1 | AB42: =IF(H42="","",H42) -> Within area formally identified in local strategy | AC42: =IF(AB42="","",VLOOKUP(AB42,'12. Lists'!$F$36:$H$38,2,FALSE)) -> High strategic significance | AD42: =IF(AB42="","",VLOOKUP(AB42,'12. Lists'!$F$36:$H$38,3,FALSE)) -> 1.15 | AE42: =IF(F42="","",IF(F42="Moderate",VLOOKUP(D42,'11. Condition and Temporal'!$B$6:$J$101,6,FALSE),IF('5. Area Habitats'!F42="Good",VLOOKUP(D42,'11. Condition and Temporal'!$B$6:$J$101,7,FALSE),VLOOKUP(D42,'11. Condition and Temporal'!$B$6:$J$101,8,FALSE)))) -> 1 | AF42: =IF(AE42="","",VLOOKUP(AE42,'12. Lists'!$I$47:$K$80,3,FALSE)) -> 0.965 | AG42: =IF(D42="","",VLOOKUP(D42,'10. All Habitats + Multipliers'!$C$4:$K$99,7,FALSE)) -> Low | AH42: =IF(AG42="","",VLOOKUP(AG42,'12. Lists'!$J$35:$K$38,2,FALSE)) -> 1
B43: 4 | C43: Heathland and shrub | D43: Mixed scrub | E43: =IF(D43="","",VLOOKUP(D43,'11. Condition and Temporal'!$B$6:$D$101,3,FALSE)) -> Moderate, Good | F43: Moderate | H43: Within area formally identified in local strategy | I43: 251 | L43: =IF(C43="","",IFERROR(IF(I43="","Area error",((I43/10000)*(V43*X43))*(AH43*AF43)*(AA43*AD43)),"Value missing")) -> 0.19324048 | O43: This will comprise new native scrub species and will completement and further thicken the exitsting scrub habitat already present on the southwest boundary | U43: =IF(C43="","",VLOOKUP(D43,'10. All Habitats + Multipliers'!$C$4:$K$99,5,FALSE)) -> Medium | V43: =IF(U43="","",VLOOKUP(U43,'12. Lists'!$B$47:$D$49,2,FALSE)) -> 4 | W43: =IF(F43="","",F43) -> Moderate | X43: =IF(W43="","",VLOOKUP(W43,'12. Lists'!$F$47:$G$51,2,FALSE)) -> 2 | Y43: =IF(C43="","",VLOOKUP(D43,'10. All Habitats + Multipliers'!$C$4:$K$99,9,FALSE)) -> Low | Z43: =IF(Y43="","",VLOOKUP(Y43,'12. Lists'!$B$36:$D$39,2,FALSE)) -> Unconnected habitat | AA43: =IF(Y43="","",VLOOKUP(Y43,'12. Lists'!$B$36:$D$39,3,FALSE)) -> 1 | AB43: =IF(H43="","",H43) -> Within area formally identified in local strategy | AC43: =IF(AB43="","",VLOOKUP(AB43,'12. Lists'!$F$36:$H$38,2,FALSE)) -> High strategic significance | AD43: =IF(AB43="","",VLOOKUP(AB43,'12. Lists'!$F$36:$H$38,3,FALSE)) -> 1.15 | AE43: =IF(F43="","",IF(F43="Moderate",VLOOKUP(D43,'11. Condition and Temporal'!$B$6:$J$101,6,FALSE),IF('5. Area Habitats'!F43="Good",VLOOKUP(D43,'11. Condition and Temporal'!$B$6:$J$101,7,FALSE),VLOOKUP(D43,'11. Condition and Temporal'!$B$6:$J$101,8,FALSE)))) -> 5 | AF43: =IF(AE43="","",VLOOKUP(AE43,'12. Lists'!$I$47:$K$80,3,FALSE)) -> 0.8368287 | AG43: =IF(D43="","",VLOOKUP(D43,'10. All Habitats + Multipliers'!$C$4:$K$99,7,FALSE)) -> Low | AH43: =IF(AG43="","",VLOOKUP(AG43,'12. Lists'!$J$35:$K$38,2,FALSE)) -> 1
B44: 5 | E44: =IF(D44="","",VLOOKUP(D44,'11. Condition and Temporal'!$B$6:$D$101,3,FALSE)) | L44: =IF(C44="","",IFERROR(IF(I44="","Area error",((I44/10000)*(V44*X44))*(AH44*AF44)*(AA44*AD44)),"Value missing")) | U44: =IF(C44="","",VLOOKUP(D44,'10. All Habitats + Multipliers'!$C$4:$K$99,5,FALSE)) | V44: =IF(U44="","",VLOOKUP(U44,'12. Lists'!$B$47:$D$49,2,FALSE)) | W44: =IF(F44="","",F44) | X44: =IF(W44="","",VLOOKUP(W44,'12. Lists'!$F$47:$G$51,2,FALSE)) | Y44: =IF(C44="","",VLOOKUP(D44,'10. All Habitats + Multipliers'!$C$4:$K$99,9,FALSE)) | Z44: =IF(Y44="","",VLOOKUP(Y44,'12. Lists'!$B$36:$D$39,2,FALSE)) | AA44: =IF(Y44="","",VLOOKUP(Y44,'12. Lists'!$B$36:$D$39,3,FALSE)) | AB44: =IF(H44="","",H44) | AC44: =IF(AB44="","",VLOOKUP(AB44,'12. Lists'!$F$36:$H$38,2,FALSE)) | AD44: =IF(AB44="","",VLOOKUP(AB44,'12. Lists'!$F$36:$H$38,3,FALSE)) | AE44: =IF(F44="","",IF(F44="Moderate",VLOOKUP(D44,'11. Condition and Temporal'!$B$6:$J$101,6,FALSE),IF('5. Area Habitats'!F44="Good",VLOOKUP(D44,'11. Condition and Temporal'!$B$6:$J$101,7,FALSE),VLOOKUP(D44,'11. Condition and Temporal'!$B$6:$J$101,8,FALSE)))) | AF44: =IF(AE44="","",VLOOKUP(AE44,'12. Lists'!$I$47:$K$80,3,FALSE)) | AG44: =IF(D44="","",VLOOKUP(D44,'10. All Habitats + Multipliers'!$C$4:$K$99,7,FALSE)) | AH44: =IF(AG44="","",VLOOKUP(AG44,'12. Lists'!$J$35:$K$38,2,FALSE))
B45: 6 | E45: =IF(D45="","",VLOOKUP(D45,'11. Condition and Temporal'!$B$6:$D$101,3,FALSE)) | L45: =IF(C45="","",IFERROR(IF(I45="","Area error",((I45/10000)*(V45*X45))*(AH45*AF45)*(AA45*AD45)),"Value missing")) | U45: =IF(C45="","",VLOOKUP(D45,'10. All Habitats + Multipliers'!$C$4:$K$99,5,FALSE)) | V45: =IF(U45="","",VLOOKUP(U45,'12. Lists'!$B$47:$D$49,2,FALSE)) | W45: =IF(F45="","",F45) | X45: =IF(W45="","",VLOOKUP(W45,'12. Lists'!$F$47:$G$51,2,FALSE)) | Y45: =IF(C45="","",VLOOKUP(D45,'10. All Habitats + Multipliers'!$C$4:$K$99,9,FALSE)) | Z45: =IF(Y45="","",VLOOKUP(Y45,'12. Lists'!$B$36:$D$39,2,FALSE)) | AA45: =IF(Y45="","",VLOOKUP(Y45,'12. Lists'!$B$36:$D$39,3,FALSE)) | AB45: =IF(H45="","",H45) | AC45: =IF(AB45="","",VLOOKUP(AB45,'12. Lists'!$F$36:$H$38,2,FALSE)) | AD45: =IF(AB45="","",VLOOKUP(AB45,'12. Lists'!$F$36:$H$38,3,FALSE)) | AE45: =IF(F45="","",IF(F45="Moderate",VLOOKUP(D45,'11. Condition and Temporal'!$B$6:$J$101,6,FALSE),IF('5. Area Habitats'!F45="Good",VLOOKUP(D45,'11. Condition and Temporal'!$B$6:$J$101,7,FALSE),VLOOKUP(D45,'11. Condition and Temporal'!$B$6:$J$101,8,FALSE)))) | AF45: =IF(AE45="","",VLOOKUP(AE45,'12. Lists'!$I$47:$K$80,3,FALSE)) | AG45: =IF(D45="","",VLOOKUP(D45,'10. All Habitats + Multipliers'!$C$4:$K$99,7,FALSE)) | AH45: =IF(AG45="","",VLOOKUP(AG45,'12. Lists'!$J$35:$K$38,2,FALSE))
B46: 7 | E46: =IF(D46="","",VLOOKUP(D46,'11. Condition and Temporal'!$B$6:$D$101,3,FALSE)) | L46: =IF(C46="","",IFERROR(IF(I46="","Area error",((I46/10000)*(V46*X46))*(AH46*AF46)*(AA46*AD46)),"Value missing")) | U46: =IF(C46="","",VLOOKUP(D46,'10. All Habitats + Multipliers'!$C$4:$K$99,5,FALSE)) | V46: =IF(U46="","",VLOOKUP(U46,'12. Lists'!$B$47:$D$49,2,FALSE)) | W46: =IF(F46="","",F46) | X46: =IF(W46="","",VLOOKUP(W46,'12. Lists'!$F$47:$G$51,2,FALSE)) | Y46: =IF(C46="","",VLOOKUP(D46,'10. All Habitats + Multipliers'!$C$4:$K$99,9,FALSE)) | Z46: =IF(Y46="","",VLOOKUP(Y46,'12. Lists'!$B$36:$D$39,2,FALSE)) | AA46: =IF(Y46="","",VLOOKUP(Y46,'12. Lists'!$B$36:$D$39,3,FALSE)) | AB46: =IF(H46="","",H46) | AC46: =IF(AB46="","",VLOOKUP(AB46,'12. Lists'!$F$36:$H$38,2,FALSE)) | AD46: =IF(AB46="","",VLOOKUP(AB46,'12. Lists'!$F$36:$H$38,3,FALSE)) | AE46: =IF(F46="","",IF(F46="Moderate",VLOOKUP(D46,'11. Condition and Temporal'!$B$6:$J$101,6,FALSE),IF('5. Area Habitats'!F46="Good",VLOOKUP(D46,'11. Condition and Temporal'!$B$6:$J$101,7,FALSE),VLOOKUP(D46,'11. Condition and Temporal'!$B$6:$J$101,8,FALSE)))) | AF46: =IF(AE46="","",VLOOKUP(AE46,'12. Lists'!$I$47:$K$80,3,FALSE)) | AG46: =IF(D46="","",VLOOKUP(D46,'10. All Habitats + Multipliers'!$C$4:$K$99,7,FALSE)) | AH46: =IF(AG46="","",VLOOKUP(AG46,'12. Lists'!$J$35:$K$38,2,FALSE))
...

Sheet 6. Hedges & Lines of Trees
O1: Retained Units | P1: =SUM(AE11:AE30) -> 0 | R1: Data beyond this column is automated
B2: Site Name: | C2: =IF('2. Site Details'!D5="","Enter site name on 2. Site Details",'2. Site Details'!D5) -> Land off Barnsley Rd, Darton | F2: Instructions: 1. Enter data in the Baseline Habitats table 2. Scroll down to enter data for any habitats to be created 3. Scroll down again to enter data for any habitats being enhanced | J2: =IFERROR(IF(SUM(O32:O33,J103:J106,J109:J111)>0,"Rule Based Errors Present On Sheet - Red Cells Highlight Errors","All Key Rules Satisfied"),"Technical Errors On Sheet") -> All Key Rules Satisfied | O2: Lost Units | P2: =N31 -> 0
B3: Sheet Name | C3: 5. Hedges & Lines of Trees | O3: Created Units | P3: =L59 -> 0.31565179
O4: Enhancement Units | P4: =L86 -> 0
O5: Net Change | P5: =P1+L59+L86-L31 -> 0.31565179
B7: 1a. Baseline habitats
B9: Ref | C9: Habitat | F9: C. Strategic significance | I9: Length M | L9: Baseline results | O9: Comments | U9: Habitat distinctiveness | W9: Habitat condition | Y9: Ecological connectivity | AB9: Strategic significance | AE9: Ecological baseline | AH9: Suggested action to address habitat losses | AI9: Enhancement rules
C10: A. Broad Habitat | D10: B. Habitat type | I10: D. Total Length | J10: E. Length retained | K10: F. Length enhanced | L10: Total units onsite | M10: Length Lost | N10: Units lost | O10: User comments | P10: LPA comments | U10: Distinctiveness | V10: Score | W10: Condition | X10: Score | Y10: Ecological connectivity | Z10: Connectivity | AA10: Connectivity multiplier | AB10: Strategic significance | AC10: Strategic significance | AD10: Strategic position multiplier | AE10: Baseline units retained | AF10: Baseline units to be enhanced | AG10: Area lost
B11: 1 | C11: Hedgerow | D11: Native Species Rich Hedgerow | F11: Within area formally identified in local strategy | I11: 0 | L11: =IF(C11="","",IFERROR(IF(I11="","Length Error",((I11/1000)*V11*X11)*(AA11*AD11)),"Value Missing")) -> 0 | M11: =IF(I11="","",IF(J11+K11>I11,"Length Error",I11-J11-K11)) -> 0 | N11: =IFERROR(IF(I11="","",IF(M11="Length Error","Length Error",((M11/1000)*V11*X11)*(AA11*AD11))),"Value Missing") -> 0 | U11: =IF(C11="","",VLOOKUP(D11,'10. All Habitats + Multipliers'!$C$4:$K$99,5,FALSE)) -> Medium | V11: =IF(U11="","",VLOOKUP(U11,'12. Lists'!$B$47:$D$49,2,FALSE)) -> 4 | W11: =IF(C11="","",VLOOKUP(D11,'11. Condition and Temporal'!$B$6:$C$101,2,FALSE)) -> Moderate | X11: =IF(W11="","",VLOOKUP(W11,'12. Lists'!$F$47:$G$51,2,FALSE)) -> 2 | Y11: =IF(C11="","",VLOOKUP(D11,'10. All Habitats + Multipliers'!$C$4:$K$99,9,FALSE)) -> Low | Z11: =IF(Y11="","",VLOOKUP(Y11,'12. Lists'!$B$36:$D$39,2,FALSE)) -> Unconnected habitat | AA11: =IF(Y11="","",VLOOKUP(Y11,'12. Lists'!$B$36:$D$39,3,FALSE)) -> 1 | AB11: =IF(F11="","",F11) -> Within area formally identified in local strategy | AC11: =IF(AB11="","",VLOOKUP(AB11,'12. Lists'!$F$36:$H$38,2,FALSE)) -> High strategic significance | AD11: =IF(AB11="","",VLOOKUP(AB11,'12. Lists'!$F$36:$H$38,3,FALSE)) -> 1.15 | AE11: =IF(D11="","",((J11/1000)*V11*X11)*(AA11*AD11)) -> 0 | AF11: =IF(D11="","",((K11/1000)*V11*X11)*(AA11*AD11)) -> 0 | AG11: =IF(D11="","",M11) -> 0 | AH11: =IF(U11="","",VLOOKUP(U11,'12. Lists'!$B$47:$D$49,3,FALSE)) -> Same broad habitat or a higher distinctiveness habitat required | AI11: =IF(D11="","",VLOOKUP(D11,'11. Condition and Temporal'!$B$6:$J$101,4,FALSE)) -> Native Species Rich Hedgerow
B12: 2 | L12: =IF(C12="","",IFERROR(IF(I12="","Length Error",((I12/1000)*V12*X12)*(AA12*AD12)),"Value Missing")) | M12: =IF(I12="","",IF(J12+K12>I12,"Length Error",I12-J12-K12)) | N12: =IFERROR(IF(I12="","",IF(M12="Length Error","Length Error",((M12/1000)*V12*X12)*(AA12*AD12))),"Value Missing") | U12: =IF(C12="","",VLOOKUP(D12,'10. All Habitats + Multipliers'!$C$4:$K$99,5,FALSE)) | V12: =IF(U12="","",VLOOKUP(U12,'12. Lists'!$B$47:$D$49,2,FALSE)) | W12: =IF(C12="","",VLOOKUP(D12,'11. Condition and Temporal'!$B$6:$C$101,2,FALSE)) | X12: =IF(W12="","",VLOOKUP(W12,'12. Lists'!$F$47:$G$51,2,FALSE)) | Y12: =IF(C12="","",VLOOKUP(D12,'10. All Habitats + Multipliers'!$C$4:$K$99,9,FALSE)) | Z12: =IF(Y12="","",VLOOKUP(Y12,'12. Lists'!$B$36:$D$39,2,FALSE)) | AA12: =IF(Y12="","",VLOOKUP(Y12,'12. Lists'!$B$36:$D$39,3,FALSE)) | AB12: =IF(F12="","",F12) | AC12: =IF(AB12="","",VLOOKUP(AB12,'12. Lists'!$F$36:$H$38,2,FALSE)) | AD12: =IF(AB12="","",VLOOKUP(AB12,'12. Lists'!$F$36:$H$38,3,FALSE)) | AE12: =IF(D12="","",((J12/1000)*V12*X12)*(AA12*AD12)) | AF12: =IF(D12="","",((K12/1000)*V12*X12)*(AA12*AD12)) | AG12: =IF(D12="","",M12) | AH12: =IF(U12="","",VLOOKUP(U12,'12. Lists'!$B$47:$D$49,3,FALSE)) | AI12: =IF(D12="","",VLOOKUP(D12,'11. Condition and Temporal'!$B$6:$J$101,4,FALSE))
B13: 3 | L13: =IF(C13="","",IFERROR(IF(I13="","Length Error",((I13/1000)*V13*X13)*(AA13*AD13)),"Value Missing")) | M13: =IF(I13="","",IF(J13+K13>I13,"Length Error",I13-J13-K13)) | N13: =IFERROR(IF(I13="","",IF(M13="Length Error","Length Error",((M13/1000)*V13*X13)*(AA13*AD13))),"Value Missing") | U13: =IF(C13="","",VLOOKUP(D13,'10. All Habitats + Multipliers'!$C$4:$K$99,5,FALSE)) | V13: =IF(U13="","",VLOOKUP(U13,'12. Lists'!$B$47:$D$49,2,FALSE)) | W13: =IF(C13="","",VLOOKUP(D13,'11. Condition and Temporal'!$B$6:$C$101,2,FALSE)) | X13: =IF(W13="","",VLOOKUP(W13,'12. Lists'!$F$47:$G$51,2,FALSE)) | Y13: =IF(C13="","",VLOOKUP(D13,'10. All Habitats + Multipliers'!$C$4:$K$99,9,FALSE)) | Z13: =IF(Y13="","",VLOOKUP(Y13,'12. Lists'!$B$36:$D$39,2,FALSE)) | AA13: =IF(Y13="","",VLOOKUP(Y13,'12. Lists'!$B$36:$D$39,3,FALSE)) | AB13: =IF(F13="","",F13) | AC13: =IF(AB13="","",VLOOKUP(AB13,'12. Lists'!$F$36:$H$38,2,FALSE)) | AD13: =IF(AB13="","",VLOOKUP(AB13,'12. Lists'!$F$36:$H$38,3,FALSE)) | AE13: =IF(D13="","",((J13/1000)*V13*X13)*(AA13*AD13)) | AF13: =IF(D13="","",((K13/1000)*V13*X13)*(AA13*AD13)) | AG13: =IF(D13="","",M13) | AH13: =IF(U13="","",VLOOKUP(U13,'12. Lists'!$B$47:$D$49,3,FALSE)) | AI13: =IF(D13="","",VLOOKUP(D13,'11. Condition and Temporal'!$B$6:$J$101,4,FALSE))
B14: 4 | L14: =IF(C14="","",IFERROR(IF(I14="","Length Error",((I14/1000)*V14*X14)*(AA14*AD14)),"Value Missing")) | M14: =IF(I14="","",IF(J14+K14>I14,"Length Error",I14-J14-K14)) | N14: =IFERROR(IF(I14="","",IF(M14="Length Error","Length Error",((M14/1000)*V14*X14)*(AA14*AD14))),"Value Missing") | U14: =IF(C14="","",VLOOKUP(D14,'10. All Habitats + Multipliers'!$C$4:$K$99,5,FALSE)) | V14: =IF(U14="","",VLOOKUP(U14,'12. Lists'!$B$47:$D$49,2,FALSE)) | W14: =IF(C14="","",VLOOKUP(D14,'11. Condition and Temporal'!$B$6:$C$101,2,FALSE)) | X14: =IF(W14="","",VLOOKUP(W14,'12. Lists'!$F$47:$G$51,2,FALSE)) | Y14: =IF(C14="","",VLOOKUP(D14,'10. All Habitats + Multipliers'!$C$4:$K$99,9,FALSE)) | Z14: =IF(Y14="","",VLOOKUP(Y14,'12. Lists'!$B$36:$D$39,2,FALSE)) | AA14: =IF(Y14="","",VLOOKUP(Y14,'12. Lists'!$B$36:$D$39,3,FALSE)) | AB14: =IF(F14="","",F14) | AC14: =IF(AB14="","",VLOOKUP(AB14,'12. Lists'!$F$36:$H$38,2,FALSE)) | AD14: =IF(AB14="","",VLOOKUP(AB14,'12. Lists'!$F$36:$H$38,3,FALSE)) | AE14: =IF(D14="","",((J14/1000)*V14*X14)*(AA14*AD14)) | AF14: =IF(D14="","",((K14/1000)*V14*X14)*(AA14*AD14)) | AG14: =IF(D14="","",M14) | AH14: =IF(U14="","",VLOOKUP(U14,'12. Lists'!$B$47:$D$49,3,FALSE)) | AI14: =IF(D14="","",VLOOKUP(D14,'11. Condition and Temporal'!$B$6:$J$101,4,FALSE))
B15: 5 | L15: =IF(C15="","",IFERROR(IF(I15="","Length Error",((I15/1000)*V15*X15)*(AA15*AD15)),"Value Missing")) | M15: =IF(I15="","",IF(J15+K15>I15,"Length Error",I15-J15-K15)) | N15: =IFERROR(IF(I15="","",IF(M15="Length Error","Length Error",((M15/1000)*V15*X15)*(AA15*AD15))),"Value Missing") | U15: =IF(C15="","",VLOOKUP(D15,'10. All Habitats + Multipliers'!$C$4:$K$99,5,FALSE)) | V15: =IF(U15="","",VLOOKUP(U15,'12. Lists'!$B$47:$D$49,2,FALSE)) | W15: =IF(C15="","",VLOOKUP(D15,'11. Condition and Temporal'!$B$6:$C$101,2,FALSE)) | X15: =IF(W15="","",VLOOKUP(W15,'12. Lists'!$F$47:$G$51,2,FALSE)) | Y15: =IF(C15="","",VLOOKUP(D15,'10. All Habitats + Multipliers'!$C$4:$K$99,9,FALSE)) | Z15: =IF(Y15="","",VLOOKUP(Y15,'12. Lists'!$B$36:$D$39,2,FALSE)) | AA15: =IF(Y15="","",VLOOKUP(Y15,'12. Lists'!$B$36:$D$39,3,FALSE)) | AB15: =IF(F15="","",F15) | AC15: =IF(AB15="","",VLOOKUP(AB15,'12. Lists'!$F$36:$H$38,2,FALSE)) | AD15: =IF(AB15="","",VLOOKUP(AB15,'12. Lists'!$F$36:$H$38,3,FALSE)) | AE15: =IF(D15="","",((J15/1000)*V15*X15)*(AA15*AD15)) | AF15: =IF(D15="","",((K15/1000)*V15*X15)*(AA15*AD15)) | AG15: =IF(D15="","",M15) | AH15: =IF(U15="","",VLOOKUP(U15,'12. Lists'!$B$47:$D$49,3,FALSE)) | AI15: =IF(D15="","",VLOOKUP(D15,'11. Condition and Temporal'!$B$6:$J$101,4,FALSE))
B16: 6 | L16: =IF(C16="","",IFERROR(IF(I16="","Length Error",((I16/1000)*V16*X16)*(AA16*AD16)),"Value Missing")) | M16: =IF(I16="","",IF(J16+K16>I16,"Length Error",I16-J16-K16)) | N16: =IFERROR(IF(I16="","",IF(M16="Length Error","Length Error",((M16/1000)*V16*X16)*(AA16*AD16))),"Value Missing") | U16: =IF(C16="","",VLOOKUP(D16,'10. All Habitats + Multipliers'!$C$4:$K$99,5,FALSE)) | V16: =IF(U16="","",VLOOKUP(U16,'12. Lists'!$B$47:$D$49,2,FALSE)) | W16: =IF(C16="","",VLOOKUP(D16,'11. Condition and Temporal'!$B$6:$C$101,2,FALSE)) | X16: =IF(W16="","",VLOOKUP(W16,'12. Lists'!$F$47:$G$51,2,FALSE)) | Y16: =IF(C16="","",VLOOKUP(D16,'10. All Habitats + Multipliers'!$C$4:$K$99,9,FALSE)) | Z16: =IF(Y16="","",VLOOKUP(Y16,'12. Lists'!$B$36:$D$39,2,FALSE)) | AA16: =IF(Y16="","",VLOOKUP(Y16,'12. Lists'!$B$36:$D$39,3,FALSE)) | AB16: =IF(F16="","",F16) | AC16: =IF(AB16="","",VLOOKUP(AB16,'12. Lists'!$F$36:$H$38,2,FALSE)) | AD16: =IF(AB16="","",VLOOKUP(AB16,'12. Lists'!$F$36:$H$38,3,FALSE)) | AE16: =IF(D16="","",((J16/1000)*V16*X16)*(AA16*AD16)) | AF16: =IF(D16="","",((K16/1000)*V16*X16)*(AA16*AD16)) | AG16: =IF(D16="","",M16) | AH16: =IF(U16="","",VLOOKUP(U16,'12. Lists'!$B$47:$D$49,3,FALSE)) | AI16: =IF(D16="","",VLOOKUP(D16,'11. Condition and Temporal'!$B$6:$J$101,4,FALSE))
